BEGIN:VCALENDAR
VERSION:2.0
PRODID:-//Marketing.com.au - ECPv6.15.20//NONSGML v1.0//EN
CALSCALE:GREGORIAN
METHOD:PUBLISH
X-WR-CALNAME:Marketing.com.au
X-ORIGINAL-URL:https://marketing.com.au
X-WR-CALDESC:Events for Marketing.com.au
REFRESH-INTERVAL;VALUE=DURATION:PT1H
X-Robots-Tag:noindex
X-PUBLISHED-TTL:PT1H
BEGIN:VTIMEZONE
TZID:Australia/Melbourne
BEGIN:STANDARD
TZOFFSETFROM:+1100
TZOFFSETTO:+1000
TZNAME:AEST
DTSTART:20150404T160000
END:STANDARD
BEGIN:DAYLIGHT
TZOFFSETFROM:+1000
TZOFFSETTO:+1100
TZNAME:AEDT
DTSTART:20151003T160000
END:DAYLIGHT
BEGIN:STANDARD
TZOFFSETFROM:+1100
TZOFFSETTO:+1000
TZNAME:AEST
DTSTART:20160402T160000
END:STANDARD
BEGIN:DAYLIGHT
TZOFFSETFROM:+1000
TZOFFSETTO:+1100
TZNAME:AEDT
DTSTART:20161001T160000
END:DAYLIGHT
BEGIN:STANDARD
TZOFFSETFROM:+1100
TZOFFSETTO:+1000
TZNAME:AEST
DTSTART:20170401T160000
END:STANDARD
BEGIN:DAYLIGHT
TZOFFSETFROM:+1000
TZOFFSETTO:+1100
TZNAME:AEDT
DTSTART:20170930T160000
END:DAYLIGHT
END:VTIMEZONE
BEGIN:VEVENT
DTSTART;VALUE=DATE:20160621
DTEND;VALUE=DATE:20160622
DTSTAMP:20260425T082109
CREATED:20160517T062247Z
LAST-MODIFIED:20160517T062247Z
UID:7680-1466467200-1466553599@marketing.com.au
SUMMARY:AMI CX Summit 2016
DESCRIPTION:AMI Customer Experience (CX) Summit 2016 aims on creating the customer experience as an holistic piece\, focusing on how the principles that shape the whole and how they can be applied to the design of specific interactions. The summit will explore the design of Omni channel experiences and also explore the organizational and cultural road blocks associated with the design and creation of a great customer experience (CX). \nWho is the summit for?\nThe CMO\, Customer Experience Managers\, Brand Managers\, Marketing Managers\, Customer Experience Designers\, User Experience Designers\, Experience Architects\, Exhibition and Event Designers\, Product Designers\, Design Managers\, Customer Service Managers\, Change Managers and Product Managers.
URL:https://marketing.com.au/event/ami-cx-summit-2016/
LOCATION:Doltone House\, 26-32 Pirrama Rd\, Pyrmont\, NSW\, 2009\, Australia
CATEGORIES:All Event Locations,All Event Topics,Market Research,Marketing,Public Relations,Social Media,Sydney
END:VEVENT
BEGIN:VEVENT
DTSTART;VALUE=DATE:20160624
DTEND;VALUE=DATE:20160625
DTSTAMP:20260425T082109
CREATED:20160511T110602Z
LAST-MODIFIED:20160511T110602Z
UID:7669-1466726400-1466812799@marketing.com.au
SUMMARY:ADMA Techmix 2016
DESCRIPTION:ADMA Techmix 2016 is a vendor-neutral event designed to help marketers understand the many aspects of marketing technologies that are available today and how they can be integrated into the marketers toolbox. \nThis one-day event will showcase the latest global marketing technology and provide attendees with inspiration and new ideas. \nADMA Techmix 2016 will also have: \n\n4 International keynote speakers who have experience in successfully choosing the right marketing technologies for their brands.\nLearn 9 different marketing technologies in great detail and hear from 9 thought leaders who will be discussing the potential possibilities of utilizing technologies to grow a brand.\nShowcasing real-life case studies from various leaders who have implemented technologies into their marketing with success\, learn from each and be inspired.\nDisplaying up to 30 live demonstrations of the newest marketing technologies in action.
URL:https://marketing.com.au/event/adma-techmix-2016/
LOCATION:Sofitel Sydney Wentworth Hotel\, 61-101 Philip Street\, Sydney\, NSW\, 2000\, Australia
CATEGORIES:All Event Locations,All Event Topics,All Event Types,Conference,Content Marketing,Digital Marketing,Market Research,Marketing,Public Relations,Social Media,Sydney
END:VEVENT
BEGIN:VEVENT
DTSTART;VALUE=DATE:20160629
DTEND;VALUE=DATE:20160630
DTSTAMP:20260425T082109
CREATED:20160328T030501Z
LAST-MODIFIED:20160328T030501Z
UID:7565-1467158400-1467244799@marketing.com.au
SUMMARY:Implementing a Social Media Influencer Campaign
DESCRIPTION:Develop and implement a social media influencer campaign for your organisation. Includes scoping\, planning and reviewing the effectiveness of SMI Programs.
URL:https://marketing.com.au/event/implementing-social-media-influencer-campaign/
LOCATION:Karstens Sydney\, 111 Harrington Street\, Sydney\, NSW\, 2000\, Australia
CATEGORIES:Advertising,All Event Locations,All Event Topics,All Event Types,Conference,Digital Marketing,Marketing,Public Relations,Social Media,Sydney,Workshop
ORGANIZER;CN="Progress Media":MAILTO:davidl@progressmedia.com.au
END:VEVENT
END:VCALENDAR