BEGIN:VCALENDAR
VERSION:2.0
PRODID:-//Marketing.com.au - ECPv6.15.20//NONSGML v1.0//EN
CALSCALE:GREGORIAN
METHOD:PUBLISH
X-WR-CALNAME:Marketing.com.au
X-ORIGINAL-URL:https://marketing.com.au
X-WR-CALDESC:Events for Marketing.com.au
REFRESH-INTERVAL;VALUE=DURATION:PT1H
X-Robots-Tag:noindex
X-PUBLISHED-TTL:PT1H
BEGIN:VTIMEZONE
TZID:Australia/Melbourne
BEGIN:STANDARD
TZOFFSETFROM:+1100
TZOFFSETTO:+1000
TZNAME:AEST
DTSTART:20150404T160000
END:STANDARD
BEGIN:DAYLIGHT
TZOFFSETFROM:+1000
TZOFFSETTO:+1100
TZNAME:AEDT
DTSTART:20151003T160000
END:DAYLIGHT
BEGIN:STANDARD
TZOFFSETFROM:+1100
TZOFFSETTO:+1000
TZNAME:AEST
DTSTART:20160402T160000
END:STANDARD
BEGIN:DAYLIGHT
TZOFFSETFROM:+1000
TZOFFSETTO:+1100
TZNAME:AEDT
DTSTART:20161001T160000
END:DAYLIGHT
BEGIN:STANDARD
TZOFFSETFROM:+1100
TZOFFSETTO:+1000
TZNAME:AEST
DTSTART:20170401T160000
END:STANDARD
BEGIN:DAYLIGHT
TZOFFSETFROM:+1000
TZOFFSETTO:+1100
TZNAME:AEDT
DTSTART:20170930T160000
END:DAYLIGHT
END:VTIMEZONE
BEGIN:VEVENT
DTSTART;VALUE=DATE:20160209
DTEND;VALUE=DATE:20160211
DTSTAMP:20260425T135547
CREATED:20151126T060431Z
LAST-MODIFIED:20151126T060431Z
UID:7283-1454976000-1455148799@marketing.com.au
SUMMARY:Digital Disruption Marketing Communications Summit - 2016
DESCRIPTION:The AMI Digital Disruption Marketing Communications Summit (Previously known as Marketing Week the South Australian Marketing Summit) aims to refresh marketing professionals in the latest ideas\, trends and educational marketing framework. Business leaders must instill the best practices in branding\, digital marketing\, innovation\, customer care and big data in order to help drive their business forward to success. \nThis event offers exclusive content as attendees will be privileged to hear insights into current business challenges\, trends\, case studies and ideas from world leading speakers and experts in the industry\, finishing off with a rare Q&A time with the expert speakers.
URL:https://marketing.com.au/event/digital-disruption-marketing-communications-summit-2016/
LOCATION:Adelaide Festival Centre\, King William Street\, Adelaide\, SA\, 5000\, Australia
CATEGORIES:Adelaide,Advertising,All Event Locations,All Event Topics,All Event Types,Conference,Content Marketing,Digital Marketing,Market Research,Marketing,Public Relations,Social Media
END:VEVENT
BEGIN:VEVENT
DTSTART;VALUE=DATE:20160223
DTEND;VALUE=DATE:20160224
DTSTAMP:20260425T135547
CREATED:20160209T012526Z
LAST-MODIFIED:20160209T012526Z
UID:7398-1456185600-1456271999@marketing.com.au
SUMMARY:Managing Marketing in a Multichannel Retail Environment - MELBOURNE
DESCRIPTION:Do you know what it takes to become a modern marketer in this faced paced\, technology dominate\, evolving retailing environment of 2016? The Inside Retail Academy focuses on educating and inspiring retail executives\, teams and graduates through cases studies and insights from leading experts in marketing and retail. \nThis not to be missed marketing conference will showcase a huge expert lineup of speakers\, such as: \n\nJohn Batistich – Director Marketing\, Scentre Group\nSimon Rossi – General Manager\, Uber\nLevi Aron – Country Manager\, Deliveroo\nDavid Bauer – Marketing Manager\, Supercheap Auto\nDr. Violet Lazarevic – Research Unit Department of Marketing\, Monash Business School\nJulie Stevanja – Founder & CEO\, Stylerunner\nDaye Moffitt – Strategy Director\, Principals\nDave Goodfellow – Social Intelligence Lead\, SDL\nJames Johnson – Director Customer Success & Retail Practice\, Demandware
URL:https://marketing.com.au/event/managing-marketing-in-a-multichannel-retail-environment-melbourne/
LOCATION:Sheraton Melbourne\, 27 Little Collins St\, Melbourne\, VIC\, 3000\, Australia
CATEGORIES:Advertising,All Event Locations,All Event Topics,All Event Types,Conference,Content Marketing,Digital Marketing,Market Research,Marketing,Melbourne,Public Relations,SEO,Social Media
END:VEVENT
BEGIN:VEVENT
DTSTART;VALUE=DATE:20160224
DTEND;VALUE=DATE:20160225
DTSTAMP:20260425T135547
CREATED:20160209T012528Z
LAST-MODIFIED:20160209T012528Z
UID:7399-1456272000-1456358399@marketing.com.au
SUMMARY:Managing Marketing in a Multi Channel Retail Environment – SYDNEY
DESCRIPTION:Do you know what it takes to become a modern marketer in this faced paced\, technology dominate\, evolving retailing environment of 2016? The Inside Retail Academy focuses on educating and inspiring retail executives\, teams and graduates through cases studies and insights from leading experts in marketing and retail. \nThis not to be missed marketing conference will showcase a huge expert lineup of speakers\, such as: \n\nJohn Batistich – Director Marketing\, Scentre Group\nSimon Rossi – General Manager\, Uber\nLevi Aron – Country Manager\, Deliveroo\nDavid Bauer – Marketing Manager\, Supercheap Auto\nDr. Violet Lazarevic – Research Unit Department of Marketing\, Monash Business School\nJulie Stevanja – Founder & CEO\, Stylerunner\nDaye Moffitt – Strategy Director\, Principals\nDave Goodfellow – Social Intelligence Lead\, SDL\nJames Johnson – Director Customer Success & Retail Practice\, Demandware
URL:https://marketing.com.au/event/managing-marketing-in-a-multi-channel-retail-environment-sydney/
LOCATION:Sheraton On The Park\, 161 Elizabeth Street\, Sydney\, NSW\, 2000\, Australia
CATEGORIES:Advertising,All Event Locations,All Event Topics,All Event Types,Conference,Content Marketing,Digital Marketing,Market Research,Marketing,Public Relations,SEO,Social Media,Sydney
END:VEVENT
BEGIN:VEVENT
DTSTART;VALUE=DATE:20160224
DTEND;VALUE=DATE:20160226
DTSTAMP:20260425T135547
CREATED:20151006T061534Z
LAST-MODIFIED:20151006T061534Z
UID:7176-1456272000-1456444799@marketing.com.au
SUMMARY:The Brand Forum 2016
DESCRIPTION:The Brand Forum 2016 is a two day essential brand marketing event\, bringing together 350 in-house marketing executives from all sectors of the economy for a forum discussion about the importance of brand strategy and marketing in business strategy. \nThis year’s event will headline Samsung’s Chief Marketing Officer\, Marc Mathieu\, as he speaks about how to “De-average Marketing”. Alongside Marc Mathieu will be Jonathan Mildenhall\, Chief Marketing Officer of Airbnb. \nThis two day event is packed full of keynote speakers from both national and international organizations that are the leading marketers of today\, providing knowledge and expertise to attendees to help educate the marketers of tomorrow.
URL:https://marketing.com.au/event/the-brand-forum-2016/
LOCATION:Sofitel Sydney Wentworth Hotel\, 61-101 Philip Street\, Sydney\, NSW\, 2000\, Australia
CATEGORIES:Advertising,All Event Locations,All Event Topics,All Event Types,Conference,Content Marketing,Digital Marketing,Market Research,Marketing,Public Relations,Social Media,Sydney
ORGANIZER;CN="Connect Events":MAILTO:team(at)connectevents.com.au
END:VEVENT
BEGIN:VEVENT
DTSTART;TZID=Australia/Melbourne:20160225T090000
DTEND;TZID=Australia/Melbourne:20160225T130000
DTSTAMP:20260425T135547
CREATED:20151203T113049Z
LAST-MODIFIED:20151203T113049Z
UID:7289-1456390800-1456405200@marketing.com.au
SUMMARY:Measurable Marketing - Melbourne
DESCRIPTION:Arrow Digital has put together a seminar to help small business owners understand the basics of marketing and how to navigate their way through marketing in 2016 and beyond. \nThe seminar will cover topics such as: \n\nMeasurement Myths\nMeasurement Metrics\nIntegrating On and Offline Marketing\nWebsite Terminology and Metrics\nSocial Media Terminology and Metrics
URL:https://marketing.com.au/event/measurable-marketing-melbourne/
LOCATION:Unnamed Venue\, 123 Queen St\, Melbourne\, VIC\, 3000\, Australia
CATEGORIES:Advertising,All Event Locations,All Event Topics,All Event Types,Content Marketing,Marketing,Melbourne,Public Relations,SEO,Social Media,Workshop
ORGANIZER;CN="Arrow Internet Marketing":MAILTO:connect(at)arrowinternet.com.au
END:VEVENT
BEGIN:VEVENT
DTSTART;TZID=Australia/Melbourne:20160225T180000
DTEND;TZID=Australia/Melbourne:20160225T220000
DTSTAMP:20260425T135547
CREATED:20160208T063517Z
LAST-MODIFIED:20160208T063517Z
UID:7388-1456423200-1456437600@marketing.com.au
SUMMARY:MediaSocial 7 – Jeff Bullas
DESCRIPTION:An exclusive event for marketing professionals to grow their networks and stay on top of the latest developments in digital media\, technology and marketing. This even is for any professionals in the fields of public relations\, marketing\, advertising\, media\, technology enthusiasts and media relations. MediaSocial 7 will showcase a presentation by industry marketing thought leaders giving their insight into different technologies\, media channels and how to best utilize them.
URL:https://marketing.com.au/event/mediasocial-7-jeff-bullas/
LOCATION:Bar 100\, 100 George St\, The Rocks\, Sydney\, NSW\, 2000\, Australia
CATEGORIES:Advertising,All Event Locations,All Event Topics,All Event Types,Conference,Content Marketing,Digital Marketing,Market Research,Marketing,Public Relations,Social Media,Sydney,Workshop
ORGANIZER;CN="MediaSocial":MAILTO:info@mediasocial.net.au
END:VEVENT
BEGIN:VEVENT
DTSTART;VALUE=DATE:20160227
DTEND;VALUE=DATE:20160229
DTSTAMP:20260425T135547
CREATED:20160209T010027Z
LAST-MODIFIED:20160209T010027Z
UID:7395-1456531200-1456703999@marketing.com.au
SUMMARY:The Small Business Expo
DESCRIPTION:The Small Business Expo showcases businesses from around the country\, helping you understand what it takes to create and run a successful small business. Leading small business owners will guest speak\, sharing their knowledge\, experiences\, successes and failures to help you in creating and running your own business. Run across 2 days\, this expo will feature big name brand exhibitors such as Bank of Queensland\, Harvery Norman and Griffith University… an opportunity not to be missed.
URL:https://marketing.com.au/event/the-small-business-expo/
LOCATION:Southport Tafe\, 91/99 Scarborough St\, Southport\, QLD\, 4215\, Australia
CATEGORIES:Advertising,All Event Locations,All Event Topics,All Event Types,Brisbane,Conference,Content Marketing,Digital Marketing,Marketing,Public Relations,Social Media
END:VEVENT
END:VCALENDAR