BEGIN:VCALENDAR
VERSION:2.0
PRODID:-//Marketing.com.au - ECPv6.15.20//NONSGML v1.0//EN
CALSCALE:GREGORIAN
METHOD:PUBLISH
X-ORIGINAL-URL:https://marketing.com.au
X-WR-CALDESC:Events for Marketing.com.au
REFRESH-INTERVAL;VALUE=DURATION:PT1H
X-Robots-Tag:noindex
X-PUBLISHED-TTL:PT1H
BEGIN:VTIMEZONE
TZID:Australia/Melbourne
BEGIN:STANDARD
TZOFFSETFROM:+1100
TZOFFSETTO:+1000
TZNAME:AEST
DTSTART:20140405T160000
END:STANDARD
BEGIN:DAYLIGHT
TZOFFSETFROM:+1000
TZOFFSETTO:+1100
TZNAME:AEDT
DTSTART:20141004T160000
END:DAYLIGHT
BEGIN:STANDARD
TZOFFSETFROM:+1100
TZOFFSETTO:+1000
TZNAME:AEST
DTSTART:20150404T160000
END:STANDARD
BEGIN:DAYLIGHT
TZOFFSETFROM:+1000
TZOFFSETTO:+1100
TZNAME:AEDT
DTSTART:20151003T160000
END:DAYLIGHT
BEGIN:STANDARD
TZOFFSETFROM:+1100
TZOFFSETTO:+1000
TZNAME:AEST
DTSTART:20160402T160000
END:STANDARD
BEGIN:DAYLIGHT
TZOFFSETFROM:+1000
TZOFFSETTO:+1100
TZNAME:AEDT
DTSTART:20161001T160000
END:DAYLIGHT
END:VTIMEZONE
BEGIN:VEVENT
DTSTART;TZID=Australia/Melbourne:20151007T080000
DTEND;TZID=Australia/Melbourne:20151007T100000
DTSTAMP:20260425T224801
CREATED:20150908T040922Z
LAST-MODIFIED:20150908T040922Z
UID:7049-1444204800-1444212000@marketing.com.au
SUMMARY:Radical Growth & Innovation - Brisbane Breakfast With Lego
DESCRIPTION:Join us for an exclusive breakfast & 50 min presentation with David Gram\, Marketing Director\, Future Lab at LEGO who is coming from Denmark for this event.
URL:https://marketing.com.au/event/radical-growth-innovation-brisbane-breakfast-with-lego/
LOCATION:Pullman Hotel\, King George Square\, Corner Ann & Roma Street\, Brisbane\, QLD\, 4000\, Australia
CATEGORIES:Advertising,All Event Locations,All Event Topics,All Event Types,Brisbane,Content Marketing,Digital Marketing,Marketing,Public Relations,Social Media,Workshop
ORGANIZER;CN="Interactive Minds":MAILTO:louisa(at)interactiveminds.com.au
END:VEVENT
BEGIN:VEVENT
DTSTART;TZID=Australia/Melbourne:20151008T080000
DTEND;TZID=Australia/Melbourne:20151008T103000
DTSTAMP:20260425T224801
CREATED:20150908T043409Z
LAST-MODIFIED:20150908T043409Z
UID:7055-1444291200-1444300200@marketing.com.au
SUMMARY:Radical Growth & Innovation - Melbourne Breakfast With Lego
DESCRIPTION:Join us for an exclusive breakfast & 50 min presentation with David Gram\, Marketing Director\, Future Lab at LEGO who is coming from Denmark for this event.
URL:https://marketing.com.au/event/radical-growth-innovation-melbourne-breakfast-with-lego/
LOCATION:Maia\, Shed 14\, Central Pier\, 161 Harbour Esplanade\, Docklands\, Victoria\, 3008\, Australia
CATEGORIES:Advertising,All Event Locations,All Event Topics,All Event Types,Content Marketing,Digital Marketing,Market Research,Marketing,Melbourne,Public Relations,Social Media,Workshop
ORGANIZER;CN="Interactive Minds":MAILTO:louisa(at)interactiveminds.com.au
END:VEVENT
BEGIN:VEVENT
DTSTART;VALUE=DATE:20151019
DTEND;VALUE=DATE:20151020
DTSTAMP:20260425T224801
CREATED:20151001T013958Z
LAST-MODIFIED:20151001T013958Z
UID:7117-1445212800-1445299199@marketing.com.au
SUMMARY:Fundamental Workshop || Public Relations with Tactics
DESCRIPTION:The rise of technology means that being able to communicate through writing has become more important than ever for people working in public relations. This workshop on ‘Public Relations with Tactics’ will instruct on creating clear\, concise and well written PR and marketing content. It will cover: \n\nTargeting audiences\nDesigning persuasive/informative releases\nUsing the pyramid approach\nDeveloping corporate brochures\, profiles and newsletters for different contexts.
URL:https://marketing.com.au/event/fundamental-workshop-public-relations-with-tactics/
LOCATION:Clifton Melbourne\, Level 1\, 440 Collins Street\, Melbourne\, Victoria\, 3000\, Australia
CATEGORIES:All Event Locations,All Event Topics,All Event Types,Melbourne,Public Relations,Workshop
END:VEVENT
BEGIN:VEVENT
DTSTART;TZID=Australia/Melbourne:20151028T180000
DTEND;TZID=Australia/Melbourne:20151028T200000
DTSTAMP:20260425T224801
CREATED:20151022T060020Z
LAST-MODIFIED:20151022T060020Z
UID:7212-1446055200-1446062400@marketing.com.au
SUMMARY:Branding vs Customer Relationships
DESCRIPTION:This 2 hour panel talk is about the growing importance of building customer relationships and how technology has changed how we look at a “brand”. Understand and learn about what your business should focus attention on\, how to build strong and efficient customer relationships\, and the art of brand management. \nThis event will also host a panel discussion\, keynote speakers and a networking session with participants and the various leaders that will be in attendance. \n 
URL:https://marketing.com.au/event/branding-vs-customer-relationships/
LOCATION:Collective Campus\, Level 1\, 20 Queen St\, Melbourne\, VIC\, 3000\, Australia
CATEGORIES:Advertising,All Event Locations,All Event Topics,All Event Types,Content Marketing,Digital Marketing,Market Research,Marketing,Melbourne,Public Relations,Social Media,Workshop
ORGANIZER;CN="Collective Campus":MAILTO:info(at)collectivecamp.us
END:VEVENT
BEGIN:VEVENT
DTSTART;VALUE=DATE:20151029
DTEND;VALUE=DATE:20151125
DTSTAMP:20260425T224801
CREATED:20151022T035116Z
LAST-MODIFIED:20151022T035116Z
UID:7209-1446076800-1448409599@marketing.com.au
SUMMARY:Loves Data | Google Analytics 101 & 201
DESCRIPTION:This 2-day course will take your Google Analytics knowledge to the next level with our Google Certified Experts from Loves Data. Topics covered are suitable for new as well as advanced users. \nThis Event will be featured in 3 different states on different dates\, listed below: \nLoves Data | Google Analytics 101 & 201\nDates: 29/10/2015 – 30/10/2015\nLocation: UNSW CBD Campus – Level 6\, 1 O’Connell Street\, Sydney\, NSW 2000\nWebsite: http://www.lovesdata.com/events/ga-syd-oct/ \nLoves Data | Google Analytics 101 & 201\nDates: 12/11/2015 – 13/11/2015\nLocation: Melbourne Business School – 200 Leicester Street\, Melbourne\, VIC 3000\nWebsite: http://www.lovesdata.com/events/ga-mel-nov/ \nLoves Data | Google Analytics 101 & 201\nDates: 23/11/2015 – 24/11/2015\nLocation: UQ Business School Downtown – Level 19 Central Plaza One\, 345 Queen Street\, Brisbane\, QLD 3000\nWebsite: http://www.lovesdata.com/events/ga-bris-nov/
URL:https://marketing.com.au/event/loves-data-google-analytics-101-201/
LOCATION:UNSW CBD Campus\, Level 6\, 1 O'Connell Street\, Sydney\, NSW\, 2000\, Australia
CATEGORIES:Advertising,All Event Locations,All Event Types,Brisbane,Market Research,Marketing,Melbourne,Public Relations,SEO,Social Media,Sydney,Workshop
ORGANIZER;CN="Loves Data":MAILTO:info(at)lovesdata.com
END:VEVENT
END:VCALENDAR