BEGIN:VCALENDAR
VERSION:2.0
PRODID:-//Marketing.com.au - ECPv6.15.20//NONSGML v1.0//EN
CALSCALE:GREGORIAN
METHOD:PUBLISH
X-ORIGINAL-URL:https://marketing.com.au
X-WR-CALDESC:Events for Marketing.com.au
REFRESH-INTERVAL;VALUE=DURATION:PT1H
X-Robots-Tag:noindex
X-PUBLISHED-TTL:PT1H
BEGIN:VTIMEZONE
TZID:Australia/Melbourne
BEGIN:STANDARD
TZOFFSETFROM:+1100
TZOFFSETTO:+1000
TZNAME:AEST
DTSTART:20140405T160000
END:STANDARD
BEGIN:DAYLIGHT
TZOFFSETFROM:+1000
TZOFFSETTO:+1100
TZNAME:AEDT
DTSTART:20141004T160000
END:DAYLIGHT
BEGIN:STANDARD
TZOFFSETFROM:+1100
TZOFFSETTO:+1000
TZNAME:AEST
DTSTART:20150404T160000
END:STANDARD
BEGIN:DAYLIGHT
TZOFFSETFROM:+1000
TZOFFSETTO:+1100
TZNAME:AEDT
DTSTART:20151003T160000
END:DAYLIGHT
BEGIN:STANDARD
TZOFFSETFROM:+1100
TZOFFSETTO:+1000
TZNAME:AEST
DTSTART:20160402T160000
END:STANDARD
BEGIN:DAYLIGHT
TZOFFSETFROM:+1000
TZOFFSETTO:+1100
TZNAME:AEDT
DTSTART:20161001T160000
END:DAYLIGHT
END:VTIMEZONE
BEGIN:VEVENT
DTSTART;VALUE=DATE:20150804
DTEND;VALUE=DATE:20150805
DTSTAMP:20260426T013210
CREATED:20150701T092726Z
LAST-MODIFIED:20201002T045428Z
UID:6872-1438646400-1438732799@marketing.com.au
SUMMARY:Advancing Analytics
DESCRIPTION:The Advancing Analytic 2015 conference will answer questions raised on how to analyze and assess tremendous amounts of data that teach you about your customers\, and how will machine learning impact the analytics industry. \n“Analytics is the way to transform and cultivate a smarter business and to stay ahead of one’s competition. Advancing Analytics will give the local industry in Australia the chance to hear inspirational stories from some of world’s leading data scientists about how they are transforming their organisations using analytics\,” said Jodie Sangster\, IAPA/ ADMA CEO. \nThis event will showcase global analytics leaders from world leading organizations\, people such as: \n\nBob Jones\, Project Leader\, CERN (Switzerland)\nUsama Fayyad\, Chief Data Scientist\, Barclays (UK)\nClaudia Perlich\, Chief Scientist\, Dstillery (USA)\nStephen Pulman\, Professor of Computational Linguistics\, Oxford University (UK)\nIgor Elbert\, Principal Data Scientist\, gilt.com (USA)\n\n…and more!
URL:https://marketing.com.au/event/advancing-analytics/
LOCATION:Hilton Sydney\, 488 Georges Street\, Sydney\, New South Wales\, 2000\, Australia
CATEGORIES:Advertising,All Event Locations,All Event Topics,All Event Types,Conference,Content Marketing,Digital Marketing,Market Research,Marketing,Public Relations,SEO,Social Media,Sydney
ORGANIZER;CN="IAPA":MAILTO:christine.thomson(at)iapa.org.au 
END:VEVENT
BEGIN:VEVENT
DTSTART;VALUE=DATE:20150819
DTEND;VALUE=DATE:20150821
DTSTAMP:20260426T013210
CREATED:20150323T120106Z
LAST-MODIFIED:20150323T120106Z
UID:6546-1439942400-1440115199@marketing.com.au
SUMMARY:CXO Leaders Summit
DESCRIPTION:The CXO Leaders Summit Australia 2015 is a invitation only event intended for senior marketing leaders to meet and collaborate in an exchange of knowledge and strategies over a wide range of issues in the industry. This two day event will bring together Australia’s most respected marketing leaders and leading supplier companies to offer opportunities for all attending delegates\, while providing informal networking sessions to create an interactive forum
URL:https://marketing.com.au/event/cxo-leaders-summit/
LOCATION:Sheraton On The Park\, 161 Elizabeth Street\, Sydney\, NSW\, 2000\, Australia
CATEGORIES:Advertising,All Event Topics,All Event Types,Conference,Marketing,Public Relations,Social Media,Sydney,Workshop
ORGANIZER;CN="Media Corp International":MAILTO:jennifer(at)mediacorpinternational.com.au
END:VEVENT
BEGIN:VEVENT
DTSTART;VALUE=DATE:20150828
DTEND;VALUE=DATE:20150829
DTSTAMP:20260426T013210
CREATED:20150813T001117Z
LAST-MODIFIED:20150813T001117Z
UID:6985-1440720000-1440806399@marketing.com.au
SUMMARY:Marketo 2015 Marketing Nation Roadshow Sydney
DESCRIPTION:Marketo 2015 Marketing Nation Roadshow Sydney will assemble a team of bright minds in the industry to bring you a full day event of cutting-edge ideas\, thought leadership and innovative marketing technologies. This day will give participants the opportunity to network with industry leaders\, marketing experts and other local marketers as well as everything the Marketing Nation has to offer.
URL:https://marketing.com.au/event/marketo-2015-marketing-nation-roadshow-sydney/
LOCATION:The Westin Sydney\, 1 Martin Place\, Sydney\, NSW\, 2000\, Australia
CATEGORIES:Advertising,All Event Locations,All Event Types,Conference,Content Marketing,Digital Marketing,Market Research,Marketing,Public Relations,Social Media,Sydney
ORGANIZER;CN="Marketo":MAILTO:support(at)marketo.com
END:VEVENT
END:VCALENDAR