BEGIN:VCALENDAR
VERSION:2.0
PRODID:-//Marketing.com.au - ECPv6.15.20//NONSGML v1.0//EN
CALSCALE:GREGORIAN
METHOD:PUBLISH
X-WR-CALNAME:Marketing.com.au
X-ORIGINAL-URL:https://marketing.com.au
X-WR-CALDESC:Events for Marketing.com.au
REFRESH-INTERVAL;VALUE=DURATION:PT1H
X-Robots-Tag:noindex
X-PUBLISHED-TTL:PT1H
BEGIN:VTIMEZONE
TZID:Australia/Melbourne
BEGIN:STANDARD
TZOFFSETFROM:+1100
TZOFFSETTO:+1000
TZNAME:AEST
DTSTART:20190406T160000
END:STANDARD
BEGIN:DAYLIGHT
TZOFFSETFROM:+1000
TZOFFSETTO:+1100
TZNAME:AEDT
DTSTART:20191005T160000
END:DAYLIGHT
BEGIN:STANDARD
TZOFFSETFROM:+1100
TZOFFSETTO:+1000
TZNAME:AEST
DTSTART:20200404T160000
END:STANDARD
BEGIN:DAYLIGHT
TZOFFSETFROM:+1000
TZOFFSETTO:+1100
TZNAME:AEDT
DTSTART:20201003T160000
END:DAYLIGHT
BEGIN:STANDARD
TZOFFSETFROM:+1100
TZOFFSETTO:+1000
TZNAME:AEST
DTSTART:20210403T160000
END:STANDARD
BEGIN:DAYLIGHT
TZOFFSETFROM:+1000
TZOFFSETTO:+1100
TZNAME:AEDT
DTSTART:20211002T160000
END:DAYLIGHT
END:VTIMEZONE
BEGIN:VEVENT
DTSTART;TZID=Australia/Melbourne:20200910T093000
DTEND;TZID=Australia/Melbourne:20200910T113000
DTSTAMP:20260425T133204
CREATED:20200712T061502Z
LAST-MODIFIED:20201010T112425Z
UID:15781-1599730200-1599737400@marketing.com.au
SUMMARY:Podcast Training Course Online
DESCRIPTION:This is an intensive podcast training course where you’ll learn how to start your podcast. \nWe’ll step you through the essentials – from planning your podcast\, best sound equipment and software\, recording tips\, editing tips\, interview technique\, hosting your podcast\, distribution on key podcast platforms (like Apple\, Spotify and Google)\, building an audience\, marketing your podcast\, an intro to podcasting for content marketing\, and more. \nThe podcast trainer is Phil Stubbs. Phil has experience in marketing (working for a leading ad agency)\, radio journalism\, teaching at university\, and podcasting. His podcast has reached no.4 in the News & Politics section of Apple Podcasts. \nYou can find out more about this podcast training via the links here. There are also contact details for Phil on the Media School website if you want to give him a call. \nNote this is online podcast training. It’s comprised of two consecutive mornings – a Thursday and Friday that run 9.30am to 1.30pm. It’s delivered live and in real-time – via live video streaming. \nThis is a small workshop so you’ll be able to ask questions. Included with the classes is a month free consultation with the trainer. And access to videos and learning resources. \nThis podcasting course will give you the confidence and tools to get your podcast started – and give you the structure and thinking to keep it going! \nWe are based in Sydney but can get attendees from across Australia – including Melbourne\, Brisbane\, Perth\, Adelaide\, Canberra\, Gold Coast\, Sunshine Coast\, Newcastle\, Wollongong. And from across the ditch in NZ (Auckland\, Wellington and Christchurch.) We would love to see you online.
URL:https://marketing.com.au/event/podcast-training-course-online/
LOCATION:Online
CATEGORIES:All Event Locations,All Event Topics,All Event Types,Online,Podcast
END:VEVENT
END:VCALENDAR