BEGIN:VCALENDAR
VERSION:2.0
PRODID:-//Marketing.com.au - ECPv6.15.20//NONSGML v1.0//EN
CALSCALE:GREGORIAN
METHOD:PUBLISH
X-WR-CALNAME:Marketing.com.au
X-ORIGINAL-URL:https://marketing.com.au
X-WR-CALDESC:Events for Marketing.com.au
REFRESH-INTERVAL;VALUE=DURATION:PT1H
X-Robots-Tag:noindex
X-PUBLISHED-TTL:PT1H
BEGIN:VTIMEZONE
TZID:Australia/Melbourne
BEGIN:STANDARD
TZOFFSETFROM:+1100
TZOFFSETTO:+1000
TZNAME:AEST
DTSTART:20200404T160000
END:STANDARD
BEGIN:DAYLIGHT
TZOFFSETFROM:+1000
TZOFFSETTO:+1100
TZNAME:AEDT
DTSTART:20201003T160000
END:DAYLIGHT
BEGIN:STANDARD
TZOFFSETFROM:+1100
TZOFFSETTO:+1000
TZNAME:AEST
DTSTART:20210403T160000
END:STANDARD
BEGIN:DAYLIGHT
TZOFFSETFROM:+1000
TZOFFSETTO:+1100
TZNAME:AEDT
DTSTART:20211002T160000
END:DAYLIGHT
BEGIN:STANDARD
TZOFFSETFROM:+1100
TZOFFSETTO:+1000
TZNAME:AEST
DTSTART:20220402T160000
END:STANDARD
BEGIN:DAYLIGHT
TZOFFSETFROM:+1000
TZOFFSETTO:+1100
TZNAME:AEDT
DTSTART:20221001T160000
END:DAYLIGHT
END:VTIMEZONE
BEGIN:VEVENT
DTSTART;TZID=Australia/Melbourne:20210723T113000
DTEND;TZID=Australia/Melbourne:20210723T120000
DTSTAMP:20260424T192532
CREATED:20210625T083920Z
LAST-MODIFIED:20211204T072952Z
UID:19717-1627039800-1627041600@marketing.com.au
SUMMARY:Local Voice Marketing Introduction
DESCRIPTION:If your a local business trying to bounce back then you may not be aware of the massive changes that have taken place to Searching\n\n\n\n\n\n\n\nThis 30 minute introduction to Voice Marketing for local business owners outlines the challenges now facing local business with the move to Voice Search (50% of searches are now by Voice) \nThis webinar outlines why this had come about\, what the challenges are and how you can over come them within your website to recover 50% of your search traffic as part of your online marketing strategy. \nHosted by Andrew Thomas\, lead voice and digital assistants consultant at Smart Octopus Voice Agency with over 30 years of IT and Internet experience\, guides you through this new Voice First technolgy.
URL:https://marketing.com.au/event/local-voice-marketing-introduction/
LOCATION:Online
CATEGORIES:AI,All Event Locations,All Event Topics,All Event Types,Design,Online,Podcast
END:VEVENT
END:VCALENDAR