BEGIN:VCALENDAR
VERSION:2.0
PRODID:-//Marketing.com.au - ECPv6.15.20//NONSGML v1.0//EN
CALSCALE:GREGORIAN
METHOD:PUBLISH
X-WR-CALNAME:Marketing.com.au
X-ORIGINAL-URL:https://marketing.com.au
X-WR-CALDESC:Events for Marketing.com.au
REFRESH-INTERVAL;VALUE=DURATION:PT1H
X-Robots-Tag:noindex
X-PUBLISHED-TTL:PT1H
BEGIN:VTIMEZONE
TZID:Australia/Melbourne
BEGIN:STANDARD
TZOFFSETFROM:+1100
TZOFFSETTO:+1000
TZNAME:AEST
DTSTART:20130406T160000
END:STANDARD
BEGIN:DAYLIGHT
TZOFFSETFROM:+1000
TZOFFSETTO:+1100
TZNAME:AEDT
DTSTART:20131005T160000
END:DAYLIGHT
BEGIN:STANDARD
TZOFFSETFROM:+1100
TZOFFSETTO:+1000
TZNAME:AEST
DTSTART:20140405T160000
END:STANDARD
BEGIN:DAYLIGHT
TZOFFSETFROM:+1000
TZOFFSETTO:+1100
TZNAME:AEDT
DTSTART:20141004T160000
END:DAYLIGHT
BEGIN:STANDARD
TZOFFSETFROM:+1100
TZOFFSETTO:+1000
TZNAME:AEST
DTSTART:20150404T160000
END:STANDARD
BEGIN:DAYLIGHT
TZOFFSETFROM:+1000
TZOFFSETTO:+1100
TZNAME:AEDT
DTSTART:20151003T160000
END:DAYLIGHT
BEGIN:STANDARD
TZOFFSETFROM:+1100
TZOFFSETTO:+1000
TZNAME:AEST
DTSTART:20160402T160000
END:STANDARD
BEGIN:DAYLIGHT
TZOFFSETFROM:+1000
TZOFFSETTO:+1100
TZNAME:AEDT
DTSTART:20161001T160000
END:DAYLIGHT
BEGIN:STANDARD
TZOFFSETFROM:+1100
TZOFFSETTO:+1000
TZNAME:AEST
DTSTART:20170401T160000
END:STANDARD
BEGIN:DAYLIGHT
TZOFFSETFROM:+1000
TZOFFSETTO:+1100
TZNAME:AEDT
DTSTART:20170930T160000
END:DAYLIGHT
BEGIN:STANDARD
TZOFFSETFROM:+1100
TZOFFSETTO:+1000
TZNAME:AEST
DTSTART:20180331T160000
END:STANDARD
BEGIN:DAYLIGHT
TZOFFSETFROM:+1000
TZOFFSETTO:+1100
TZNAME:AEDT
DTSTART:20181006T160000
END:DAYLIGHT
END:VTIMEZONE
BEGIN:VEVENT
DTSTART;TZID=Australia/Melbourne:20171202T090000
DTEND;TZID=Australia/Melbourne:20171202T120000
DTSTAMP:20260422T082435
CREATED:20170926T050329Z
LAST-MODIFIED:20170926T051111Z
UID:10588-1512205200-1512216000@marketing.com.au
SUMMARY:Content Content Content – Creation\, Curation & Strategies
DESCRIPTION:Do you want to take your content creation to the next level? Oppose to just adding to the noise in my industry? This event is designed to help you create and curate content and how to maximise it.\nThis masterclass will look at: creating v curating; user generated content; tie-saving tips and tricks for content creation plus much\, much more! \nSpeaker: Meg Coffey is a social media strategist\, brand marketing specialist\, public speaker\, and coach
URL:https://marketing.com.au/event/content-content-content-creation-curation-strategies/
LOCATION:The Alex Hotel\, 50 James Street\, Perth\, WA\, 6000\, Australia
CATEGORIES:All Event Locations,All Event Topics,All Event Types,Content Marketing,Digital Marketing,Marketing,Perth,Presentation,Social Media,Workshop
ORGANIZER;CN="Social Media Perth":MAILTO:info@smperth.com
END:VEVENT
BEGIN:VEVENT
DTSTART;TZID=Australia/Melbourne:20171124T083000
DTEND;TZID=Australia/Melbourne:20171124T120000
DTSTAMP:20260422T082435
CREATED:20170925T133512Z
LAST-MODIFIED:20201002T054208Z
UID:10581-1511512200-1511524800@marketing.com.au
SUMMARY:Social Media – Connecting Businesses to the World
DESCRIPTION:Do you want to learn and understand further the way that different social platforms work\, including Facebook\, Twitter and Instagram? This workshop will give you practical tips and trackers to help increase your ROI. The masterclass will look at how social communicates your brand\, content strategy and management\, hashtags\, latest trends in social media plus much more! \nSpeaker: Meg Coffey is a social media strategist\, brand marketing specialist\, public speaker\, and coach.
URL:https://marketing.com.au/event/social-media-connecting-businesses-world-3/
LOCATION:Alex Hotel\, 50 James Street\, Perth\, WA\, 6000\, Australia
CATEGORIES:All Event Locations,All Event Topics,All Event Types,Content Marketing,Digital Marketing,Marketing,Perth,Presentation,Social Media,Workshop
ORGANIZER;CN="Social Media Perth":MAILTO:info@smperth.com
END:VEVENT
BEGIN:VEVENT
DTSTART;TZID=Australia/Melbourne:20171122T083000
DTEND;TZID=Australia/Melbourne:20171122T120000
DTSTAMP:20260422T082435
CREATED:20170921T151041Z
LAST-MODIFIED:20201002T045557Z
UID:10571-1511339400-1511352000@marketing.com.au
SUMMARY:Understanding Facebook Advertising
DESCRIPTION:Do you want to take your Facebook advertising to the next level and really understand how to use it? At this event you will learn about the different possibilities that are within the platform and about the targeting that is available to you. After you attend this event and start to understand how it works\, you will be able to put into practice and achieve your objectives and gain incredible ROI. \nSpeaker: Meg Coffey is a social media strategist\, brand marketing specialist\, public speaker\, and coach.
URL:https://marketing.com.au/event/understanding-facebook-advertising-2/
LOCATION:The Alex Hotel\, 50 James Street\, Perth\, WA\, 6000\, Australia
CATEGORIES:All Event Locations,All Event Topics,All Event Types,Marketing,Perth,Social Media,Workshop
ORGANIZER;CN="Social Media Perth":MAILTO:info@smperth.com
END:VEVENT
BEGIN:VEVENT
DTSTART;VALUE=DATE:20171026
DTEND;VALUE=DATE:20171027
DTSTAMP:20260422T082435
CREATED:20170927T122655Z
LAST-MODIFIED:20170927T122655Z
UID:10600-1508976000-1509062399@marketing.com.au
SUMMARY:Marketing Disrupted: CX & Innovation Forum
DESCRIPTION:The Marketing Disrupted: CX & Innovation Forum 2017 has been put together for the WA marketing industry\, it is a full day of insights into how brands are driving innovation in marketing\, technology\, engagement and creativity. Delegates will learn about the local perspectives on the issues and opportunities for marketers as customers. This will be a full day with topics from insights into technology and innovation trends from Facebook to hot topics facing the industry\, plus much more.
URL:https://marketing.com.au/event/marketing-disrupted-cx-innovation-forum/
LOCATION:Perth Convention and Exhibition Centre (PCEC)\, 21 Mounts Bay Rd\, Perth\, Western Australia\, 6000\, Australia
CATEGORIES:All Event Locations,All Event Topics,All Event Types,Conference,Market Research,Marketing,Perth,Workshop
END:VEVENT
BEGIN:VEVENT
DTSTART;TZID=Australia/Melbourne:20171004T090000
DTEND;TZID=Australia/Melbourne:20171004T120000
DTSTAMP:20260422T082435
CREATED:20170921T143420Z
LAST-MODIFIED:20170921T143420Z
UID:10569-1507107600-1507118400@marketing.com.au
SUMMARY:Facebook Marketing: Insights to the Mighty Beast
DESCRIPTION:Do you want to learn more about Facebook? This event has been put together to teach you best practices for Facebook\, advertising\, analytics and content strategies. You will learn the correct foundation to help you succeed at digital marketing. It will include going through important technical aspects of the platform and ensure understanding of the various insights. \nSpeaker: Meg Coffey\, Social media strategist\, brand marketing specialist\, public speaker\, and coach
URL:https://marketing.com.au/event/facebook-marketing-insights-mighty-beast-2/
LOCATION:The Alex Hotel\, 50 James Street\, Perth\, WA\, 6000\, Australia
CATEGORIES:All Event Locations,All Event Topics,All Event Types,Content Marketing,Digital Marketing,Marketing,Perth,Presentation,Social Media,Workshop
ORGANIZER;CN="Social Media Perth":MAILTO:info@smperth.com
END:VEVENT
BEGIN:VEVENT
DTSTART;TZID=Australia/Melbourne:20170831T083000
DTEND;TZID=Australia/Melbourne:20170831T120000
DTSTAMP:20260422T082435
CREATED:20170728T021311Z
LAST-MODIFIED:20201002T054310Z
UID:10288-1504168200-1504180800@marketing.com.au
SUMMARY:Social Media – Connecting Businesses to the World
DESCRIPTION:Social Media is such an important part of anyone’s marketing plan. This event is designed to help you understand the platforms and the power that they have\, you will be looking at Facebook\, Twitter and Instagram. During this masterclass you will learn how social media communicates your brand\, the basics of different social media platforms\, content strategy and management plus much more.\nThe speaker is Meg Coffey\, who is a social media strategist\, brand marketing specialist\, public speaker\, and coach.
URL:https://marketing.com.au/event/social-media-connecting-businesses-world-2/
LOCATION:Alex Hotel\, 50 James Street\, Perth\, WA\, 6000\, Australia
CATEGORIES:All Event Locations,All Event Topics,All Event Types,Digital Marketing,Market Research,Marketing,Perth,Social Media,Workshop
END:VEVENT
BEGIN:VEVENT
DTSTART;TZID=Australia/Melbourne:20170823T083000
DTEND;TZID=Australia/Melbourne:20170823T120000
DTSTAMP:20260422T082435
CREATED:20170817T143529Z
LAST-MODIFIED:20201002T045818Z
UID:10404-1503477000-1503489600@marketing.com.au
SUMMARY:Understanding Facebook Advertising
DESCRIPTION:With there being millions of Facebook accounts all over the world\, Facebook is a great way to advertise your business. It is a very powerful medium\, if you know how to use it. This event has been created to show marketers how to use it\, from Facebook Local\, Running a campaign in Ads Manager to Tips and Tricks and everything in between. \nThe spots at this event are limited\, so book now to avoid disappointment!
URL:https://marketing.com.au/event/understanding-facebook-advertising/
LOCATION:The Alex Hotel\, 50 James Street\, Perth\, WA\, 6000\, Australia
CATEGORIES:Advertising,All Event Locations,All Event Topics,All Event Types,Market Research,Marketing,Perth,Social Media,Workshop
END:VEVENT
BEGIN:VEVENT
DTSTART;TZID=Australia/Melbourne:20170803T070000
DTEND;TZID=Australia/Melbourne:20170803T090000
DTSTAMP:20260422T082435
CREATED:20170628T131753Z
LAST-MODIFIED:20170628T131923Z
UID:10144-1501743600-1501750800@marketing.com.au
SUMMARY:Storytelling & how to stay relevant in a digital content landscape
DESCRIPTION:The art of storytelling is an essential part of your brand and marketing strategy due to the changing online environment in which we engage our customers. Great content that tells your brand’s ‘story’ in a genuine and authentic way will resonate with your customer\, and as a result word of mouth endorsements in the form of social sharing takes over. Your brand perception increases and so does your engagement\, all whilst being light on your marketing wallet.
URL:https://marketing.com.au/event/storytelling-stay-relevant-digital-content-landscape/
LOCATION:Fraser’s Restaurant\, Fraser Avenue\, West Perth\, WA\, 6005\, Australia
CATEGORIES:Advertising,All Event Locations,All Event Topics,All Event Types,Content Marketing,Digital Marketing,Market Research,Marketing,Perth,Presentation,Workshop
END:VEVENT
BEGIN:VEVENT
DTSTART;TZID=Australia/Melbourne:20170727T090000
DTEND;TZID=Australia/Melbourne:20170727T120000
DTSTAMP:20260422T082435
CREATED:20170628T143017Z
LAST-MODIFIED:20170628T143017Z
UID:10164-1501146000-1501156800@marketing.com.au
SUMMARY:Facebook Marketing: Insights into the Mighty Beast
DESCRIPTION:Facebook is always changing and it can be hard to keep up! Before you can truly succeed at digital marketing you need to ensure you have laid the correct foundations. We will go through the important technical aspects of the platform and ensure understanding of the various insights. \nAbout the Presenter\nSocial media strategist\, brand marketing specialist\, public speaker\, and coach Meg Coffey is uniquely positioned to provide a holistic range of services to individual businesses operating in niche industries. By combining research\, in-depth experience\, passion\, and outcome-driven results\, Meg creates business strategies that are individually tailored to her clients.
URL:https://marketing.com.au/event/facebook-marketing-insights-mighty-beast/
LOCATION:The Alex Hotel\, 50 James Street\, Perth\, WA\, 6000\, Australia
CATEGORIES:All Event Locations,All Event Topics,All Event Types,Content Marketing,Digital Marketing,Market Research,Marketing,Perth,SEO,Social Media,Workshop
ORGANIZER;CN="Social Media Perth":MAILTO:info@smperth.com
END:VEVENT
BEGIN:VEVENT
DTSTART;VALUE=DATE:20170721
DTEND;VALUE=DATE:20170722
DTSTAMP:20260422T082435
CREATED:20170714T003536Z
LAST-MODIFIED:20201002T001136Z
UID:10207-1500595200-1500681599@marketing.com.au
SUMMARY:Digital & Social Writing Tactics
DESCRIPTION:This event is a hand on event where you will learn the art of writing\, from structuring a web page\, crafting messages to different audiences using keywords\, headings lists and links\, formatting written content plus much more! You will be undertaking planning and writing tasks designed to help you in your current role.\nDuring this workshop you will be provided a comprehensive set of notes on the topic along with examples of material for analysis and discussion.
URL:https://marketing.com.au/event/digital-social-writing-tactics-4/
LOCATION:Cliftons Training Facility Perth\, Ground Floor\, Parmelia House\, 191 St Georges Terrace\, Perth\, WA\, 6000\, Australia
CATEGORIES:All Event Locations,All Event Topics,All Event Types,Content Marketing,Digital Marketing,Marketing,Perth,Presentation,Workshop
END:VEVENT
BEGIN:VEVENT
DTSTART;TZID=Australia/Melbourne:20170525T083000
DTEND;TZID=Australia/Melbourne:20170525T120000
DTSTAMP:20260422T082435
CREATED:20170328T053835Z
LAST-MODIFIED:20201002T054354Z
UID:9727-1495701000-1495713600@marketing.com.au
SUMMARY:Social Media – Connecting Businesses to the World
DESCRIPTION:This in-depth event looks at reasons why things happen the way they do on social media and how you can maximise you efforts with limited resources. \nThe speaker\, Meg Coffey\, will take be looking at how different social media platforms work and give you practical tips and tricks to help.
URL:https://marketing.com.au/event/social-media-connecting-businesses-world/
LOCATION:The Alex Hotel\, 50 James Street\, Perth\, WA\, 6000\, Australia
CATEGORIES:Perth,Social Media,Workshop
END:VEVENT
BEGIN:VEVENT
DTSTART;TZID=Australia/Melbourne:20170516T070000
DTEND;TZID=Australia/Melbourne:20170516T090000
DTSTAMP:20260422T082435
CREATED:20170502T132355Z
LAST-MODIFIED:20201002T042545Z
UID:9918-1494918000-1494925200@marketing.com.au
SUMMARY:Digital Transformation & Customer Experience
DESCRIPTION:At this event you will be hearing from the CUstomer Engagement and Retention Marketing Manager from HBF\, Allan Bryne. He will be taking you through HBF’s marketing automation story and their key learnings in the changing world of using an integrated marketing and automation platform. He will also be discussing their previous experience in the UK market around realising the value of martech.
URL:https://marketing.com.au/event/digital-transformation-customer-experience/
LOCATION:Fraser’s Restaurant\, Fraser Avenue\, Kings Park\, West Perth\, WA\, 6005\, Australia
CATEGORIES:All Event Locations,All Event Topics,All Event Types,Content Marketing,Digital Marketing,Market Research,Marketing,Perth,Presentation,Workshop
END:VEVENT
BEGIN:VEVENT
DTSTART;TZID=Australia/Melbourne:20170331T070000
DTEND;TZID=Australia/Melbourne:20170331T090000
DTSTAMP:20260422T082435
CREATED:20170304T013716Z
LAST-MODIFIED:20170304T013716Z
UID:9638-1490943600-1490950800@marketing.com.au
SUMMARY:WA Guru Breakfast - Leveraging Data Driven Marketing Strategy to Optimise CX
DESCRIPTION:Join Google’s Customer Solution and Innovation specialist Scott Thomson as shares thought leadership stories\, key strategies\, process improvements and small trials to help you get the hard numbers you need to present to key stakeholders. Help drive further investment and transform your digital marketing spend from a broadcast-based prospecting model to targeted media buys that can generate an uplift in business growth.
URL:https://marketing.com.au/event/wa-guru-breakfast-leveraging-data-driven-marketing-strategy-optimise-cx/
LOCATION:Perth Convention and Exhibition Centre (PCEC)\, 21 Mounts Bay Rd\, Perth\, Western Australia\, 6000\, Australia
CATEGORIES:Advertising,All Event Locations,All Event Topics,All Event Types,Digital Marketing,Perth,Presentation,Workshop
END:VEVENT
BEGIN:VEVENT
DTSTART;TZID=Australia/Melbourne:20161013T084500
DTEND;TZID=Australia/Melbourne:20161013T163000
DTSTAMP:20260422T082435
CREATED:20160908T063515Z
LAST-MODIFIED:20160908T063515Z
UID:8303-1476348300-1476376200@marketing.com.au
SUMMARY:Fundamental Workshop | Social Media Applications
DESCRIPTION:This social media workshop will teach you about the use of social media for businesses\, business strategies for social media and also give you a practical introduction to the most common and useful social media tools. It will include different case studies and research as well as any hands on tips.
URL:https://marketing.com.au/event/fundamental-workshop-social-media-applications/
LOCATION:Cliftons Training Facility Perth\, Ground Floor\, Parmelia House\, 191 St Georges Terrace\, Perth\, WA\, 6000\, Australia
CATEGORIES:All Event Locations,All Event Topics,All Event Types,Conference,Digital Marketing,Marketing,Perth,Presentation,Social Media,Workshop
END:VEVENT
BEGIN:VEVENT
DTSTART;TZID=Australia/Melbourne:20151023T083000
DTEND;TZID=Australia/Melbourne:20151023T153000
DTSTAMP:20260422T082435
CREATED:20151001T023648Z
LAST-MODIFIED:20151001T023648Z
UID:7128-1445589000-1445614200@marketing.com.au
SUMMARY:ADMA WA Conference 2015
DESCRIPTION:This years ADMA WA Conference has the theme of Effective Communication and will demonstrate the ways in which you can improve communication within your workplace to increase performance and create a strong internal culture.
URL:https://marketing.com.au/event/adma-wa-conference-2015/
LOCATION:Perth Convention and Exhibition Centre (PCEC)\, 21 Mounts Bay Rd\, Perth\, Western Australia\, 6000\, Australia
CATEGORIES:All Event Locations,All Event Topics,All Event Types,Conference,Digital Marketing,Perth
END:VEVENT
BEGIN:VEVENT
DTSTART;TZID=Australia/Melbourne:20150723T083000
DTEND;TZID=Australia/Melbourne:20150723T170000
DTSTAMP:20260422T082435
CREATED:20150624T112213Z
LAST-MODIFIED:20150624T112213Z
UID:6838-1437640200-1437670800@marketing.com.au
SUMMARY:PRIA Emerging Leader Forum
DESCRIPTION:You are invited to join The PRIA WA as we launch the Emerging Leaders Forum. The first of its kind for PRIA\, this one-day event is designed for budding public relations\, marketing and communications leaders looking to develop in their workplace by improving their leadership skills\, diversifying their communication skills and learning how to take control of their careers. \nThe Forum will address what it takes to be an ethical\, effective and influential leader\, and identify some practical self-management tools to empower and activate you to achieve your professional and personal potential. \nYou will learn from and be inspired by several highly successful and respected professionals from a variety of backgrounds and take part in a career-building workshop. \nIf you or your employees are dealing with greater responsibilities and working in more challenging workplace scenarios\, then this Forum aims to support success.
URL:https://marketing.com.au/event/pria-emerging-leader-forum/
LOCATION:UWA Watersports and Leadership Centre\, Cnr Stirling Highway and Mounts Bay Rd\, Perth\, Western Australia\, 6009\, Australia
CATEGORIES:All Event Locations,All Event Topics,All Event Types,Conference,Perth,Public Relations
END:VEVENT
BEGIN:VEVENT
DTSTART;VALUE=DATE:20150319
DTEND;VALUE=DATE:20150320
DTSTAMP:20260422T082435
CREATED:20150302T054032Z
LAST-MODIFIED:20150302T054032Z
UID:6449-1426723200-1426809599@marketing.com.au
SUMMARY:Tinderbox - The Art of Digital Conversation
DESCRIPTION:Humans exist through their community and their conversation. Brands are no different\, and particularly brand that have been created through the Brand Storytelling process. Conversation is the oxygen that sustains great\, human brands\, and done well\, creates tribes of customers and fans. \nThe art of digital conversation teaches you how to take that authentic story you have developed for your brand\, and expressing it in a way that triggers deep emotional responses. It’s about discovering a language that shapes the content you create or curate online\, forming it into a natural expression of your brand.
URL:https://marketing.com.au/event/tinderbox-art-digital-conversation/
LOCATION:Unnamed Venue\, Perth\, Western Australia\, 6000\, Australia
CATEGORIES:All Event Locations,All Event Topics,All Event Types,Content Marketing,Digital Marketing,Perth,Workshop
END:VEVENT
BEGIN:VEVENT
DTSTART;VALUE=DATE:20150317
DTEND;VALUE=DATE:20150318
DTSTAMP:20260422T082435
CREATED:20150302T050018Z
LAST-MODIFIED:20150302T050018Z
UID:6440-1426550400-1426636799@marketing.com.au
SUMMARY:Digital Leadership Training Seminar
DESCRIPTION:The Digital Leadership Training Seminar is for executives\, marketing teams\, and marketing departments who want to be able to build a strong online presence\, with all of their digital and online assets working together\, into a comprehensive and complete digital ecosystem. \nYou will learn how to:\n>> Create a digital strategy that works\, and developing your content mastery\n>> Use social media and sharing to grow your audience\, and how to enhance your brand online\n>> Align your website across your entire online platform\n>> Develop a working sales funnel as well as creating effective advertising campaigns to grow your audience and sales \nThis is about the key fundamentals in building a sound online platform that allows you to properly manage and grow the business.
URL:https://marketing.com.au/event/digital-leadership-training-seminar/
LOCATION:The George\, 216 St Georges Terrace\, Perth\, Western Australia\, 6000\, Australia
CATEGORIES:All Event Locations,All Event Topics,All Event Types,Digital Marketing,Perth,Workshop
END:VEVENT
BEGIN:VEVENT
DTSTART;VALUE=DATE:20150308
DTEND;VALUE=DATE:20150312
DTSTAMP:20260422T082435
CREATED:20150302T052409Z
LAST-MODIFIED:20150302T052409Z
UID:6447-1425772800-1426118399@marketing.com.au
SUMMARY:Emergence Creative Festival
DESCRIPTION:Connection through creativity \nA unique event that pushes creative boundaries and is set in the beautiful surrounds of Western Australia’s Margaret River wine region\, making it the ideal setting to open your mind and soak it all in. \nFeaturing the inspiring opening night showcasing innovative creative work with live art\, live music\, digital and light installations\, 3-D animations and mapping and much more; hands on collaborative workshops; exciting and thought-provoking keynote speakers; sampling of the region’s exquisite produce; pop-up creative sessions; countless networking opportunities and of course\, plenty of fun. \nThe Emergence Creative Conference & Festival is a place where ideas are the heroes and all that you experience is there to reignite creativity and encourage new ways of thinking. Be a part of it and be inspired. \nEmergence Creative runs from Sunday 8th to Wednesday 11th March 2015. \nFor more information visit emergencecreative.com
URL:https://marketing.com.au/event/emergence-creative-festival/
LOCATION:Various\, Perth\, Western Australia\, 6000\, Australia
CATEGORIES:All Event Locations,All Event Topics,All Event Types,Conference,Marketing,Perth
END:VEVENT
BEGIN:VEVENT
DTSTART;TZID=Australia/Melbourne:20141107T083000
DTEND;TZID=Australia/Melbourne:20141107T141500
DTSTAMP:20260422T082435
CREATED:20141030T034837Z
LAST-MODIFIED:20141030T034837Z
UID:6071-1415349000-1415369700@marketing.com.au
SUMMARY:2014 ADMA WA Conference
DESCRIPTION:It is time to immerse yourself in the art of Customer Engagement with four workshops: \n\nWorkshop 1 – Jodie Sangster\, CEO\, ADMA\nWorkshop 2 – Ben Purcell\, Managing Director\, Brownes Dairy\nWorkshop 3 – Doni Savvides\, Business Director JWT and Mark Kerrigan\, General Manager Member and Product Services\, RAC\nWorkshop 4 – Es Chandra\, CEO\, Glide Agency\n\nWhich are then followed by a luncheon presentation by Dr Kathy Alexander\, CEO of City of Melbourne.
URL:https://marketing.com.au/event/2014-adma-wa-conference/
LOCATION:Perth Convention and Exhibition Centre (PCEC)\, 21 Mounts Bay Rd\, Perth\, Western Australia\, 6000\, Australia
CATEGORIES:All Event Locations,All Event Topics,All Event Types,Conference,Content Marketing,Digital Marketing,Marketing,Perth,Workshop
END:VEVENT
BEGIN:VEVENT
DTSTART;TZID=Australia/Melbourne:20141011T100000
DTEND;TZID=Australia/Melbourne:20141011T140000
DTSTAMP:20260422T082435
CREATED:20141001T231748Z
LAST-MODIFIED:20141001T231748Z
UID:6000-1413021600-1413036000@marketing.com.au
SUMMARY:Master Class for Young Professional Women
DESCRIPTION:One of Australia’s leading professional network for high caliber young professional women – Little Girl Big Dream\, is set to present their first ever The Dream Collective Master Class in Perth for ambitious young women in WA. \nGuests of honour Lisa Scaffidi – the Lord Mayor of Perth\, Kylee Schoonens – Director of Fratelle Group\, and Sasha deBretton – CEO of Million Dollar Makeovers will unite on Saturday 11th October from 10am – 2pm at SpaceCubed to share their journey to the top\, career advice and one on one coaching with 15 emerging young female talent in this intimate half day workshop. \nThis extraordinary and rare opportunity to hear from three incredible role models is open to all female professionals or entrepreneurs under the age of 35. Registration available through www.littlegirlbigdream.com.
URL:https://marketing.com.au/event/master-class-young-professional-women/
LOCATION:Space Cubed\, 45 St Georges Terrace\, Perth\, Western Australia\, 6000\, Australia
CATEGORIES:All Event Locations,All Event Topics,All Event Types,Marketing,Perth,Workshop
END:VEVENT
END:VCALENDAR