BEGIN:VCALENDAR
VERSION:2.0
PRODID:-//Marketing.com.au - ECPv6.15.20//NONSGML v1.0//EN
CALSCALE:GREGORIAN
METHOD:PUBLISH
X-WR-CALNAME:Marketing.com.au
X-ORIGINAL-URL:https://marketing.com.au
X-WR-CALDESC:Events for Marketing.com.au
REFRESH-INTERVAL;VALUE=DURATION:PT1H
X-Robots-Tag:noindex
X-PUBLISHED-TTL:PT1H
BEGIN:VTIMEZONE
TZID:Australia/Melbourne
BEGIN:STANDARD
TZOFFSETFROM:+1100
TZOFFSETTO:+1000
TZNAME:AEST
DTSTART:20220402T160000
END:STANDARD
BEGIN:DAYLIGHT
TZOFFSETFROM:+1000
TZOFFSETTO:+1100
TZNAME:AEDT
DTSTART:20221001T160000
END:DAYLIGHT
BEGIN:STANDARD
TZOFFSETFROM:+1100
TZOFFSETTO:+1000
TZNAME:AEST
DTSTART:20230401T160000
END:STANDARD
BEGIN:DAYLIGHT
TZOFFSETFROM:+1000
TZOFFSETTO:+1100
TZNAME:AEDT
DTSTART:20230930T160000
END:DAYLIGHT
BEGIN:STANDARD
TZOFFSETFROM:+1100
TZOFFSETTO:+1000
TZNAME:AEST
DTSTART:20240406T160000
END:STANDARD
BEGIN:DAYLIGHT
TZOFFSETFROM:+1000
TZOFFSETTO:+1100
TZNAME:AEDT
DTSTART:20241005T160000
END:DAYLIGHT
END:VTIMEZONE
BEGIN:VEVENT
DTSTART;VALUE=DATE:20231204
DTEND;VALUE=DATE:20231206
DTSTAMP:20260423T192716
CREATED:20231029T045929Z
LAST-MODIFIED:20240610T103855Z
UID:26052-1701648000-1701820799@marketing.com.au
SUMMARY:Essentials of Marketing with the American Management Association
DESCRIPTION:As a business professional\, you need to have a clear understanding of your markets and what drives your customers’ decisions to buy. In this course\, you’ll get modern techniques for analyzing markets and quantifying customer needs\, wants\, and preferences (NWP). \nLearn tactics to utilize the 4 Ps of Marketing (Product\, Price\, Place\, and Promotion) and proven tools and methods to avoid the most common marketing mistakes. In hands-on activities\, you’ll discover how to implement the right approach for your company’s unique needs.
URL:https://marketing.com.au/event/essentials-of-marketing-with-the-american-management-association/
LOCATION:Online
CATEGORIES:Advertising,All Event Locations,All Event Topics,All Event Types,Marketing,Online
END:VEVENT
END:VCALENDAR