BEGIN:VCALENDAR
VERSION:2.0
PRODID:-//Marketing.com.au - ECPv6.15.20//NONSGML v1.0//EN
CALSCALE:GREGORIAN
METHOD:PUBLISH
X-WR-CALNAME:Marketing.com.au
X-ORIGINAL-URL:https://marketing.com.au
X-WR-CALDESC:Events for Marketing.com.au
REFRESH-INTERVAL;VALUE=DURATION:PT1H
X-Robots-Tag:noindex
X-PUBLISHED-TTL:PT1H
BEGIN:VTIMEZONE
TZID:Australia/Melbourne
BEGIN:STANDARD
TZOFFSETFROM:+1100
TZOFFSETTO:+1000
TZNAME:AEST
DTSTART:20240406T160000
END:STANDARD
BEGIN:DAYLIGHT
TZOFFSETFROM:+1000
TZOFFSETTO:+1100
TZNAME:AEDT
DTSTART:20241005T160000
END:DAYLIGHT
BEGIN:STANDARD
TZOFFSETFROM:+1100
TZOFFSETTO:+1000
TZNAME:AEST
DTSTART:20250405T160000
END:STANDARD
BEGIN:DAYLIGHT
TZOFFSETFROM:+1000
TZOFFSETTO:+1100
TZNAME:AEDT
DTSTART:20251004T160000
END:DAYLIGHT
BEGIN:STANDARD
TZOFFSETFROM:+1100
TZOFFSETTO:+1000
TZNAME:AEST
DTSTART:20260404T160000
END:STANDARD
BEGIN:DAYLIGHT
TZOFFSETFROM:+1000
TZOFFSETTO:+1100
TZNAME:AEDT
DTSTART:20261003T160000
END:DAYLIGHT
END:VTIMEZONE
BEGIN:VEVENT
DTSTART;VALUE=DATE:20250604
DTEND;VALUE=DATE:20250606
DTSTAMP:20260421T142739
CREATED:20250127T012920Z
LAST-MODIFIED:20250316T012200Z
UID:26688-1748995200-1749167999@marketing.com.au
SUMMARY:Social Media Strategies Summit - Public Agencies & Government 2025
DESCRIPTION:Learn from a mix of industry leaders who will share the proven social media strategies they use to grow their brands. Two jam-packed days tailored to your role in public service. Don’t miss this government social media conference! \n\n\n\nWe bring over 10 years of experience in social media education. That means you can count on a vetted\, specially curated series of sessions and seasoned\, experienced speakers to tackle topics that have the biggest impact on your agency or office’s social media strategy. \n\n\n\n\n\nShare experiences and learn new social media strategies with your government and public agency colleagues from around the globe — virtually! \n\n\n\n\n\n\nNetwork with government employee peers from across the country. SMSsummit is your best resource for fresh social media ideas and community building strategies. \n\n\n\n\n\n\nGet all your social media questions answered through speaker Q&A\, live chat\, and discussions with other attendees. \n\n\n\n\n\n\nBe your team’s social media champion! We’ll help you build the foundations of a sustainable social media policy that help you serve your community best. \n\n\n\n\n\n\nLearn strategies for tackling issues most important to government agencies\, including social media and crisis communications\, improving agency reputation\, and building community relationships. \n\n\n\n\n\n\nAssess and audit your current social media initiatives. Learn how to humanize your agency and build public trust in an era when transparency and authenticity is more important than ever.
URL:https://marketing.com.au/event/social-media-strategies-summit-public-agencies-government-2025/
LOCATION:Online
CATEGORIES:All Event Locations,All Event Topics,All Event Types,Content Marketing,Digital Marketing,Online,Social Media
END:VEVENT
BEGIN:VEVENT
DTSTART;VALUE=DATE:20250611
DTEND;VALUE=DATE:20250613
DTSTAMP:20260421T142739
CREATED:20241005T235824Z
LAST-MODIFIED:20250316T012200Z
UID:26579-1749600000-1749772799@marketing.com.au
SUMMARY:Connections 2025
DESCRIPTION:Experience CNX on Salesforce+\, for free. Join us at on Salesforce+ to see how AI is reinventing data-driven marketing\, commerce\, and customer experiences. \nLearn from expert-led sessions and consultations\nProduct and industry experts share new tools and best practices for how they’re succeeding with data and AI right now\, and how you can too. Explore keynotes and breakout sessions\, then book 1:1 consultations with experts to get the download on actionable strategies for leveraging AI. \nGet hands-on in our workshops\nTry out the innovations yourself. Dive deep into AmpScript\, uplevel your Data Cloud segmentation\, explore AI-powered content creation tools\, and so much more. Discover how the latest product launches can improve your customer experiences. \nSee innovation in action with demos and trainings\nGet access to 50+ demos where you can get your questions answered. Watch as experts guide you step-by-step through all new products and tools. You’ll see how Data Cloud unlocks siloed data to make AI actionable\, how Einstein Copilot serves as your new conversational AI assistant\, and more.
URL:https://marketing.com.au/event/connections-2025/
LOCATION:Online
CATEGORIES:All Event Locations,All Event Topics,All Event Types,Conference,Content Marketing,Online
END:VEVENT
BEGIN:VEVENT
DTSTART;VALUE=DATE:20250617
DTEND;VALUE=DATE:20250618
DTSTAMP:20260421T142739
CREATED:20250323T005247Z
LAST-MODIFIED:20250323T005325Z
UID:26897-1750118400-1750204799@marketing.com.au
SUMMARY:WalkMe Realizer 2025
DESCRIPTION:Calling all changemakers! Step into the future of digital adoption from wherever you are. Engage with industry leaders\, uncover the latest DAP trends\, and walk away with strategies that drive real impact. Reserve your spot at Realize 2025 today.
URL:https://marketing.com.au/event/walkme-realizer-2025/
LOCATION:Online
CATEGORIES:All Event Locations,All Event Topics,All Event Types,Online
END:VEVENT
BEGIN:VEVENT
DTSTART;VALUE=DATE:20250619
DTEND;VALUE=DATE:20250620
DTSTAMP:20260421T142739
CREATED:20250316T002422Z
LAST-MODIFIED:20250316T012200Z
UID:26836-1750291200-1750377599@marketing.com.au
SUMMARY:Story Telling for Marketers – Creating Compelling Narratives that connect
DESCRIPTION:Human beings connect learn and grow through stories. Not dot points. Not spreadsheets. Not data sets. Stories are the glue that binds us together! \nThe challenge\, in business\, is to understand how to harness the power of stories but in a business-appropriate way. \nIn this session\, Chris Meredith will touch on story telling theory and then share a simple and powerful story telling framework. He’ll then showcase examples of business presentations\, one-on-ones\, even media interviews with stories at their heart. By the end\, attendees will walk away with an understanding of the role of storytelling in narratives that connect and the confidence to tell stories in their next business communication. \nKey learnings \n\nThe Power of Storytelling: Learn how stories are a powerful tool for connection and communication in business\, far beyond data and spreadsheets.\nStorytelling Framework: Gain practical insights into a simple yet effective storytelling framework that can be applied in business settings.\nStorytelling Theory: Explore the theory behind storytelling and how it helps build stronger business narratives that resonate with your audience.\nReal-World Examples: Understand how storytelling works in business presentations\, one-on-ones\, and media interviews through clear\, impactful examples.
URL:https://marketing.com.au/event/story-telling-for-marketers-creating-compelling-narratives-that-connect/
LOCATION:Online
CATEGORIES:All Event Locations,All Event Topics,All Event Types,Communications,Content Marketing,Copywriting,Online,Public Relations
END:VEVENT
END:VCALENDAR