BEGIN:VCALENDAR
VERSION:2.0
PRODID:-//Marketing.com.au - ECPv6.15.20//NONSGML v1.0//EN
CALSCALE:GREGORIAN
METHOD:PUBLISH
X-WR-CALNAME:Marketing.com.au
X-ORIGINAL-URL:https://marketing.com.au
X-WR-CALDESC:Events for Marketing.com.au
REFRESH-INTERVAL;VALUE=DURATION:PT1H
X-Robots-Tag:noindex
X-PUBLISHED-TTL:PT1H
BEGIN:VTIMEZONE
TZID:Australia/Melbourne
BEGIN:STANDARD
TZOFFSETFROM:+1100
TZOFFSETTO:+1000
TZNAME:AEST
DTSTART:20240406T160000
END:STANDARD
BEGIN:DAYLIGHT
TZOFFSETFROM:+1000
TZOFFSETTO:+1100
TZNAME:AEDT
DTSTART:20241005T160000
END:DAYLIGHT
BEGIN:STANDARD
TZOFFSETFROM:+1100
TZOFFSETTO:+1000
TZNAME:AEST
DTSTART:20250405T160000
END:STANDARD
BEGIN:DAYLIGHT
TZOFFSETFROM:+1000
TZOFFSETTO:+1100
TZNAME:AEDT
DTSTART:20251004T160000
END:DAYLIGHT
BEGIN:STANDARD
TZOFFSETFROM:+1100
TZOFFSETTO:+1000
TZNAME:AEST
DTSTART:20260404T160000
END:STANDARD
BEGIN:DAYLIGHT
TZOFFSETFROM:+1000
TZOFFSETTO:+1100
TZNAME:AEDT
DTSTART:20261003T160000
END:DAYLIGHT
END:VTIMEZONE
BEGIN:VEVENT
DTSTART;VALUE=DATE:20250115
DTEND;VALUE=DATE:20250227
DTSTAMP:20260422T024415
CREATED:20241006T010929Z
LAST-MODIFIED:20250316T012206Z
UID:26604-1736899200-1740614399@marketing.com.au
SUMMARY:AMA Digital Marketing Copywriting
DESCRIPTION:Great marketing writers know that using the right messaging tailored to their customers’ needs through a specific platform can make all the difference in growing a business. \nThis small-group online training will help you build your writing skills by exploring the latest techniques and best practices in copywriting for the web — specifically social media\, blogs and email. \nYou’ll learn how to drive action by using powerful\, emotive copy and how to explain complicated or technical details of your products in accessible ways. We’ll look at how today’s leading companies use words to shape their brand\, convey their purpose and motivate people to become customers. Plus\, you’ll leave ready to write the perfect headline and produce content people actually want to read.
URL:https://marketing.com.au/event/ama-digital-marketing-copywriting/
LOCATION:Online
CATEGORIES:All Event Locations,All Event Topics,All Event Types,Communications,Content Marketing,Copywriting,Online
END:VEVENT
BEGIN:VEVENT
DTSTART;VALUE=DATE:20250206
DTEND;VALUE=DATE:20250207
DTSTAMP:20260422T024415
CREATED:20241006T011734Z
LAST-MODIFIED:20250316T012206Z
UID:26610-1738800000-1738886399@marketing.com.au
SUMMARY:Interpreting and Presenting Your Social Media Analytics
DESCRIPTION:When it comes to social media analytics\, it is easy to get caught up in all of the metrics and forget about the story. What are the metrics telling you and how can and should you use this information to guide your future planning and decisions? \nIn this session\, learn how to effectively analyze social media data and extract meaningful insights to better communicate key findings in a clear\, concise\, and actionable manner to your various stakeholders. \n 
URL:https://marketing.com.au/event/interpreting-and-presenting-your-social-media-analytics/
LOCATION:Online
CATEGORIES:All Event Locations,All Event Topics,All Event Types,Online,Social Media
END:VEVENT
BEGIN:VEVENT
DTSTART;VALUE=DATE:20250218
DTEND;VALUE=DATE:20250221
DTSTAMP:20260422T024415
CREATED:20241006T005540Z
LAST-MODIFIED:20250316T012205Z
UID:26586-1739836800-1740095999@marketing.com.au
SUMMARY:DeveloperWeek 2025
DESCRIPTION:Each year\, 8\,000+ developers\, engineers\, software architects\, dev teams\, managers\, and executives from 70+ countries gather for DeveloperWeek (Feb 11-13\, 2025\, San Francisco Bay Area & Feb 18-20\, 2025\, Live Online) to discover the latest in developer technologies\, languages\, platforms\, and tools. \nDeveloperWeek 2025 is the largest developer conference & event series including the DeveloperWeek 2025 Conference & Expo\, 1\,000+ attendee hackathon\, 800+ attendee tech hiring expo\, and a series of workshops\, technical talks\, and keynotes. \nBecause DeveloperWeek covers all new technologies\, our conference and workshops invite you to get intro lessons (or advanced tips and tricks) on technologies like VR Dev\, Artificial Intelligence Dev\, Blockchain Dev\, IoT Dev\, Serverless technology\, Microservices technology\, new JavaScript frameworks\, and more. \nThis year\, DeveloperWeek will have an expanded DevExec World\, which is 2 days of roundtable talks\, educational talks\, and networking events for engineering managers\, tech executives\, and lead developers. Additionally\, DeveloperWeek will be co-located with ProductWorld and AI DevWorld. \nDeveloperWeek puts the spotlight on new technologies. Companies that participated in past DeveloperWeek events include Google\, Facebook\, Yelp\, Rackspace\, IBM\, Cloudera\, Red Hat\, Optimizely\, SendGrid\, Blackberry\, Microsoft\, Neo Technology\, Eventbrite\, Klout\, Built.io\, Ripple\, GNIP\, Tagged\, HackReactor\, and 30+ more here!
URL:https://marketing.com.au/event/developerweek-2025/
LOCATION:Online
CATEGORIES:All Event Locations,All Event Topics,All Event Types,Coding,Data,Digital Marketing,eCommerce,Online
END:VEVENT
BEGIN:VEVENT
DTSTART;VALUE=DATE:20250219
DTEND;VALUE=DATE:20250220
DTSTAMP:20260422T024415
CREATED:20241006T014405Z
LAST-MODIFIED:20250316T012205Z
UID:26630-1739923200-1740009599@marketing.com.au
SUMMARY:Elevating MarTech Globally: Where Ideas Transcend Boundaries
DESCRIPTION:The Global Virtual MarTech Summit 2025 aims to not only leave you with new insight and knowledge\, but also hope to allow you to be able to reflect and improve on your own from gaining a broader view of the industry and also learning from others’ successes and failures. \nWe are back with our first virtual offering of 2025 covering both the EMEA & APAC regions. A brand new and exciting agenda awaiting filled with fireside chats and panels that featured many interesting conversations – all from the very best top industry talents. There are 20+ thought leaders & experts who revealed both pain points & best practices for the MarTech industry through significant topics such as recent advancements in AI & ML technology\, full funnel marketing\, talent acquisition and developments & so much more!
URL:https://marketing.com.au/event/elevating-martech-globally-where-ideas-transcend-boundaries/
LOCATION:Online
CATEGORIES:AI,All Event Locations,All Event Topics,All Event Types,Conference,Content Marketing,Data,Digital Marketing,Online
END:VEVENT
BEGIN:VEVENT
DTSTART;VALUE=DATE:20250225
DTEND;VALUE=DATE:20250226
DTSTAMP:20260422T024415
CREATED:20241005T061458Z
LAST-MODIFIED:20250316T012205Z
UID:26541-1740441600-1740527999@marketing.com.au
SUMMARY:Privacy & Compliance for Marketers
DESCRIPTION:In today’s digital age\, data plays a crucial role in marketing strategies. However\, with great power comes great responsibility. This course is designed to help marketing professional ensure that the collection\, management\, and utilization of data is done in a compliant and ethical manner. \nWith an emphasis on privacy\, this course equips marketers with the necessary skills to navigate the complex landscape of data regulations and minimize risk in their marketing activities breaching regulations and avoid the significant impacts that can result from a breach. \nWho is it ideal for: \nThis course is suitable for marketing professionals\, digital marketers\, data analysts\, and anyone involved in marketing activities that involve the collection\, management\, and utilization of data. \nLearning Outcomes: \nBy the end of this course\, participants will possess a solid understanding of the ethical considerations and legal obligations surrounding data privacy in marketing\, empowering them to make informed decisions and uphold the highest standards of privacy and compliance in their marketing endeavours. \n1. Understanding the Role of Data: Explore the significance of data in marketing and its various applications. \n2. Defining Personal and Sensitive Data: Learn to distinguish between different types of data and their levels of sensitivity. \n3. Data Flow in Organizations: Trace the journey of data from collection to storage and utilization within an organization. \n4. Regulatory Framework: Gain insights into the regulations governing the collection\, storage\, and use of personal data\, including GDPR\, CCPA\, and upcoming changes to the Privacy Act. \n5. Adherence to Principles: Explore key principles such as transparency\, accountability\, security\, and customer rights that underpin ethical data practices in marketing. \n6. Consequences of Breaches: Understand the financial and brand repercussions of breaching data regulations and the importance of compliance. \n7. Future Trends: Stay updated on upcoming changes to privacy regulations\, including amendments to the Privacy Act\, and their implications for marketing practices. \n8. Risk Minimization Strategies: Discover practical strategies and best practices to mitigate the risk of breaching data regulations in marketing activities. \nTopics covered: \nDay 1 – The data privacy landscape. \nModule 1: Introduction to Data in Marketing \n\nImportance of data in marketing\nCommon types of data used in marketing activities.\n\nModule 2: Overview of Data Regulations \n\nThe principles of data privacy\nIntroduction to key data privacy regulations (e.g.\, Privacy Act\, GDPR\, CCPA\,)\nUnderstanding the scope and implications of regulations on marketing activities\n\nModule 3: Data Collection Methods \n\nOverview of data collection techniques (e.g.\, website\, surveys\, CRM systems)\nBest practices for ethical data collection\nImportance of obtaining consent and transparency in data collection\n\nClass Activity: Focus on a recent campaign. Summarise the data collected and used. Identify any issues with how that data has been processed. \nDay 2 – Managing compliance. \nModule 4: Data Storage and Management \n\nUnderstanding data storage systems (e.g.\, databases\, cloud storage)\nSecurity measures to protect stored data.\nData retention policies and compliance requirements\n\nModule 5: Compliance Framework for Marketers \n\nBuilding a privacy compliance framework\nPractical steps for ensuring compliance in marketing campaigns and initiatives.\n\nModule 6: Risk Mitigation Strategies \n\nIdentifying common risks and vulnerabilities in marketing data practices\nStrategies for minimizing the risk of data breaches and non-compliance.\n\nClass Activity: Review the summaries and discuss implications for their organisation.
URL:https://marketing.com.au/event/privacy-compliance-for-marketers-3/
LOCATION:Online
CATEGORIES:All Event Locations,All Event Topics,All Event Types,Data,Digital Marketing,Online,Workshop
END:VEVENT
BEGIN:VEVENT
DTSTART;VALUE=DATE:20250226
DTEND;VALUE=DATE:20250228
DTSTAMP:20260422T024415
CREATED:20250127T013654Z
LAST-MODIFIED:20250316T012205Z
UID:26686-1740528000-1740700799@marketing.com.au
SUMMARY:Social Media Strategies Summit 2025
DESCRIPTION:Learn from a mix of industry leaders who will share the proven social media strategies they use to grow their brands. \n\n\n\nHere’s what our summit can help you achieve: \n\n\n\n\n\nLearn the nuts and bolts of a winning social media strategy to position your brand for success\, regardless of team size or budget. \n\n\n\n\n\n\nLeverage cross-industry case studies to help you gauge the best opportunities for your brand across social media platforms. \n\n\n\n\n\n\nAudit the efficacy of your brand’s social media\, content\, advertising\, and analytics to stay competitive. \n\n\n\n\n\n\nUnderstand how to explore\, define\, and engage your unique audiences to improve your brand’s online presence. \n\n\n\n\n\n\nTake advantage of our speakers’ knowledge\, creativity\, innovation\, and inspiration that will translate to hundreds of new ideas for you to take back to the office. \n\n\n\n\n\n\nCultivate an arsenal of tools\, resources\, and networking connections to keep your social media strategy fresh\, timely\, and relevant.
URL:https://marketing.com.au/event/social-media-strategies-summit-2025/
LOCATION:Online
CATEGORIES:All Event Locations,All Event Topics,All Event Types,Content Marketing,Digital Marketing,Marketing,Online,Social Media
END:VEVENT
END:VCALENDAR