BEGIN:VCALENDAR
VERSION:2.0
PRODID:-//Marketing.com.au - ECPv6.15.20//NONSGML v1.0//EN
CALSCALE:GREGORIAN
METHOD:PUBLISH
X-ORIGINAL-URL:https://marketing.com.au
X-WR-CALDESC:Events for Marketing.com.au
REFRESH-INTERVAL;VALUE=DURATION:PT1H
X-Robots-Tag:noindex
X-PUBLISHED-TTL:PT1H
BEGIN:VTIMEZONE
TZID:Australia/Melbourne
BEGIN:STANDARD
TZOFFSETFROM:+1100
TZOFFSETTO:+1000
TZNAME:AEST
DTSTART:20230401T160000
END:STANDARD
BEGIN:DAYLIGHT
TZOFFSETFROM:+1000
TZOFFSETTO:+1100
TZNAME:AEDT
DTSTART:20230930T160000
END:DAYLIGHT
BEGIN:STANDARD
TZOFFSETFROM:+1100
TZOFFSETTO:+1000
TZNAME:AEST
DTSTART:20240406T160000
END:STANDARD
BEGIN:DAYLIGHT
TZOFFSETFROM:+1000
TZOFFSETTO:+1100
TZNAME:AEDT
DTSTART:20241005T160000
END:DAYLIGHT
BEGIN:STANDARD
TZOFFSETFROM:+1100
TZOFFSETTO:+1000
TZNAME:AEST
DTSTART:20250405T160000
END:STANDARD
BEGIN:DAYLIGHT
TZOFFSETFROM:+1000
TZOFFSETTO:+1100
TZNAME:AEDT
DTSTART:20251004T160000
END:DAYLIGHT
END:VTIMEZONE
BEGIN:VEVENT
DTSTART;VALUE=DATE:20240704
DTEND;VALUE=DATE:20240705
DTSTAMP:20260422T172638
CREATED:20240602T041619Z
LAST-MODIFIED:20241006T014601Z
UID:26389-1720051200-1720137599@marketing.com.au
SUMMARY:SEO Masterclass
DESCRIPTION:This masterclass is based on over 25 years of search engine research and successful SEO for clients. \nTopics Covered \n\n\nHow to use AI such as ChatGPT To Supercharge Your SEO  – New Section!\n\nCase Studies: Websites That Have Run Successful SEO Campaigns\nCompetitor Analysis – Marketers will absolutely love this\nTools of the Trade – We will show you how you can use tools to gain valuable insights\nLIVE Website Clinic – Practical Demo using SEO Tools to Audit a Website\nWhat spam tactics must be avoided to prevent loss of revenue\nQ&A time to ensure the material is understood.\n\nWho Should Attend \nAny company\, organisation or individual who needs to drive more targeted traffic to their website will benefit from this training course. \nKey Learnings \n\nHow Google Works\nWhat factors cause a website to rank in organic search results (The 3 Main Pillars)\nOn-Page SEO (Meta tags\, Content)\nTechnical SEO (Site Architecture & Performance\nOff-Page SEO (Content Marketing & Digital PR)\nSPAM – What not to do\n\nNew Section:  How to use AI such as ChatGPT To Supercharge Your SEO \n\nWhat is Google’s stance on AI Content?\nAI Use Cases – Using AI\, ChatGPT for Content Creation – text\, images\, code\nSEO hacks using AI ChatGPT\nContent Marketing\nPrompt Engineering
URL:https://marketing.com.au/event/seo-masterclass-2/
LOCATION:Online
CATEGORIES:AI,All Event Locations,All Event Topics,All Event Types,Digital Marketing,Online,SEO
END:VEVENT
BEGIN:VEVENT
DTSTART;VALUE=DATE:20240711
DTEND;VALUE=DATE:20240712
DTSTAMP:20260422T172638
CREATED:20240602T041442Z
LAST-MODIFIED:20241006T014601Z
UID:26387-1720656000-1720742399@marketing.com.au
SUMMARY:Fundamentals of Market Research
DESCRIPTION:Welcome to the AMI Fundamentals of Market Research course\, where you will gain a working knowledge in market research techniques\, methods\, and applications. The course covers the different types of market research\, including qualitative\, quantitative\, and ethnographic research\, so you can identify the best method for your needs. \nOver the half day we will guide you through the entire market research process\, from defining research aims and objectives to selecting the right methodology and data collection techniques. You’ll learn how the experts design effective questionnaires\, analyse data\, and identify patterns and insights through quantitative and qualitative analysis and how to effectively communicate research findings through the elements of a research report\, storytelling\, data visualisation techniques\, and tips for giving effective presentations. \nBy the end of this course\, you’ll have a foundation understanding of market research and a working knowledge of the skills required to conduct effective research that informs decision-making in marketing and related fields. \nJoin us and take the first step towards becoming adept in conducting and/or commissioning market research. \nWho should attend \nOverall\, this market research course is designed to be accessible and useful for a wide range of professionals and would particularly suit either those who are starting to undertake market research as part of their current or future careers\, those who are already undertaking some market research and want to build on their skills and those who are commissioning research on behalf of their organisation. \n \nLearning Outcomes: \n\nDevelop a foundational understanding of market research\, including its definition\, types\, and applications in marketing and related fields.\nIdentify the best method for your market research needs by learning about qualitative\, quantitative\, and ethnographic research methods.\nGain a working knowledge of the market research process\, from defining research aims and objectives to selecting appropriate data collection techniques and methods.\nUnderstand what is required to design effective questionnaires\, analyse data\, and identify patterns and insights through quantitative and qualitative analysis.\nLearn how to effectively communicate research findings by understanding the elements of a research report\, storytelling\, data visualisation techniques\, and tips for giving effective presentations.\n\nTopics covered:  \nIntroduction \n\nWhat is Market Research\nThe different types (Qualitative\, Quantitative\, Ethnographic) of research explained.\nUnderstanding the research process (An overview)\nSome typical applications of Market Research\n\nWriting the Brief \n\nWhat lead us to research (background and the need for research)\nWhat are we trying to solve? (The business problem)\nHow to translate a business problem into a research aim (Research objectives)\nThings to consider for the approach. (Methodological considerations)\nWhat are you looking to get out of it? (Deliverables and anticipated outcomes)\nSetting a scope\, budget\, and a timeframe.\n\nResearch Design \n\nWho are we going to speak to in the research (Defining the target group)\nWhat method(s) will we use (Choosing a methodology)\nUnderstanding sources of error and how to mitigate them (Sampling & non sampling error)\n\nQuestion Design \n\nIntroduction to writing a topic guide for qualitative research\nIntroduction to writing a questionnaire for quantitative\n\nData Collection and Analysis \n\nUnderstanding the different ways of collecting data\nQualitative – focus groups\, In depth interviews\, communities\nQuantitative – online\, phone\, face to face\nEthnographic – observations\nAnalysis\nIdentifying patterns\, themes\, and insights from qualitative data\nAn introduction to data processing & analysis for quantitative data\n\nReporting and Presenting Research Findings \n\nHow to build a plan for a Research Report\nFinding your story in the data\nIntroduction to effectively visualisation your data\nTips on conducting an effective research presentation
URL:https://marketing.com.au/event/fundamentals-of-market-research/
LOCATION:Online
CATEGORIES:All Event Locations,All Event Topics,All Event Types,Market Research,Online
END:VEVENT
BEGIN:VEVENT
DTSTART;TZID=Australia/Melbourne:20240712T080000
DTEND;TZID=Australia/Melbourne:20240712T170000
DTSTAMP:20260422T172638
CREATED:20240602T051927Z
LAST-MODIFIED:20241006T014601Z
UID:26400-1720771200-1720803600@marketing.com.au
SUMMARY:Facebook Marketing Fundamentals
DESCRIPTION:Boost sales\, generate leads\, improve customer service and increase brand awareness on Facebook. Maximise the power of social media with Facebook\, the home of online community building. Entertain and engage Create a Uncover the value of meta business suite\, Facebook shops\, business pages\, groups\, services\, messenger and ads manager\, and more. \nKey Outcomes \n· Creating a Presence \n· Building a Community \n· Content Campaigns \n· Shop & Service Ecommerce Features \n· Meta Business Suite Ads \n· Analytics \nKey Promises \n· Comprehensive Curriculum: Explore the core concepts\, including the marketing environment\, consumer buyer behaviour\, segmentation\, targeting\, positioning\, branding\, and the marketing mix. \n· Practical Insights: Dive into real-world applications through hands-on activities\, practical demonstrations\, and access to a cutting-edge e-learning platform. \n· Expert Guidance: Learn from seasoned professionals with industry experience\, providing invaluable insights and strategies to boost your marketing prowess.
URL:https://marketing.com.au/event/facebook-marketing-fundamentals/
LOCATION:Online
CATEGORIES:Advertising,All Event Locations,All Event Topics,All Event Types,Online,PPC
END:VEVENT
BEGIN:VEVENT
DTSTART;TZID=Australia/Melbourne:20240722T080000
DTEND;TZID=Australia/Melbourne:20240722T170000
DTSTAMP:20260422T172638
CREATED:20240602T052044Z
LAST-MODIFIED:20241006T014600Z
UID:26402-1721635200-1721667600@marketing.com.au
SUMMARY:Marketing 101: Principles of Marketing
DESCRIPTION:A comprehensive and accelerated program designed to immerse you in the fundamentals of marketing in just five days. This intensive course is crafted for individuals eager to grasp the essential principles that underpin successful marketing strategies. This course covers the core marketing fundamentals including the marketing environment\, buyer behaviour\, segmentation\, targeting\, positioning and branding. This course is designed for learners new to marketing.
URL:https://marketing.com.au/event/marketing-101-principles-of-marketing/
LOCATION:Online
CATEGORIES:All Event Locations,All Event Topics,All Event Types,Online
END:VEVENT
BEGIN:VEVENT
DTSTART;TZID=Australia/Melbourne:20240723T080000
DTEND;TZID=Australia/Melbourne:20240723T170000
DTSTAMP:20260422T172638
CREATED:20240602T040916Z
LAST-MODIFIED:20241006T014600Z
UID:26385-1721721600-1721754000@marketing.com.au
SUMMARY:Chat GPT 101 – Fundamentals for Marketers
DESCRIPTION:ChatGPT is now an essential part of Marketing\, offering businesses an opportunity to tap into the enormous potential of generative AI. However\, it’s also a complex\, evolving and sometimes unpredictable platform\, meaning it can feel overwhelming. \nIn this masterclass\, we’ll cover the fundamentals\, including theory\, tips\, tricks\, tasks and tools to get you started\, and introduce you to mindsets and approaches to set you up for ChatGPT success. \nThis course\, which blends insights and knowledge with practical elements and interactive sections\, will leave you with the essentials you need to feel far more confident with ChatGPT and its practical applications in your career. \nWho Should Attend \nMarketers curious about ChatGPT\nThose who have only scratched the surface of ChatGPT\nMarketers who are pressed for time\nMarketers who want to upskill in AI\nPeople who want to harness ChatGPT for content drafting\nBusiness professionals who see ChatGPT’s importance but can’t imagine        what it looks like in their business\nTopics Covered \nGetting started on ChatGPT\nHow it works and how to work with it (Human/AI process)\nUse cases and approaches to ChatGPT’s applications\nBenefits vs Challenges and what to do\nHow to get started and best practises\nContext windows and source materials\nInteracting with ChatGPT to get the best output\nApplying marketing and copywriting principles to ChatGPT’s content\nPriming ChatGPT\nPrompt Engineering\nCreating Customer Personas for continued use\nTones of Voice\nLinked Applications\nUsing ChatGPT to produce content
URL:https://marketing.com.au/event/chat-gpt-101-fundamentals-for-marketers/
LOCATION:Online
CATEGORIES:AI,All Event Locations,All Event Topics,All Event Types,Marketing,Online
END:VEVENT
BEGIN:VEVENT
DTSTART;VALUE=DATE:20240724
DTEND;VALUE=DATE:20240725
DTSTAMP:20260422T172638
CREATED:20240602T040641Z
LAST-MODIFIED:20241006T014600Z
UID:26383-1721779200-1721865599@marketing.com.au
SUMMARY:Mastering LinkedIn Build Connections\, Drive Engagement and Accelerate Your Business
DESCRIPTION:Unlock the potential of LinkedIn with expert guidance from Karen Tisdell\, one of Australia’s leading LinkedIn marketing experts. \nJoin us for an exclusive live workshop where you’ll gain the skills and knowledge needed to elevate both your personal and company profiles on LinkedIn. \nIn this workshop\, Karen will provide a step-by-step approach to mastering LinkedIn marketing. You’ll learn to optimise your profile and company page\, understand LinkedIn’s features\, and uncover hidden opportunities to build a strong presence on the platform. \nWhat you will learn \nOptimising Your Profile: Learn how to create a compelling LinkedIn profile that attracts attention and builds credibility.\nElevating Your Company Page: Strategies for enhancing your company’s LinkedIn presence to effectively showcase its value proposition.\nContent Strategies That Work: Understand how to craft content that resonates with your audience and drives engagement.\nNetworking Effectively: Gain insights into building meaningful connections and expanding your professional network.\nLinkedIn Analytics: Discover how to analyse and interpret your performance to refine your LinkedIn strategy.\nBy the end\, you’ll know how to create a LinkedIn presence that attracts more leads and conversions. You’ll also leave the workshop with more clarity and confidence to implement your LinkedIn strategy effectively. \nWho should attend \nThis workshop is perfect for professionals looking to enhance their personal and company LinkedIn presence\, including marketers\, business owners\, and HR professionals.
URL:https://marketing.com.au/event/mastering-linkedin-build-connections-drive-engagement-and-accelerate-your-business/
LOCATION:Online
CATEGORIES:Advertising,All Event Locations,All Event Topics,All Event Types,B2B,Communications,Digital Marketing,Management,Market Research,Marketing,Online
END:VEVENT
END:VCALENDAR