BEGIN:VCALENDAR
VERSION:2.0
PRODID:-//Marketing.com.au - ECPv6.15.20//NONSGML v1.0//EN
CALSCALE:GREGORIAN
METHOD:PUBLISH
X-ORIGINAL-URL:https://marketing.com.au
X-WR-CALDESC:Events for Marketing.com.au
REFRESH-INTERVAL;VALUE=DURATION:PT1H
X-Robots-Tag:noindex
X-PUBLISHED-TTL:PT1H
BEGIN:VTIMEZONE
TZID:Australia/Melbourne
BEGIN:STANDARD
TZOFFSETFROM:+1100
TZOFFSETTO:+1000
TZNAME:AEST
DTSTART:20230401T160000
END:STANDARD
BEGIN:DAYLIGHT
TZOFFSETFROM:+1000
TZOFFSETTO:+1100
TZNAME:AEDT
DTSTART:20230930T160000
END:DAYLIGHT
BEGIN:STANDARD
TZOFFSETFROM:+1100
TZOFFSETTO:+1000
TZNAME:AEST
DTSTART:20240406T160000
END:STANDARD
BEGIN:DAYLIGHT
TZOFFSETFROM:+1000
TZOFFSETTO:+1100
TZNAME:AEDT
DTSTART:20241005T160000
END:DAYLIGHT
BEGIN:STANDARD
TZOFFSETFROM:+1100
TZOFFSETTO:+1000
TZNAME:AEST
DTSTART:20250405T160000
END:STANDARD
BEGIN:DAYLIGHT
TZOFFSETFROM:+1000
TZOFFSETTO:+1100
TZNAME:AEDT
DTSTART:20251004T160000
END:DAYLIGHT
END:VTIMEZONE
BEGIN:VEVENT
DTSTART;VALUE=DATE:20240502
DTEND;VALUE=DATE:20240503
DTSTAMP:20260423T042239
CREATED:20240309T060712Z
LAST-MODIFIED:20240610T103843Z
UID:26303-1714608000-1714694399@marketing.com.au
SUMMARY:Digital Marketing Fundamentals
DESCRIPTION:We’ll dive into the latest online trends before introducing the importance of knowing your brand value and audience. We’ll then dive into the fundamentals of key digital marketing channels and how you might use them. \nWe will use real life examples to give you a better understanding of key channels like\, search engine marketing and SEO\, social media\, email marketing\, content and more. \nLearning Outcomes \n\nGet a basic understanding of key digital marketing channels\nLearn key digital terminology\nGet a introductory insight into the key channels\nGet up to date with latest concepts\n\nIf you want to learn more about the fundamentals of digital marketing\, get a introductory insight into the key channels and get up to date with latest lingo and concepts\, this 4-hour workshop is for you. \nThis hands on workshop will deliver actionable insight to get your started in digital marketing\, whether you are new to digital or looking to enhance your learning. \nTopics Covered \n\nDigital trends\nThe importance of knowing your brand value\nUnderstanding your audience\nHow to set your objectives for success\nSearch engine marketing basics\nSEO basics\nSocial media basics\nEmail marketing
URL:https://marketing.com.au/event/digital-marketing-fundamentals-3/
LOCATION:Online
CATEGORIES:All Event Locations,All Event Topics,All Event Types,Digital Marketing,Online
END:VEVENT
BEGIN:VEVENT
DTSTART;VALUE=DATE:20240515
DTEND;VALUE=DATE:20240517
DTSTAMP:20260423T042239
CREATED:20231008T051409Z
LAST-MODIFIED:20240610T103842Z
UID:26032-1715731200-1715903999@marketing.com.au
SUMMARY:Social Media Strategies Summit - Public Agencies & Government 2024
DESCRIPTION:Two jam-packed days tailored to your role in public service. Don’t miss this government social media conference!\n\nWe bring over 10 years of experience in social media education. That means you can count on a vetted\, specially curated series of sessions and seasoned\, experienced speakers to tackle topics that have the biggest impact on your agency or office’s social media strategy. \n\n\n\n\n\nShare experiences and learn new social media strategies with your government and public agency colleagues from around the globe — virtually! \n\n\n\n\n\n\nNetwork with government employee peers from across the country. SMSsummit is your best resource for fresh social media ideas and community building strategies. \n\n\n\n\n\n\nGet all your social media questions answered through speaker Q&A\, live chat\, and discussions with other attendees. \n\n\n\n\n\n\nBe your team’s social media champion! We’ll help you build the foundations of a sustainable social media policy that help you serve your community best. \n\n\n\n\n\n\nLearn strategies for tackling issues most important to government agencies\, including social media and crisis communications\, improving agency reputation\, and building community relationships. \n\n\n\n\n\n\nAssess and audit your current social media initiatives. Learn how to humanize your agency and build public trust in an era when transparency and authenticity is more important than ever.
URL:https://marketing.com.au/event/social-media-strategies-summit-public-agencies-government-2024/
LOCATION:Online
CATEGORIES:All Event Locations,All Event Topics,All Event Types,Online,Social Media
END:VEVENT
BEGIN:VEVENT
DTSTART;VALUE=DATE:20240518
DTEND;VALUE=DATE:20240520
DTSTAMP:20260423T042239
CREATED:20240309T053756Z
LAST-MODIFIED:20240610T103841Z
UID:26275-1715990400-1716163199@marketing.com.au
SUMMARY:5th International Conference on Natural Language Computing and AI (NLCAI 2024)
DESCRIPTION:5th International Conference on Natural Language Computing and AI (NLCAI 2024) will provide an excellent international forum for sharing knowledge and results in theory\, methodology and applications of Natural Language Computing\, and AI. The Conference looks for significant contributions to all major fields of the Natural Language processing and machine learning in theoretical and practical aspects. \nAuthors are solicited to contribute to the conference by submitting articles that illustrate research results\, projects\, surveying works and industrial experiences that describe significant advances in the areas of Natural Language Computing and AI. \nTopics of interest include\, but are not limited to\, the following: \n• Artificial Intelligence\, Deep Learning\n• Big Data and Data Mining\n• Chunking/Shallow Parsing\n• Dialog Systems\n• Discourse\n• Information Extraction / Retrieval\n• Lexical Semantics\n• Linguistic Resources\n• Machine Learning for NLP\n• Machine Translation\, Cross lingual and Multilingual applications\n• Natural Language Processing\n• Ontology\n• Paraphrasing/Entailment/Generation\n• Phonology\,Morpholog\n• POS Tagging\n• Question Answering\n• Semantic Processing\n• Social Media and Social Network Analysis\n• Spoken Language Processing Speech Generation and Recognition\n• Statistical and Knowledge based Methods\n• Text Mining \nPaper Submission \nAuthors are invited to submit papers through the conference Submission System. Submissions must be original and should not have been published previously or be under consideration for publication while being evaluated for this conference. The proceedings of the conference will be published by Computer Science Conference Proceedings in Computer Science & Information Technology (CS & IT) series (Confirmed). \nSelected papers from NLCAI 2024\, after further revisions\, will be published in the special issues of the following journals\n• International Journal on Natural Language Computing (IJNLC)\n• International Journal of Web & Semantic Technology (IJWesT) – IS Indexed\n• Machine Learning and Applications: An International Journal (MLAIJ)\n• International Journal of Computer Science & Information Technology (IJCSIT) – INSPEC\, WJCI Indexed\n• International Journal of Artificial Intelligence & Applications (IJAIA)
URL:https://marketing.com.au/event/5th-international-conference-on-natural-language-computing-and-ai-nlcai-2024/
LOCATION:Online
CATEGORIES:AI,All Event Locations,All Event Topics,All Event Types,Online
END:VEVENT
END:VCALENDAR