BEGIN:VCALENDAR
VERSION:2.0
PRODID:-//Marketing.com.au - ECPv6.15.20//NONSGML v1.0//EN
CALSCALE:GREGORIAN
METHOD:PUBLISH
X-WR-CALNAME:Marketing.com.au
X-ORIGINAL-URL:https://marketing.com.au
X-WR-CALDESC:Events for Marketing.com.au
REFRESH-INTERVAL;VALUE=DURATION:PT1H
X-Robots-Tag:noindex
X-PUBLISHED-TTL:PT1H
BEGIN:VTIMEZONE
TZID:Australia/Melbourne
BEGIN:STANDARD
TZOFFSETFROM:+1100
TZOFFSETTO:+1000
TZNAME:AEST
DTSTART:20220402T160000
END:STANDARD
BEGIN:DAYLIGHT
TZOFFSETFROM:+1000
TZOFFSETTO:+1100
TZNAME:AEDT
DTSTART:20221001T160000
END:DAYLIGHT
BEGIN:STANDARD
TZOFFSETFROM:+1100
TZOFFSETTO:+1000
TZNAME:AEST
DTSTART:20230401T160000
END:STANDARD
BEGIN:DAYLIGHT
TZOFFSETFROM:+1000
TZOFFSETTO:+1100
TZNAME:AEDT
DTSTART:20230930T160000
END:DAYLIGHT
BEGIN:STANDARD
TZOFFSETFROM:+1100
TZOFFSETTO:+1000
TZNAME:AEST
DTSTART:20240406T160000
END:STANDARD
BEGIN:DAYLIGHT
TZOFFSETFROM:+1000
TZOFFSETTO:+1100
TZNAME:AEDT
DTSTART:20241005T160000
END:DAYLIGHT
END:VTIMEZONE
BEGIN:VEVENT
DTSTART;VALUE=DATE:20231204
DTEND;VALUE=DATE:20231206
DTSTAMP:20260423T125141
CREATED:20231029T045929Z
LAST-MODIFIED:20240610T103855Z
UID:26052-1701648000-1701820799@marketing.com.au
SUMMARY:Essentials of Marketing with the American Management Association
DESCRIPTION:As a business professional\, you need to have a clear understanding of your markets and what drives your customers’ decisions to buy. In this course\, you’ll get modern techniques for analyzing markets and quantifying customer needs\, wants\, and preferences (NWP). \nLearn tactics to utilize the 4 Ps of Marketing (Product\, Price\, Place\, and Promotion) and proven tools and methods to avoid the most common marketing mistakes. In hands-on activities\, you’ll discover how to implement the right approach for your company’s unique needs.
URL:https://marketing.com.au/event/essentials-of-marketing-with-the-american-management-association/
LOCATION:Online
CATEGORIES:Advertising,All Event Locations,All Event Topics,All Event Types,Marketing,Online
END:VEVENT
BEGIN:VEVENT
DTSTART;VALUE=DATE:20231205
DTEND;VALUE=DATE:20231206
DTSTAMP:20260423T125141
CREATED:20231008T045331Z
LAST-MODIFIED:20240610T103854Z
UID:26021-1701734400-1701820799@marketing.com.au
SUMMARY:Virtual Conference: Martech: Automation & AI
DESCRIPTION:Explore the cutting-edge technologies transforming the marketing landscape\, with expert speakers sharing insights on harnessing automation and AI to boost your campaigns. \nAll conference material\, including presentations\, will be available on-demand in the 2023 AMA Martech Virtual Conference Attendee Hub within 24 hours\, if not sooner.
URL:https://marketing.com.au/event/virtual-conference-martech-automation-ai/
LOCATION:Online
CATEGORIES:AI,All Event Locations,All Event Topics,All Event Types,Online
END:VEVENT
BEGIN:VEVENT
DTSTART;VALUE=DATE:20231205
DTEND;VALUE=DATE:20231206
DTSTAMP:20260423T125141
CREATED:20231029T050325Z
LAST-MODIFIED:20240610T103854Z
UID:26055-1701734400-1701820799@marketing.com.au
SUMMARY:Deep Dive into AI
DESCRIPTION:A one-day virtual event that will address the marketing touch points you need to drive and impact your strategy. \n\nThe latest in game-changing tactics and tools impacting your current marketing strategy: \n\n\n\n\n\nAccessibility\nAI & Chat GPT\nB2B Marketing\nBranding\nContent Planning & Development\nCreative & Design\nCustomer Journeys\nData & Analytics\nDisruptive Tech\neCommerce\nEmail Deliverability & Engagement\n\n\nFuture-proofing Tactics\nGoogle Analytics 4\nInclusivity\nInfluencer Marketing\nKeyword Research\nKPI’s & Stakeholder Management\nLead Gen\nMarTech Solutions\nMental Health & Professional Growth\nOmnichannel\nPaid Ads\n\n\nPersonas\nPodcasting\nReels & Stories\nSEO Performance & Strategy\nSocial Strategy for Facebook\, Instagram\, Linkedin\, Tiktok\, Twitter\nStorytelling\nUX & Consumer Behavior\nViral Branding & Messaging\nWebsite UX
URL:https://marketing.com.au/event/deep-dive-into-ai/
LOCATION:Online
CATEGORIES:AI,All Event Locations,All Event Topics,All Event Types,Online
END:VEVENT
BEGIN:VEVENT
DTSTART;TZID=Australia/Melbourne:20231205T150000
DTEND;TZID=Australia/Melbourne:20231205T160000
DTSTAMP:20260423T125141
CREATED:20231008T052137Z
LAST-MODIFIED:20240610T103854Z
UID:26038-1701788400-1701792000@marketing.com.au
SUMMARY:Looking Ahead | Digital Marketing Trends to Watch Out for in 2024
DESCRIPTION:With digital presence holding unprecedented importance in this day and age\, the marketing landscape is undergoing a whirlwind transformation. The strategies that worked yesterday may not cut it tomorrow. \nJoin us to hear from industry experts as they unveil the emerging digital marketing trends to watch out for in 2024. Picture AI-fueled campaigns that set your brand apart\, immersive experiences that captivate your audience\, and influencer authenticity that forges real connections. \nWhether you are running a business or marketing for one\, this webinar will assist you in refining your marketing strategies and igniting your creativity to enhance your marketing efforts in 2024.
URL:https://marketing.com.au/event/looking-ahead-digital-marketing-trends-to-watch-out-for-in-2024/
LOCATION:Online
CATEGORIES:All Event Locations,All Event Topics,All Event Types,Online
END:VEVENT
BEGIN:VEVENT
DTSTART;VALUE=DATE:20231207
DTEND;VALUE=DATE:20231208
DTSTAMP:20260423T125141
CREATED:20231029T045349Z
LAST-MODIFIED:20240610T103854Z
UID:26050-1701907200-1701993599@marketing.com.au
SUMMARY:Global Virtual MarTech Exchange Summit APAC 2023
DESCRIPTION:As an integral part of The Global MarTech Summit\, the APAC track promises to uncover both challenges and success stories in the realm of MarTech\, predictive analytics\, marketing strategy\, and upcoming trends specific to the APAC region. \nJoin us at the event\, where we will cover Digital Revolution and MarTech Innovation through topics on Marketing Analytics\, AI & Email Marketing\, Marketing Automation\, CRM\, Digital Engagement and Personalisation. \nWelcome to the Global Virtual MarTech Exchange Summit APAC where industry thought leaders and pioneer service providers come together.
URL:https://marketing.com.au/event/global-virtual-martech-exchange-summit-apac-2023/
LOCATION:Online
CATEGORIES:All Event Locations,All Event Topics,All Event Types,Content Marketing,Data,Digital Marketing,Online
END:VEVENT
BEGIN:VEVENT
DTSTART;TZID=Australia/Melbourne:20231207T180000
DTEND;TZID=Australia/Melbourne:20231207T200000
DTSTAMP:20260423T125141
CREATED:20231008T052236Z
LAST-MODIFIED:20240610T103853Z
UID:26040-1701972000-1701979200@marketing.com.au
SUMMARY:Beginner's Guide to Digital Marketing
DESCRIPTION:Understanding the landscape and strategy of Digital Marketing today is key to building your brand and driving the bottom line for your business. \nIn this free\, two-hour livestream\, you’ll explore the components of brand building and see how modern marketers drive successful campaigns using content\, email\, social media\, paid advertising channels\, and more. All in real time\, taught by an industry professional. \nCome learn the basics and gain the skills you need to create your first digital marketing campaign!
URL:https://marketing.com.au/event/beginners-guide-to-digital-marketing/
CATEGORIES:All Event Locations,All Event Topics,All Event Types,Digital Marketing,Online
END:VEVENT
BEGIN:VEVENT
DTSTART;TZID=Australia/Melbourne:20231214T180000
DTEND;TZID=Australia/Melbourne:20231214T200000
DTSTAMP:20260423T125141
CREATED:20231008T052347Z
LAST-MODIFIED:20240610T103853Z
UID:26042-1702576800-1702584000@marketing.com.au
SUMMARY:Beginner's Guide to Product Management
DESCRIPTION:Product management is the ultimate craft of shaping ideas into reality\, and it’s hotter than a freshly brewed cup of coffee. It’s all about bringing together technology\, creativity\, and business savvy to create products that make waves in the market. \nIn this free\, 2-hour class\, get hands-on experience with the fundamentals of Product Management and understand what you need to become a Product Manager yourself! \nWe will touch on key tools and techniques for testing\, designing and improving products. Step into the world of product management and explore how product managers use leadership and versatility to launch products that people love.
URL:https://marketing.com.au/event/beginners-guide-to-product-management/
LOCATION:Online
CATEGORIES:All Event Locations,All Event Topics,All Event Types,Online
END:VEVENT
END:VCALENDAR