BEGIN:VCALENDAR
VERSION:2.0
PRODID:-//Marketing.com.au - ECPv6.15.20//NONSGML v1.0//EN
CALSCALE:GREGORIAN
METHOD:PUBLISH
X-WR-CALNAME:Marketing.com.au
X-ORIGINAL-URL:https://marketing.com.au
X-WR-CALDESC:Events for Marketing.com.au
REFRESH-INTERVAL;VALUE=DURATION:PT1H
X-Robots-Tag:noindex
X-PUBLISHED-TTL:PT1H
BEGIN:VTIMEZONE
TZID:Australia/Melbourne
BEGIN:STANDARD
TZOFFSETFROM:+1100
TZOFFSETTO:+1000
TZNAME:AEST
DTSTART:20130406T160000
END:STANDARD
BEGIN:DAYLIGHT
TZOFFSETFROM:+1000
TZOFFSETTO:+1100
TZNAME:AEDT
DTSTART:20131005T160000
END:DAYLIGHT
BEGIN:STANDARD
TZOFFSETFROM:+1100
TZOFFSETTO:+1000
TZNAME:AEST
DTSTART:20140405T160000
END:STANDARD
BEGIN:DAYLIGHT
TZOFFSETFROM:+1000
TZOFFSETTO:+1100
TZNAME:AEDT
DTSTART:20141004T160000
END:DAYLIGHT
BEGIN:STANDARD
TZOFFSETFROM:+1100
TZOFFSETTO:+1000
TZNAME:AEST
DTSTART:20150404T160000
END:STANDARD
BEGIN:DAYLIGHT
TZOFFSETFROM:+1000
TZOFFSETTO:+1100
TZNAME:AEDT
DTSTART:20151003T160000
END:DAYLIGHT
END:VTIMEZONE
BEGIN:VEVENT
DTSTART;TZID=Australia/Melbourne:20141024T090000
DTEND;TZID=Australia/Melbourne:20141024T160000
DTSTAMP:20260424T154522
CREATED:20141001T220306Z
LAST-MODIFIED:20141001T220306Z
UID:5963-1414141200-1414166400@marketing.com.au
SUMMARY:Cultivator - Where Creative Minds Meet
DESCRIPTION:One event\, five speakers\, opening the door to new ways of thinking. \nCultivator is a dynamic annual event that brings together guest speakers\, from varied backgrounds\, to address the challenges of regional living and looks to creativity in design\, enterprise and community\, to find solutions. \nEach speaker offers valuable insights into the fundamental importance of innovative thought and design in both business and social settings and explores the journey from idea to outcome. \nSpeakers \n\nPam Dorr Designer / Social Enterprise – (USA)\nKane Hibberd Photographer (Australia)\nAlison Page Indigenous Designer / Artist (Australia)\nJihad Dib Community / Education Leader (Australia)\nOne more TBA…
URL:https://marketing.com.au/event/cultivator-creative-minds-meet/
LOCATION:Mildura Arts Centre\, 199 Cureton Avenue\, Mildura\, Victoria\, 3500\, Australia
CATEGORIES:All Event Locations,All Event Topics,All Event Types,Conference,Graphic Design,Mildura
END:VEVENT
END:VCALENDAR