BEGIN:VCALENDAR
VERSION:2.0
PRODID:-//Marketing.com.au - ECPv6.15.20//NONSGML v1.0//EN
CALSCALE:GREGORIAN
METHOD:PUBLISH
X-ORIGINAL-URL:https://marketing.com.au
X-WR-CALDESC:Events for Marketing.com.au
REFRESH-INTERVAL;VALUE=DURATION:PT1H
X-Robots-Tag:noindex
X-PUBLISHED-TTL:PT1H
BEGIN:VTIMEZONE
TZID:Australia/Melbourne
BEGIN:STANDARD
TZOFFSETFROM:+1100
TZOFFSETTO:+1000
TZNAME:AEST
DTSTART:20240406T160000
END:STANDARD
BEGIN:DAYLIGHT
TZOFFSETFROM:+1000
TZOFFSETTO:+1100
TZNAME:AEDT
DTSTART:20241005T160000
END:DAYLIGHT
BEGIN:STANDARD
TZOFFSETFROM:+1100
TZOFFSETTO:+1000
TZNAME:AEST
DTSTART:20250405T160000
END:STANDARD
BEGIN:DAYLIGHT
TZOFFSETFROM:+1000
TZOFFSETTO:+1100
TZNAME:AEDT
DTSTART:20251004T160000
END:DAYLIGHT
BEGIN:STANDARD
TZOFFSETFROM:+1100
TZOFFSETTO:+1000
TZNAME:AEST
DTSTART:20260404T160000
END:STANDARD
BEGIN:DAYLIGHT
TZOFFSETFROM:+1000
TZOFFSETTO:+1100
TZNAME:AEDT
DTSTART:20261003T160000
END:DAYLIGHT
END:VTIMEZONE
BEGIN:VEVENT
DTSTART;VALUE=DATE:20251125
DTEND;VALUE=DATE:20251126
DTSTAMP:20260420T204803
CREATED:20250907T014748Z
LAST-MODIFIED:20250907T022313Z
UID:27067-1764028800-1764115199@marketing.com.au
SUMMARY:Victorian Business Writers Conference 2025
DESCRIPTION:The Victorian Business Writers Conference 2025 is our one-day training event for corporate and government content writers. Since 2012\, this event has helped people increase their corporate writing skills and knowledge of best practice – and spend a great day with like-minded people. \nThis year\, our talented experts will give us real-world\, easy-to-implement advice on: \n\nmaking the most of Generative AI in our roles – and starting our AI journey\nediting content to a high standard when there’s no time for perfection\nunderstanding emotional triggers to create more effective change communication\nand more!
URL:https://marketing.com.au/event/victorian-business-writers-conference-2025-2/
LOCATION:RACV City Club\, 501 Bourke Street\, Melbourne\, VIC\, 3000
CATEGORIES:All Event Locations,All Event Topics,All Event Types,Communications,Content Marketing,Melbourne
END:VEVENT
END:VCALENDAR