BEGIN:VCALENDAR
VERSION:2.0
PRODID:-//Marketing.com.au - ECPv6.15.20//NONSGML v1.0//EN
CALSCALE:GREGORIAN
METHOD:PUBLISH
X-ORIGINAL-URL:https://marketing.com.au
X-WR-CALDESC:Events for Marketing.com.au
REFRESH-INTERVAL;VALUE=DURATION:PT1H
X-Robots-Tag:noindex
X-PUBLISHED-TTL:PT1H
BEGIN:VTIMEZONE
TZID:Australia/Melbourne
BEGIN:STANDARD
TZOFFSETFROM:+1100
TZOFFSETTO:+1000
TZNAME:AEST
DTSTART:20170401T160000
END:STANDARD
BEGIN:DAYLIGHT
TZOFFSETFROM:+1000
TZOFFSETTO:+1100
TZNAME:AEDT
DTSTART:20170930T160000
END:DAYLIGHT
BEGIN:STANDARD
TZOFFSETFROM:+1100
TZOFFSETTO:+1000
TZNAME:AEST
DTSTART:20180331T160000
END:STANDARD
BEGIN:DAYLIGHT
TZOFFSETFROM:+1000
TZOFFSETTO:+1100
TZNAME:AEDT
DTSTART:20181006T160000
END:DAYLIGHT
BEGIN:STANDARD
TZOFFSETFROM:+1100
TZOFFSETTO:+1000
TZNAME:AEST
DTSTART:20190406T160000
END:STANDARD
BEGIN:DAYLIGHT
TZOFFSETFROM:+1000
TZOFFSETTO:+1100
TZNAME:AEDT
DTSTART:20191005T160000
END:DAYLIGHT
END:VTIMEZONE
BEGIN:VEVENT
DTSTART;VALUE=DATE:20181012
DTEND;VALUE=DATE:20181013
DTSTAMP:20260420T042107
CREATED:20180827T111819Z
LAST-MODIFIED:20201002T005729Z
UID:12207-1539302400-1539388799@marketing.com.au
SUMMARY:Click Engage Convert
DESCRIPTION:This event will focus on taking a strategic approach to digital marketing\, exploring the opportunities and highlighting best-practice approaches to build online presence and effectiveness. \nSome of the topics that will be covered are social media\, email marketing\, messenger marketing\, video marketing\, content creation\, SEO\, website optimisation plus much more. \nSpeakers include: \n\nJinal Mehta\, Google\nLoren Bartley\, Facebook Ad Specialist\nJessika Phillips\, Relationship Marketing Expert\nHunter Boyle\, Growth & Optimisation Specialist\nKate Toon\, SEO & Copywriting Expert\nBen Amos\, Video Strategis6\, plus more
URL:https://marketing.com.au/event/click-engage-convert/
LOCATION:National Australia Bank\, 700 Bourke Street\, Melbourne\, VIC\, 3000\, Australia
CATEGORIES:All Event Locations,All Event Topics,All Event Types,Content Marketing,Digital Marketing,Marketing,Melbourne,Presentation,SEO,Social Media,Workshop
END:VEVENT
END:VCALENDAR