BEGIN:VCALENDAR
VERSION:2.0
PRODID:-//Marketing.com.au - ECPv6.15.20//NONSGML v1.0//EN
CALSCALE:GREGORIAN
METHOD:PUBLISH
X-ORIGINAL-URL:https://marketing.com.au
X-WR-CALDESC:Events for Marketing.com.au
REFRESH-INTERVAL;VALUE=DURATION:PT1H
X-Robots-Tag:noindex
X-PUBLISHED-TTL:PT1H
BEGIN:VTIMEZONE
TZID:Australia/Melbourne
BEGIN:STANDARD
TZOFFSETFROM:+1100
TZOFFSETTO:+1000
TZNAME:AEST
DTSTART:20170401T160000
END:STANDARD
BEGIN:DAYLIGHT
TZOFFSETFROM:+1000
TZOFFSETTO:+1100
TZNAME:AEDT
DTSTART:20170930T160000
END:DAYLIGHT
BEGIN:STANDARD
TZOFFSETFROM:+1100
TZOFFSETTO:+1000
TZNAME:AEST
DTSTART:20180331T160000
END:STANDARD
BEGIN:DAYLIGHT
TZOFFSETFROM:+1000
TZOFFSETTO:+1100
TZNAME:AEDT
DTSTART:20181006T160000
END:DAYLIGHT
BEGIN:STANDARD
TZOFFSETFROM:+1100
TZOFFSETTO:+1000
TZNAME:AEST
DTSTART:20190406T160000
END:STANDARD
BEGIN:DAYLIGHT
TZOFFSETFROM:+1000
TZOFFSETTO:+1100
TZNAME:AEDT
DTSTART:20191005T160000
END:DAYLIGHT
END:VTIMEZONE
BEGIN:VEVENT
DTSTART;TZID=Australia/Melbourne:20181011T070000
DTEND;TZID=Australia/Melbourne:20181011T083000
DTSTAMP:20260420T013257
CREATED:20180816T085255Z
LAST-MODIFIED:20180816T085255Z
UID:12149-1539241200-1539246600@marketing.com.au
SUMMARY:Master Your Marketing
DESCRIPTION:This event is a Business education workshop it has a focus on helping you become more profitable. At the event you will receive a workbook on a key topic and learn the best strategies and an action plan to implement! You’ll find like-minded business owners who want to get ahead and believe in the power of helping each other to get there.
URL:https://marketing.com.au/event/master-your-marketing/
LOCATION:The Substation\, 1 Market street\, Newport\, VIC\, 3015\, Australia
CATEGORIES:All Event Locations,All Event Topics,Content Marketing,Market Research,Marketing,Melbourne,Social Media,Workshop
END:VEVENT
END:VCALENDAR