BEGIN:VCALENDAR
VERSION:2.0
PRODID:-//Marketing.com.au - ECPv6.15.20//NONSGML v1.0//EN
CALSCALE:GREGORIAN
METHOD:PUBLISH
X-WR-CALNAME:Marketing.com.au
X-ORIGINAL-URL:https://marketing.com.au
X-WR-CALDESC:Events for Marketing.com.au
REFRESH-INTERVAL;VALUE=DURATION:PT1H
X-Robots-Tag:noindex
X-PUBLISHED-TTL:PT1H
BEGIN:VTIMEZONE
TZID:Australia/Melbourne
BEGIN:STANDARD
TZOFFSETFROM:+1100
TZOFFSETTO:+1000
TZNAME:AEST
DTSTART:20170401T160000
END:STANDARD
BEGIN:DAYLIGHT
TZOFFSETFROM:+1000
TZOFFSETTO:+1100
TZNAME:AEDT
DTSTART:20170930T160000
END:DAYLIGHT
BEGIN:STANDARD
TZOFFSETFROM:+1100
TZOFFSETTO:+1000
TZNAME:AEST
DTSTART:20180331T160000
END:STANDARD
BEGIN:DAYLIGHT
TZOFFSETFROM:+1000
TZOFFSETTO:+1100
TZNAME:AEDT
DTSTART:20181006T160000
END:DAYLIGHT
BEGIN:STANDARD
TZOFFSETFROM:+1100
TZOFFSETTO:+1000
TZNAME:AEST
DTSTART:20190406T160000
END:STANDARD
BEGIN:DAYLIGHT
TZOFFSETFROM:+1000
TZOFFSETTO:+1100
TZNAME:AEDT
DTSTART:20191005T160000
END:DAYLIGHT
END:VTIMEZONE
BEGIN:VEVENT
DTSTART;VALUE=DATE:20180417
DTEND;VALUE=DATE:20180419
DTSTAMP:20260420T161209
CREATED:20180316T134901Z
LAST-MODIFIED:20180316T134901Z
UID:11302-1523923200-1524095999@marketing.com.au
SUMMARY:Workforce Analytics Workshop 2018 - Melbourne
DESCRIPTION:Do you like analytics? This two-day training course will look at tools which have been designed to look at the future needs of your organisation. You will learn: \n\nEngaging all levels of leadership to improve effective implementation\nAnalysing visual reports to increase impact and value\nIntegrating new workforce analytics with existing practices\nAligning your metrics with an organisational strategy\nLeveraging tools and communication avenues to increase engagement
URL:https://marketing.com.au/event/workforce-analytics-workshop-2018-melbourne/
LOCATION:Clifton Melbourne\, Level 1\, 440 Collins Street\, Melbourne\, Victoria\, 3000\, Australia
CATEGORIES:All Event Locations,All Event Topics,All Event Types,Conference,Content Marketing,Market Research,Marketing,Melbourne,Workshop
END:VEVENT
END:VCALENDAR