BEGIN:VCALENDAR
VERSION:2.0
PRODID:-//Marketing.com.au - ECPv6.15.20//NONSGML v1.0//EN
CALSCALE:GREGORIAN
METHOD:PUBLISH
X-ORIGINAL-URL:https://marketing.com.au
X-WR-CALDESC:Events for Marketing.com.au
REFRESH-INTERVAL;VALUE=DURATION:PT1H
X-Robots-Tag:noindex
X-PUBLISHED-TTL:PT1H
BEGIN:VTIMEZONE
TZID:Australia/Melbourne
BEGIN:STANDARD
TZOFFSETFROM:+1100
TZOFFSETTO:+1000
TZNAME:AEST
DTSTART:20170401T160000
END:STANDARD
BEGIN:DAYLIGHT
TZOFFSETFROM:+1000
TZOFFSETTO:+1100
TZNAME:AEDT
DTSTART:20170930T160000
END:DAYLIGHT
BEGIN:STANDARD
TZOFFSETFROM:+1100
TZOFFSETTO:+1000
TZNAME:AEST
DTSTART:20180331T160000
END:STANDARD
BEGIN:DAYLIGHT
TZOFFSETFROM:+1000
TZOFFSETTO:+1100
TZNAME:AEDT
DTSTART:20181006T160000
END:DAYLIGHT
BEGIN:STANDARD
TZOFFSETFROM:+1100
TZOFFSETTO:+1000
TZNAME:AEST
DTSTART:20190406T160000
END:STANDARD
BEGIN:DAYLIGHT
TZOFFSETFROM:+1000
TZOFFSETTO:+1100
TZNAME:AEDT
DTSTART:20191005T160000
END:DAYLIGHT
END:VTIMEZONE
BEGIN:VEVENT
DTSTART;VALUE=DATE:20180326
DTEND;VALUE=DATE:20180328
DTSTAMP:20260420T192251
CREATED:20180309T023334Z
LAST-MODIFIED:20201008T045400Z
UID:11233-1522022400-1522195199@marketing.com.au
SUMMARY:Digital Sales and Marketing Masterclass
DESCRIPTION:Over 2-days\, you will be immersed in: \n\nHow to run a better\, more efficient digital business;\nHow to make more money and increase overall sales by creating and managing a sales funnel unique to your situation;\nTactics perfect for generating leads\, demonstrate how to make networking and referral marketing work for you and unlock all the best practices for your services and Avatar.\n\nAt the end of the final day\, you will develop a 3-month Digital Sales & Marketing Strategy\, unique to your own agency’s needs that delivers any outcome you create. \nYou will be hearing from Globital’s Managing Director\, Damian Papworth who has more than 14 years of experience in the digital marketing industry.
URL:https://marketing.com.au/event/digital-sales-marketing-masterclass/
LOCATION:Melbourne City College\, 120 Spencer Street\, Melbourne\, VIC\, 3000\, Australia
CATEGORIES:All Event Locations,All Event Topics,All Event Types,Conference,Content Marketing,Digital Marketing,Marketing,Melbourne
END:VEVENT
END:VCALENDAR