BEGIN:VCALENDAR
VERSION:2.0
PRODID:-//Marketing.com.au - ECPv6.15.20//NONSGML v1.0//EN
CALSCALE:GREGORIAN
METHOD:PUBLISH
X-ORIGINAL-URL:https://marketing.com.au
X-WR-CALDESC:Events for Marketing.com.au
REFRESH-INTERVAL;VALUE=DURATION:PT1H
X-Robots-Tag:noindex
X-PUBLISHED-TTL:PT1H
BEGIN:VTIMEZONE
TZID:Australia/Melbourne
BEGIN:STANDARD
TZOFFSETFROM:+1100
TZOFFSETTO:+1000
TZNAME:AEST
DTSTART:20170401T160000
END:STANDARD
BEGIN:DAYLIGHT
TZOFFSETFROM:+1000
TZOFFSETTO:+1100
TZNAME:AEDT
DTSTART:20170930T160000
END:DAYLIGHT
BEGIN:STANDARD
TZOFFSETFROM:+1100
TZOFFSETTO:+1000
TZNAME:AEST
DTSTART:20180331T160000
END:STANDARD
BEGIN:DAYLIGHT
TZOFFSETFROM:+1000
TZOFFSETTO:+1100
TZNAME:AEDT
DTSTART:20181006T160000
END:DAYLIGHT
BEGIN:STANDARD
TZOFFSETFROM:+1100
TZOFFSETTO:+1000
TZNAME:AEST
DTSTART:20190406T160000
END:STANDARD
BEGIN:DAYLIGHT
TZOFFSETFROM:+1000
TZOFFSETTO:+1100
TZNAME:AEDT
DTSTART:20191005T160000
END:DAYLIGHT
END:VTIMEZONE
BEGIN:VEVENT
DTSTART;VALUE=DATE:20180223
DTEND;VALUE=DATE:20180224
DTSTAMP:20260420T233439
CREATED:20171123T041926Z
LAST-MODIFIED:20171123T041926Z
UID:10814-1519344000-1519430399@marketing.com.au
SUMMARY:ADMA Data Day 2018 – Melbourne
DESCRIPTION:Do you want to hear from 4 top international leaders and 16 sessions across data and analytics\, technology\, customer experience and marketing strategies? In 2018 ADMA are brining a line-up of speakers from companies that have found innovative ways to use data. \nThese are some of the areas that the conference will be covering: \n\nLearn the latest and most innovative applications of data in our industry\nSee the most up-to-date ways of using data to improve customer experience\nLearn how data and analytics will evolve in 2018\nPlus more!
URL:https://marketing.com.au/event/adma-data-day-2018-melbourne/
LOCATION:Crown Plaza Melbourne\, 1-5 Spencer St\, Docklands\, VIC\, 3008
CATEGORIES:All Event Locations,All Event Topics,All Event Types,Conference,Marketing,Melbourne,Workshop
END:VEVENT
END:VCALENDAR