BEGIN:VCALENDAR
VERSION:2.0
PRODID:-//Marketing.com.au - ECPv6.15.20//NONSGML v1.0//EN
CALSCALE:GREGORIAN
METHOD:PUBLISH
X-WR-CALNAME:Marketing.com.au
X-ORIGINAL-URL:https://marketing.com.au
X-WR-CALDESC:Events for Marketing.com.au
REFRESH-INTERVAL;VALUE=DURATION:PT1H
X-Robots-Tag:noindex
X-PUBLISHED-TTL:PT1H
BEGIN:VTIMEZONE
TZID:Australia/Melbourne
BEGIN:STANDARD
TZOFFSETFROM:+1100
TZOFFSETTO:+1000
TZNAME:AEST
DTSTART:20160402T160000
END:STANDARD
BEGIN:DAYLIGHT
TZOFFSETFROM:+1000
TZOFFSETTO:+1100
TZNAME:AEDT
DTSTART:20161001T160000
END:DAYLIGHT
BEGIN:STANDARD
TZOFFSETFROM:+1100
TZOFFSETTO:+1000
TZNAME:AEST
DTSTART:20170401T160000
END:STANDARD
BEGIN:DAYLIGHT
TZOFFSETFROM:+1000
TZOFFSETTO:+1100
TZNAME:AEDT
DTSTART:20170930T160000
END:DAYLIGHT
BEGIN:STANDARD
TZOFFSETFROM:+1100
TZOFFSETTO:+1000
TZNAME:AEST
DTSTART:20180331T160000
END:STANDARD
BEGIN:DAYLIGHT
TZOFFSETFROM:+1000
TZOFFSETTO:+1100
TZNAME:AEDT
DTSTART:20181006T160000
END:DAYLIGHT
END:VTIMEZONE
BEGIN:VEVENT
DTSTART;VALUE=DATE:20171025
DTEND;VALUE=DATE:20171028
DTSTAMP:20260421T125546
CREATED:20170825T014325Z
LAST-MODIFIED:20170929T032059Z
UID:10432-1508889600-1509148799@marketing.com.au
SUMMARY:9th Social Media for Government Summit
DESCRIPTION:With social media being such a large part of the world\, it is extremely important for the government sector to pay attention to this\, with the internet and applications extending globally an increasing number of governments and their public services agencies are embracing social media as one of the major mechanisms to interact with the public and with people all of the world freely expressing their opinions towards governmental issues that surround them. \nThis summit has been designed to also focus on how to improve video content on different social media platforms\, managing social media crisis situations\, advertising strategies to engage with your targeted audiences plus much more!
URL:https://marketing.com.au/event/9th-social-media-government-summit/
LOCATION:Novotel on Collins\, 270 Collins Street\, Melbourne\, VIC\, 3000\, Australia
CATEGORIES:All Event Locations,All Event Topics,Conference,Content Marketing,Market Research,Marketing,Melbourne,Public Relations,Social Media
END:VEVENT
END:VCALENDAR