BEGIN:VCALENDAR
VERSION:2.0
PRODID:-//Marketing.com.au - ECPv6.15.20//NONSGML v1.0//EN
CALSCALE:GREGORIAN
METHOD:PUBLISH
X-ORIGINAL-URL:https://marketing.com.au
X-WR-CALDESC:Events for Marketing.com.au
REFRESH-INTERVAL;VALUE=DURATION:PT1H
X-Robots-Tag:noindex
X-PUBLISHED-TTL:PT1H
BEGIN:VTIMEZONE
TZID:Australia/Melbourne
BEGIN:STANDARD
TZOFFSETFROM:+1100
TZOFFSETTO:+1000
TZNAME:AEST
DTSTART:20160402T160000
END:STANDARD
BEGIN:DAYLIGHT
TZOFFSETFROM:+1000
TZOFFSETTO:+1100
TZNAME:AEDT
DTSTART:20161001T160000
END:DAYLIGHT
BEGIN:STANDARD
TZOFFSETFROM:+1100
TZOFFSETTO:+1000
TZNAME:AEST
DTSTART:20170401T160000
END:STANDARD
BEGIN:DAYLIGHT
TZOFFSETFROM:+1000
TZOFFSETTO:+1100
TZNAME:AEDT
DTSTART:20170930T160000
END:DAYLIGHT
BEGIN:STANDARD
TZOFFSETFROM:+1100
TZOFFSETTO:+1000
TZNAME:AEST
DTSTART:20180331T160000
END:STANDARD
BEGIN:DAYLIGHT
TZOFFSETFROM:+1000
TZOFFSETTO:+1100
TZNAME:AEDT
DTSTART:20181006T160000
END:DAYLIGHT
END:VTIMEZONE
BEGIN:VEVENT
DTSTART;VALUE=DATE:20171024
DTEND;VALUE=DATE:20171025
DTSTAMP:20260421T172801
CREATED:20170728T051118Z
LAST-MODIFIED:20201002T043515Z
UID:10296-1508803200-1508889599@marketing.com.au
SUMMARY:Digital Analytics For Marketers Course
DESCRIPTION:At this event you will learn about a technical topic explained in a non-technical way. You will learn how to apply theories into real world examples. Unlock the power of data to power decision making and campaign planning. How to apply a metrics framework to an any digital campaign\, understand digital datasources\, Accurately attribute conversions in a multi-channel campaign. Through an engaging and hands-on approach this course will also cover driving conversions through effective targeting; Campaign flow and media attribution; Finding and developing the right data.
URL:https://marketing.com.au/event/digital-analytics-marketers-course-2/
LOCATION:Karstens Melbourne\, 123 Queen Street\, Melbourne\, VIC\, 3000\, Australia
CATEGORIES:All Event Locations,All Event Topics,All Event Types,Content Marketing,Market Research,Marketing,Melbourne,Workshop
END:VEVENT
END:VCALENDAR