BEGIN:VCALENDAR
VERSION:2.0
PRODID:-//Marketing.com.au - ECPv6.15.20//NONSGML v1.0//EN
CALSCALE:GREGORIAN
METHOD:PUBLISH
X-WR-CALNAME:Marketing.com.au
X-ORIGINAL-URL:https://marketing.com.au
X-WR-CALDESC:Events for Marketing.com.au
REFRESH-INTERVAL;VALUE=DURATION:PT1H
X-Robots-Tag:noindex
X-PUBLISHED-TTL:PT1H
BEGIN:VTIMEZONE
TZID:Australia/Melbourne
BEGIN:STANDARD
TZOFFSETFROM:+1100
TZOFFSETTO:+1000
TZNAME:AEST
DTSTART:20160402T160000
END:STANDARD
BEGIN:DAYLIGHT
TZOFFSETFROM:+1000
TZOFFSETTO:+1100
TZNAME:AEDT
DTSTART:20161001T160000
END:DAYLIGHT
BEGIN:STANDARD
TZOFFSETFROM:+1100
TZOFFSETTO:+1000
TZNAME:AEST
DTSTART:20170401T160000
END:STANDARD
BEGIN:DAYLIGHT
TZOFFSETFROM:+1000
TZOFFSETTO:+1100
TZNAME:AEDT
DTSTART:20170930T160000
END:DAYLIGHT
BEGIN:STANDARD
TZOFFSETFROM:+1100
TZOFFSETTO:+1000
TZNAME:AEST
DTSTART:20180331T160000
END:STANDARD
BEGIN:DAYLIGHT
TZOFFSETFROM:+1000
TZOFFSETTO:+1100
TZNAME:AEDT
DTSTART:20181006T160000
END:DAYLIGHT
END:VTIMEZONE
BEGIN:VEVENT
DTSTART;VALUE=DATE:20171021
DTEND;VALUE=DATE:20171023
DTSTAMP:20260421T153917
CREATED:20170914T114830Z
LAST-MODIFIED:20170914T114830Z
UID:10506-1508544000-1508716799@marketing.com.au
SUMMARY:Ruxcon
DESCRIPTION:Ruxcon is a computer security conference which brings the brightest and best security talent. It contains a combination of live presentations\, activities and demonstrations. This is widely regarded as a leading computer security conference attracting all areas of security. \nThis event provides a laid back environment for all delegates which will engage and collaborate with a wide range of like-minded students\, enthusiasts\, hackers and security professionals.
URL:https://marketing.com.au/event/ruxcon/
LOCATION:CQ Function Centre\, 113 Queen Street\, Melbourne\, VIC\, 3000\, Australia
CATEGORIES:All Event Locations,All Event Topics,All Event Types,Conference,Content Marketing,Digital Marketing,Market Research,Marketing,Melbourne,Workshop
END:VEVENT
END:VCALENDAR