BEGIN:VCALENDAR
VERSION:2.0
PRODID:-//Marketing.com.au - ECPv6.15.20//NONSGML v1.0//EN
CALSCALE:GREGORIAN
METHOD:PUBLISH
X-ORIGINAL-URL:https://marketing.com.au
X-WR-CALDESC:Events for Marketing.com.au
REFRESH-INTERVAL;VALUE=DURATION:PT1H
X-Robots-Tag:noindex
X-PUBLISHED-TTL:PT1H
BEGIN:VTIMEZONE
TZID:Australia/Melbourne
BEGIN:STANDARD
TZOFFSETFROM:+1100
TZOFFSETTO:+1000
TZNAME:AEST
DTSTART:20160402T160000
END:STANDARD
BEGIN:DAYLIGHT
TZOFFSETFROM:+1000
TZOFFSETTO:+1100
TZNAME:AEDT
DTSTART:20161001T160000
END:DAYLIGHT
BEGIN:STANDARD
TZOFFSETFROM:+1100
TZOFFSETTO:+1000
TZNAME:AEST
DTSTART:20170401T160000
END:STANDARD
BEGIN:DAYLIGHT
TZOFFSETFROM:+1000
TZOFFSETTO:+1100
TZNAME:AEDT
DTSTART:20170930T160000
END:DAYLIGHT
BEGIN:STANDARD
TZOFFSETFROM:+1100
TZOFFSETTO:+1000
TZNAME:AEST
DTSTART:20180331T160000
END:STANDARD
BEGIN:DAYLIGHT
TZOFFSETFROM:+1000
TZOFFSETTO:+1100
TZNAME:AEDT
DTSTART:20181006T160000
END:DAYLIGHT
END:VTIMEZONE
BEGIN:VEVENT
DTSTART;TZID=Australia/Melbourne:20171005T083000
DTEND;TZID=Australia/Melbourne:20171005T123000
DTSTAMP:20260421T141410
CREATED:20170714T034721Z
LAST-MODIFIED:20201002T015024Z
UID:10211-1507192200-1507206600@marketing.com.au
SUMMARY:Digital Marketing Masterclass - Melbourne
DESCRIPTION:This Masterclass has been designed exclusively for senior brand marketers and the technical leads from business to consumer brands who are seeking new information and expertise within Digital Marketing\, you will be learning what the latest digital marketing tools are and the different ways you can generate new and more customers. \nYou will be looking at different areas including mobile\, eCommerce\, social media and more. Before the round tables commence there will be a keynote presentation.
URL:https://marketing.com.au/event/digital-marketing-masterclass-melbourne/
LOCATION:Karstens Melbourne\, 123 Queen Street\, Melbourne\, VIC\, 3000\, Australia
CATEGORIES:All Event Locations,All Event Topics,All Event Types,Conference,Content Marketing,Digital Marketing,Marketing,Melbourne,Presentation,Workshop
END:VEVENT
END:VCALENDAR