BEGIN:VCALENDAR
VERSION:2.0
PRODID:-//Marketing.com.au - ECPv6.15.20//NONSGML v1.0//EN
CALSCALE:GREGORIAN
METHOD:PUBLISH
X-ORIGINAL-URL:https://marketing.com.au
X-WR-CALDESC:Events for Marketing.com.au
REFRESH-INTERVAL;VALUE=DURATION:PT1H
X-Robots-Tag:noindex
X-PUBLISHED-TTL:PT1H
BEGIN:VTIMEZONE
TZID:Australia/Melbourne
BEGIN:STANDARD
TZOFFSETFROM:+1100
TZOFFSETTO:+1000
TZNAME:AEST
DTSTART:20160402T160000
END:STANDARD
BEGIN:DAYLIGHT
TZOFFSETFROM:+1000
TZOFFSETTO:+1100
TZNAME:AEDT
DTSTART:20161001T160000
END:DAYLIGHT
BEGIN:STANDARD
TZOFFSETFROM:+1100
TZOFFSETTO:+1000
TZNAME:AEST
DTSTART:20170401T160000
END:STANDARD
BEGIN:DAYLIGHT
TZOFFSETFROM:+1000
TZOFFSETTO:+1100
TZNAME:AEDT
DTSTART:20170930T160000
END:DAYLIGHT
BEGIN:STANDARD
TZOFFSETFROM:+1100
TZOFFSETTO:+1000
TZNAME:AEST
DTSTART:20180331T160000
END:STANDARD
BEGIN:DAYLIGHT
TZOFFSETFROM:+1000
TZOFFSETTO:+1100
TZNAME:AEDT
DTSTART:20181006T160000
END:DAYLIGHT
END:VTIMEZONE
BEGIN:VEVENT
DTSTART;TZID=Australia/Melbourne:20170215T180000
DTEND;TZID=Australia/Melbourne:20170215T213000
DTSTAMP:20260422T114647
CREATED:20170207T011114Z
LAST-MODIFIED:20170207T011114Z
UID:9473-1487181600-1487194200@marketing.com.au
SUMMARY:Marketing for Growth Workshop
DESCRIPTION:This event is tailored to anyone who has an understanding of the basics of marketing and who want to develop their skills to get to the next level. This is hands-on workshop will challenge you in having a deeper understanding of your customers to help take your business to the next level.
URL:https://marketing.com.au/event/marketing-growth-workshop/
LOCATION:Moonee Valley Civic Centre\, 9 Kellaway Avenue\, Moonee Ponds\, VIC\, 3039\, Australia
CATEGORIES:All Event Locations,All Event Topics,All Event Types,Content Marketing,Digital Marketing,Market Research,Marketing,Melbourne,Presentation,Workshop
END:VEVENT
END:VCALENDAR