BEGIN:VCALENDAR
VERSION:2.0
PRODID:-//Marketing.com.au - ECPv6.15.20//NONSGML v1.0//EN
CALSCALE:GREGORIAN
METHOD:PUBLISH
X-ORIGINAL-URL:https://marketing.com.au
X-WR-CALDESC:Events for Marketing.com.au
REFRESH-INTERVAL;VALUE=DURATION:PT1H
X-Robots-Tag:noindex
X-PUBLISHED-TTL:PT1H
BEGIN:VTIMEZONE
TZID:Australia/Melbourne
BEGIN:STANDARD
TZOFFSETFROM:+1100
TZOFFSETTO:+1000
TZNAME:AEST
DTSTART:20150404T160000
END:STANDARD
BEGIN:DAYLIGHT
TZOFFSETFROM:+1000
TZOFFSETTO:+1100
TZNAME:AEDT
DTSTART:20151003T160000
END:DAYLIGHT
BEGIN:STANDARD
TZOFFSETFROM:+1100
TZOFFSETTO:+1000
TZNAME:AEST
DTSTART:20160402T160000
END:STANDARD
BEGIN:DAYLIGHT
TZOFFSETFROM:+1000
TZOFFSETTO:+1100
TZNAME:AEDT
DTSTART:20161001T160000
END:DAYLIGHT
BEGIN:STANDARD
TZOFFSETFROM:+1100
TZOFFSETTO:+1000
TZNAME:AEST
DTSTART:20170401T160000
END:STANDARD
BEGIN:DAYLIGHT
TZOFFSETFROM:+1000
TZOFFSETTO:+1100
TZNAME:AEDT
DTSTART:20170930T160000
END:DAYLIGHT
END:VTIMEZONE
BEGIN:VEVENT
DTSTART;TZID=Australia/Melbourne:20161125T120000
DTEND;TZID=Australia/Melbourne:20161125T150000
DTSTAMP:20260423T055914
CREATED:20161116T013305Z
LAST-MODIFIED:20161116T013305Z
UID:9034-1480075200-1480086000@marketing.com.au
SUMMARY:2016 ADMA Melbourne Marketing Lunch Debate
DESCRIPTION:Two industry heavyweights battle it out to decide ‘Is social media the future of marketing?’. Hear the 2 sides of the argument from Adam Ferrier\, (Cummins&Partners) and Mark Ritson\, (Melbourne Business School / Singapore Management University).
URL:https://marketing.com.au/event/2016-adma-melbourne-marketing-lunch-debate/
LOCATION:The Arts Centre Melbourne\, 100 St Kilda Road\, Melbourne\, Vic\, 3000\, Australia
CATEGORIES:All Event Locations,All Event Topics,All Event Types,Marketing,Melbourne,Presentation,Social Media,Workshop
END:VEVENT
END:VCALENDAR