BEGIN:VCALENDAR
VERSION:2.0
PRODID:-//Marketing.com.au - ECPv6.15.20//NONSGML v1.0//EN
CALSCALE:GREGORIAN
METHOD:PUBLISH
X-ORIGINAL-URL:https://marketing.com.au
X-WR-CALDESC:Events for Marketing.com.au
REFRESH-INTERVAL;VALUE=DURATION:PT1H
X-Robots-Tag:noindex
X-PUBLISHED-TTL:PT1H
BEGIN:VTIMEZONE
TZID:Australia/Melbourne
BEGIN:STANDARD
TZOFFSETFROM:+1100
TZOFFSETTO:+1000
TZNAME:AEST
DTSTART:20150404T160000
END:STANDARD
BEGIN:DAYLIGHT
TZOFFSETFROM:+1000
TZOFFSETTO:+1100
TZNAME:AEDT
DTSTART:20151003T160000
END:DAYLIGHT
BEGIN:STANDARD
TZOFFSETFROM:+1100
TZOFFSETTO:+1000
TZNAME:AEST
DTSTART:20160402T160000
END:STANDARD
BEGIN:DAYLIGHT
TZOFFSETFROM:+1000
TZOFFSETTO:+1100
TZNAME:AEDT
DTSTART:20161001T160000
END:DAYLIGHT
BEGIN:STANDARD
TZOFFSETFROM:+1100
TZOFFSETTO:+1000
TZNAME:AEST
DTSTART:20170401T160000
END:STANDARD
BEGIN:DAYLIGHT
TZOFFSETFROM:+1000
TZOFFSETTO:+1100
TZNAME:AEDT
DTSTART:20170930T160000
END:DAYLIGHT
END:VTIMEZONE
BEGIN:VEVENT
DTSTART;VALUE=DATE:20161020
DTEND;VALUE=DATE:20161021
DTSTAMP:20260423T114330
CREATED:20161006T073756Z
LAST-MODIFIED:20161006T073756Z
UID:8623-1476921600-1477007999@marketing.com.au
SUMMARY:Impossible Mission: Mobile Moments and App Engagement Start - Melbourne
DESCRIPTION:Mobile first and mobile only customers are becoming normal for most businesses around the world\, this results in digital and mobile teams having to use a range of strategies and tactics to effectively acquire\, analyse and engage mobile users. This session you will learn how to provide individual elements of app engagement to build an end-to-end mobile strategy that improves your relationship with mobile customers.
URL:https://marketing.com.au/event/impossible-mission-mobile-moments-app-engagement-start-melbourne/
LOCATION:Sofitel Melbourne\, 25 Collins Street\, Melbourne\, VIC\, 3000\, Australia
CATEGORIES:All Event Locations,All Event Topics,All Event Types,Content Marketing,Digital Marketing,Marketing,Melbourne,Workshop
END:VEVENT
END:VCALENDAR