BEGIN:VCALENDAR
VERSION:2.0
PRODID:-//Marketing.com.au - ECPv6.15.20//NONSGML v1.0//EN
CALSCALE:GREGORIAN
METHOD:PUBLISH
X-ORIGINAL-URL:https://marketing.com.au
X-WR-CALDESC:Events for Marketing.com.au
REFRESH-INTERVAL;VALUE=DURATION:PT1H
X-Robots-Tag:noindex
X-PUBLISHED-TTL:PT1H
BEGIN:VTIMEZONE
TZID:Australia/Melbourne
BEGIN:STANDARD
TZOFFSETFROM:+1100
TZOFFSETTO:+1000
TZNAME:AEST
DTSTART:20150404T160000
END:STANDARD
BEGIN:DAYLIGHT
TZOFFSETFROM:+1000
TZOFFSETTO:+1100
TZNAME:AEDT
DTSTART:20151003T160000
END:DAYLIGHT
BEGIN:STANDARD
TZOFFSETFROM:+1100
TZOFFSETTO:+1000
TZNAME:AEST
DTSTART:20160402T160000
END:STANDARD
BEGIN:DAYLIGHT
TZOFFSETFROM:+1000
TZOFFSETTO:+1100
TZNAME:AEDT
DTSTART:20161001T160000
END:DAYLIGHT
BEGIN:STANDARD
TZOFFSETFROM:+1100
TZOFFSETTO:+1000
TZNAME:AEST
DTSTART:20170401T160000
END:STANDARD
BEGIN:DAYLIGHT
TZOFFSETFROM:+1000
TZOFFSETTO:+1100
TZNAME:AEDT
DTSTART:20170930T160000
END:DAYLIGHT
END:VTIMEZONE
BEGIN:VEVENT
DTSTART;VALUE=DATE:20160429
DTEND;VALUE=DATE:20160430
DTSTAMP:20260423T143146
CREATED:20160404T095442Z
LAST-MODIFIED:20201002T060225Z
UID:7578-1461888000-1461974399@marketing.com.au
SUMMARY:ADMA Data Day - Melbourne
DESCRIPTION:When you effectively harness the power that data brings to your marketing\, you open up possibilities for your business that you didn’t think were possible. It’s real-time marketing rather than the overhyped buzz word from years past. \nData Day 2016 will bring you a stellar line-up of global and local speakers\, covering themes that focus on how to streamline automation to painlessly deliver best-performing results. It will also explore ways of using technology in new and innovative ways. \nCome and hear from world-renowned leaders who share their knowledge and real-life examples of how to overcome data challenges. \nFor more information\, visit: http://www.admadataday.com.au/melbourne/
URL:https://marketing.com.au/event/adma-data-day-2/
LOCATION:Crown Plaza Melbourne\, 1-5 Spencer St\, Docklands\, VIC\, 3008
CATEGORIES:All Event Locations,All Event Topics,All Event Types,Conference,Digital Marketing,Melbourne
END:VEVENT
BEGIN:VEVENT
DTSTART;TZID=Australia/Melbourne:20160429T084500
DTEND;TZID=Australia/Melbourne:20160429T130000
DTSTAMP:20260423T143146
CREATED:20160404T094339Z
LAST-MODIFIED:20160404T094339Z
UID:7575-1461919500-1461934800@marketing.com.au
SUMMARY:Fundamental Workshop: Developing in the Digital Age
DESCRIPTION:In the Developing in the Digital Age – Understanding Choices\, Francine Bishop\, author of Social Media Evolution\, shares scientific data about how social media and digital devices affect the brain. She reveals how new forms of communicating is changing the landscape for marketers in the future and shares evidence which is sure to influence the choices we make in the digital age.
URL:https://marketing.com.au/event/fundamental-workshop-developing-digital-age/
LOCATION:Clifton Melbourne\, Level 1\, 440 Collins Street\, Melbourne\, Victoria\, 3000\, Australia
CATEGORIES:All Event Locations,All Event Topics,All Event Types,Digital Marketing,Melbourne,Workshop
END:VEVENT
END:VCALENDAR