BEGIN:VCALENDAR
VERSION:2.0
PRODID:-//Marketing.com.au - ECPv6.15.20//NONSGML v1.0//EN
CALSCALE:GREGORIAN
METHOD:PUBLISH
X-ORIGINAL-URL:https://marketing.com.au
X-WR-CALDESC:Events for Marketing.com.au
REFRESH-INTERVAL;VALUE=DURATION:PT1H
X-Robots-Tag:noindex
X-PUBLISHED-TTL:PT1H
BEGIN:VTIMEZONE
TZID:Australia/Melbourne
BEGIN:STANDARD
TZOFFSETFROM:+1100
TZOFFSETTO:+1000
TZNAME:AEST
DTSTART:20140405T160000
END:STANDARD
BEGIN:DAYLIGHT
TZOFFSETFROM:+1000
TZOFFSETTO:+1100
TZNAME:AEDT
DTSTART:20141004T160000
END:DAYLIGHT
BEGIN:STANDARD
TZOFFSETFROM:+1100
TZOFFSETTO:+1000
TZNAME:AEST
DTSTART:20150404T160000
END:STANDARD
BEGIN:DAYLIGHT
TZOFFSETFROM:+1000
TZOFFSETTO:+1100
TZNAME:AEDT
DTSTART:20151003T160000
END:DAYLIGHT
BEGIN:STANDARD
TZOFFSETFROM:+1100
TZOFFSETTO:+1000
TZNAME:AEST
DTSTART:20160402T160000
END:STANDARD
BEGIN:DAYLIGHT
TZOFFSETFROM:+1000
TZOFFSETTO:+1100
TZNAME:AEDT
DTSTART:20161001T160000
END:DAYLIGHT
END:VTIMEZONE
BEGIN:VEVENT
DTSTART;TZID=Australia/Melbourne:20150312T070000
DTEND;TZID=Australia/Melbourne:20150312T083000
DTSTAMP:20260425T051741
CREATED:20150302T232628Z
LAST-MODIFIED:20150302T232628Z
UID:6461-1426143600-1426149000@marketing.com.au
SUMMARY:Maximising Investment in Sponsorships
DESCRIPTION:Marketing professionals are often tasked with identifying prospective sponsorships for their firm and ensuring they are managed and leveraged effectively. Throughout the process\, we often need to navigate and manage reputational risks\, project management pitfalls and external stakeholders. If managed well\, sponsorships can provide a great opportunity to increase brand awareness\, offer unique networking opportunities and generate leads for new business. \nEarlier this year\, business technology solutions company Avanade\, announced a global sponsorship of Williams Martini Formula One Racing. The first event for the season and the sponsorship will be the 2015 Formula 1 ® Rolex Australian Grand Prix. The sponsorship will see Avanade develop a new digital enterprise platform to optimise Williams Martini Racing’s business performance both on and off the track. In return\, Avanade will receive global profiling and promotion as a key event sponsor. \nWe are fortunate to be joined by Avanade’s global CMO\, Stella Goulet\, and Williams Martini Racing CIO\, Graeme Hackland\, for a discussion about what it took to negotiate and activate this global sponsorship. At this session\, they will cover; \n•Negotiation of sponsorship scope\n•Relationship management\n•Execution of sponsorship activities\n•The importance of communication\, and\n•Benefits of a global versus local approach to sponsorship in a global company\nVia this interactive case study\, professional services marketers will be able to benefit from practical tips that can be applied to sponsorship opportunities and engagements to maximise investment.
URL:https://marketing.com.au/event/maximising-investment-sponsorships/
LOCATION:Herbert Smith Freehills\, Level 42\, 101 Collins Street\, Melbourne\, Victoria\, 3000\, Australia
CATEGORIES:All Event Locations,All Event Topics,All Event Types,Marketing,Melbourne,Presentation
END:VEVENT
END:VCALENDAR