BEGIN:VCALENDAR
VERSION:2.0
PRODID:-//Marketing.com.au - ECPv6.15.20//NONSGML v1.0//EN
CALSCALE:GREGORIAN
METHOD:PUBLISH
X-ORIGINAL-URL:https://marketing.com.au
X-WR-CALDESC:Events for Marketing.com.au
REFRESH-INTERVAL;VALUE=DURATION:PT1H
X-Robots-Tag:noindex
X-PUBLISHED-TTL:PT1H
BEGIN:VTIMEZONE
TZID:Australia/Melbourne
BEGIN:STANDARD
TZOFFSETFROM:+1100
TZOFFSETTO:+1000
TZNAME:AEST
DTSTART:20130406T160000
END:STANDARD
BEGIN:DAYLIGHT
TZOFFSETFROM:+1000
TZOFFSETTO:+1100
TZNAME:AEDT
DTSTART:20131005T160000
END:DAYLIGHT
BEGIN:STANDARD
TZOFFSETFROM:+1100
TZOFFSETTO:+1000
TZNAME:AEST
DTSTART:20140405T160000
END:STANDARD
BEGIN:DAYLIGHT
TZOFFSETFROM:+1000
TZOFFSETTO:+1100
TZNAME:AEDT
DTSTART:20141004T160000
END:DAYLIGHT
BEGIN:STANDARD
TZOFFSETFROM:+1100
TZOFFSETTO:+1000
TZNAME:AEST
DTSTART:20150404T160000
END:STANDARD
BEGIN:DAYLIGHT
TZOFFSETFROM:+1000
TZOFFSETTO:+1100
TZNAME:AEDT
DTSTART:20151003T160000
END:DAYLIGHT
END:VTIMEZONE
BEGIN:VEVENT
DTSTART;TZID=Australia/Melbourne:20141024T123000
DTEND;TZID=Australia/Melbourne:20141024T143000
DTSTAMP:20260425T140009
CREATED:20141001T230522Z
LAST-MODIFIED:20141001T230522Z
UID:5993-1414153800-1414161000@marketing.com.au
SUMMARY:IAB Video State of the Industry
DESCRIPTION:Join the IAB on 24 Oct in Melbourne for the IAB Video State of the Industry event\, where they will reveal the results from the second Video State of the Industry Survey\, in association with Adap.tv. \nIAB has canvassed the experiences and opinions of leading media and marketing executives in the Australian market to help understand the current market and future trends of one of the fastest growing mediums – video. Results will cover topics such as growth projections\, cross platform buying\, changes to yield and adoption of mobile video. \nWe will also be comparing the Australian results to other key markets such as US and UK.
URL:https://marketing.com.au/event/iab-video-state-industry/
LOCATION:PwC\, Lvl 19\, Freshwater Place\, 2 Southbank Bd\, Melbourne\, Victoria\, 3006\, Australia
CATEGORIES:All Event Locations,All Event Topics,All Event Types,Digital Marketing,Melbourne,Presentation
END:VEVENT
END:VCALENDAR