BEGIN:VCALENDAR
VERSION:2.0
PRODID:-//Marketing.com.au - ECPv6.15.20//NONSGML v1.0//EN
CALSCALE:GREGORIAN
METHOD:PUBLISH
X-ORIGINAL-URL:https://marketing.com.au
X-WR-CALDESC:Events for Marketing.com.au
REFRESH-INTERVAL;VALUE=DURATION:PT1H
X-Robots-Tag:noindex
X-PUBLISHED-TTL:PT1H
BEGIN:VTIMEZONE
TZID:Australia/Melbourne
BEGIN:STANDARD
TZOFFSETFROM:+1100
TZOFFSETTO:+1000
TZNAME:AEST
DTSTART:20170401T160000
END:STANDARD
BEGIN:DAYLIGHT
TZOFFSETFROM:+1000
TZOFFSETTO:+1100
TZNAME:AEDT
DTSTART:20170930T160000
END:DAYLIGHT
BEGIN:STANDARD
TZOFFSETFROM:+1100
TZOFFSETTO:+1000
TZNAME:AEST
DTSTART:20180331T160000
END:STANDARD
BEGIN:DAYLIGHT
TZOFFSETFROM:+1000
TZOFFSETTO:+1100
TZNAME:AEDT
DTSTART:20181006T160000
END:DAYLIGHT
BEGIN:STANDARD
TZOFFSETFROM:+1100
TZOFFSETTO:+1000
TZNAME:AEST
DTSTART:20190406T160000
END:STANDARD
BEGIN:DAYLIGHT
TZOFFSETFROM:+1000
TZOFFSETTO:+1100
TZNAME:AEDT
DTSTART:20191005T160000
END:DAYLIGHT
END:VTIMEZONE
BEGIN:VEVENT
DTSTART;VALUE=DATE:20180605
DTEND;VALUE=DATE:20180607
DTSTAMP:20260420T035548
CREATED:20180501T153947Z
LAST-MODIFIED:20180501T153947Z
UID:11562-1528156800-1528329599@marketing.com.au
SUMMARY:Facebook and Instagram for Business Masterclass - Melbourne
DESCRIPTION:Are you utilising social media the best possible way to drive business growth? This two-day intensive course has been designed to deliver the skills you need to help your brand maximise its social media strategy.Expert insights\, tools and tips to create an adaptive Facebook and Instagram marketing strategy that delivers results and revenue. \nAt this event you will learn: \n\nFacebook and Instagram for business\nOvercome common social media fears\nContent marketing and content strategy\nUnderstand Business Manager\, Ads Manager and Power Editor\, plus more!
URL:https://marketing.com.au/event/facebook-and-instagram-for-business-masterclass-melbourne/
LOCATION:3006
CATEGORIES:All Event Locations,All Event Topics,All Event Types,Conference,Content Marketing,Digital Marketing,Marketing,Melbourne,Social Media,Workshop
END:VEVENT
BEGIN:VEVENT
DTSTART;TZID=Australia/Melbourne:20180605T083000
DTEND;TZID=Australia/Melbourne:20180605T123000
DTSTAMP:20260420T035548
CREATED:20180418T150019Z
LAST-MODIFIED:20180418T150019Z
UID:11463-1528187400-1528201800@marketing.com.au
SUMMARY:Digital Marketing Masterclass - Melbourne\, June
DESCRIPTION:The Digital Marketing Masterclass will show senior management from B2C brands how they can deploy the latest digital marketing tools and techniques to generate new business and retain loyal customers across all customer touchpoints. Core themes range from search and social media strategies to data management\, content marketing\, mobile marketing and programmatic advertising.
URL:https://marketing.com.au/event/digital-marketing-masterclass-melbourne-june/
LOCATION:Melbourne TBC\, Melbourne\, VIC\, 3000\, Australia
CATEGORIES:All Event Locations,All Event Topics,All Event Types,Digital Marketing,Melbourne,Presentation,Social Media,Workshop
END:VEVENT
BEGIN:VEVENT
DTSTART;TZID=Australia/Melbourne:20180605T150000
DTEND;TZID=Australia/Melbourne:20180605T200000
DTSTAMP:20260420T035548
CREATED:20180517T093237Z
LAST-MODIFIED:20210131T054902Z
UID:11642-1528210800-1528228800@marketing.com.au
SUMMARY:Search Marketing Professionals 2018
DESCRIPTION:Want to be at the top of the Search Marketing industry in Australia? For one day only\, we’re bringing some of the best from around Australia and overseas to share the latest trends\, tools and industry insights at Search Marketing Professionals. \nJoin us on Tuesday 5th of June at The Honey Bar in South Melbourne to hear from Olga Andrienko\, the Head of Global Marketing at SEMrush\, and Dan Petrovic\, from Dejan Marketing. We’ve also secured local Australian talent with Brie Moreau (Digital Marketing SkillShare)\, Jason Mun (Bespoke)\, and James Norquay (Prosperity Media). Don’t miss out on this opportunity to up your game and network with some of the best – all for only $10.
URL:https://marketing.com.au/event/search-marketing-professionals-2018/
LOCATION:Honey Bar and Restaurant\, 345 Clarendon Street\, South Melbourne\, VIC\, 3205\, Australia
CATEGORIES:Advertising,All Event Locations,All Event Topics,All Event Types,Digital Marketing,Meetup,Melbourne,SEO
ATTACH;FMTTYPE=image/jpeg:https://marketing.com.au/wp-content/uploads/2018/05/Search-Marketing-Professionals.jpg
END:VEVENT
BEGIN:VEVENT
DTSTART;TZID=Australia/Melbourne:20180620T080000
DTEND;TZID=Australia/Melbourne:20180620T103000
DTSTAMP:20260420T035548
CREATED:20180522T062716Z
LAST-MODIFIED:20180522T062811Z
UID:11670-1529481600-1529490600@marketing.com.au
SUMMARY:Best Practice Multichannel Marketing - Melbourne
DESCRIPTION:This event has been designed to help marketers use different marketing channels to drive customers towards their company to purchase their goods or services. Part of the event will be spent looking at how linking channels can increase conversion and look at different way that companies are moving customers from channel to channel. The speakers will also discuss the latest approaches and tools to track multiple channel movements\, attribute sales and bring customers back to buy again.
URL:https://marketing.com.au/event/best-practice-multichannel-marketing-melbourne/
LOCATION:The Angliss Conference Centre\, Level 5\, 555 La Trobe Street\, Melbourne\, VIC\, 3000\, Australia
CATEGORIES:All Event Locations,All Event Topics,All Event Types,Content Marketing,Digital Marketing,Market Research,Marketing,Melbourne,Workshop
ORGANIZER;CN="Interactive Minds":MAILTO:louisa(at)interactiveminds.com.au
END:VEVENT
BEGIN:VEVENT
DTSTART;TZID=Australia/Melbourne:20180627T100000
DTEND;TZID=Australia/Melbourne:20180627T120000
DTSTAMP:20260420T035548
CREATED:20180612T060822Z
LAST-MODIFIED:20201002T005038Z
UID:11761-1530093600-1530100800@marketing.com.au
SUMMARY:LinkedIn Marketing: Build Your Brand & Create Business Opportunities
DESCRIPTION:With LinkedIn being such a fast growing platform for social media\, it is a perfect marketing channel for building both brand awareness and also creating your company’s brand. Attendance at this event will show you how to develop and implement clever LinkedIn marketing strategies to help get your brand in front of the right audience.
URL:https://marketing.com.au/event/linkedin-marketing-build-your-brand-create-business-opportunities/
LOCATION:Clifton Melbourne\, Level 1\, 440 Collins Street\, Melbourne\, Victoria\, 3000\, Australia
CATEGORIES:All Event Locations,All Event Topics,All Event Types,Content Marketing,Marketing,Melbourne,Social Media,Workshop
END:VEVENT
END:VCALENDAR