BEGIN:VCALENDAR
VERSION:2.0
PRODID:-//Marketing.com.au - ECPv6.15.20//NONSGML v1.0//EN
CALSCALE:GREGORIAN
METHOD:PUBLISH
X-WR-CALNAME:Marketing.com.au
X-ORIGINAL-URL:https://marketing.com.au
X-WR-CALDESC:Events for Marketing.com.au
REFRESH-INTERVAL;VALUE=DURATION:PT1H
X-Robots-Tag:noindex
X-PUBLISHED-TTL:PT1H
BEGIN:VTIMEZONE
TZID:Australia/Melbourne
BEGIN:STANDARD
TZOFFSETFROM:+1100
TZOFFSETTO:+1000
TZNAME:AEST
DTSTART:20170401T160000
END:STANDARD
BEGIN:DAYLIGHT
TZOFFSETFROM:+1000
TZOFFSETTO:+1100
TZNAME:AEDT
DTSTART:20170930T160000
END:DAYLIGHT
BEGIN:STANDARD
TZOFFSETFROM:+1100
TZOFFSETTO:+1000
TZNAME:AEST
DTSTART:20180331T160000
END:STANDARD
BEGIN:DAYLIGHT
TZOFFSETFROM:+1000
TZOFFSETTO:+1100
TZNAME:AEDT
DTSTART:20181006T160000
END:DAYLIGHT
BEGIN:STANDARD
TZOFFSETFROM:+1100
TZOFFSETTO:+1000
TZNAME:AEST
DTSTART:20190406T160000
END:STANDARD
BEGIN:DAYLIGHT
TZOFFSETFROM:+1000
TZOFFSETTO:+1100
TZNAME:AEDT
DTSTART:20191005T160000
END:DAYLIGHT
END:VTIMEZONE
BEGIN:VEVENT
DTSTART;TZID=Australia/Melbourne:20180113T100000
DTEND;TZID=Australia/Melbourne:20180113T170000
DTSTAMP:20260420T232345
CREATED:20171206T061704Z
LAST-MODIFIED:20171206T061704Z
UID:10894-1515837600-1515862800@marketing.com.au
SUMMARY:Launch into Growth Marketing (Melbourne)
DESCRIPTION:At this one-day Launch into Growth Marketing Bootcamp\, you’ll learn the fundamentals of growth marketing. No prior knowledge is necessary for this event. Growth Marketing creates a platform for companies to accelerate forward. At this event you will: \n\nGain a general overview of Growth Marketing and what a successful growth engine looks like\nLearn key differences between traditional digital and Growth Marketing\nExplore strategies to ensure success in your product and its growth in the market you’re tackling\nBuild a more cohesive understanding of your customer and create an optimised funnel to activate and retain your customer at every touchpoint\nOptimise your landing pages and website to shape customer decisions and actions
URL:https://marketing.com.au/event/launch-growth-marketing-melbourne-2/
LOCATION:Academy Xi Melbourne\, 23/303 Collins Street\, Melbourne\, Vic\, 3000\, Australia
CATEGORIES:All Event Locations,All Event Topics,All Event Types,Content Marketing,Digital Marketing,Market Research,Marketing,Melbourne,Presentation,Workshop
END:VEVENT
BEGIN:VEVENT
DTSTART;TZID=Australia/Melbourne:20180117T120000
DTEND;TZID=Australia/Melbourne:20180117T130000
DTSTAMP:20260420T232345
CREATED:20180103T234818Z
LAST-MODIFIED:20180103T234818Z
UID:10971-1516190400-1516194000@marketing.com.au
SUMMARY:Social Media Growth Hacking Strategies for Business
DESCRIPTION:There are so many different ways that you can do social marketing\, from different platforms\, different campaigns and everything in between. If it is done correctly it can be an affordable and efficient way to bring in new customers\, but it will need to be implemented correctly. \nIn this fast-paced lunchtime session\, you will explore some of the psychology of Social Media\, as well as understand the algorithms driving viral trends so that you can better understand how to do your own Growth Marketing. \nThis is what will be covered at this event: \n\nGrowth Marketing strategies for Instagram\, LinkedIn\, Facebook\, and Meetup\nOverview of the psychology behind social media\nExplore the algorithms for starting viral trends\nTips and advice for drawing more traffic through your business’s social page
URL:https://marketing.com.au/event/social-media-growth-hacking-strategies-business/
LOCATION:Academy Xi Melbourne\, 23/303 Collins Street\, Melbourne\, Vic\, 3000\, Australia
CATEGORIES:All Event Locations,All Event Topics,All Event Types,Content Marketing,Digital Marketing,Marketing,Melbourne,Social Media,Workshop
END:VEVENT
BEGIN:VEVENT
DTSTART;VALUE=DATE:20180120
DTEND;VALUE=DATE:20180121
DTSTAMP:20260420T232345
CREATED:20171123T071117Z
LAST-MODIFIED:20201002T051214Z
UID:10831-1516406400-1516492799@marketing.com.au
SUMMARY:Launch into Growth Marketing - Melbourne
DESCRIPTION:At this event you will learn the fundamental techniques to unlock scalable and repeatable hockey stick growth as a growth marketer or entrepreneur. A Growth Marketer has a mix of technical\, tactical and strategic skills in product\, data\, and marketing. They use data-driven\, unconventional and experimental marketing approaches to fuel growth and scalability of startups.
URL:https://marketing.com.au/event/launch-growth-marketing-melbourne/
LOCATION:Academy Xi Melbourne\, 23/303 Collins Street\, Melbourne\, Vic\, 3000\, Australia
CATEGORIES:All Event Locations,All Event Topics,All Event Types,Content Marketing,Digital Marketing,Marketing,Melbourne,Workshop
END:VEVENT
BEGIN:VEVENT
DTSTART;TZID=Australia/Melbourne:20180125T120000
DTEND;TZID=Australia/Melbourne:20180125T130000
DTSTAMP:20260420T232345
CREATED:20180108T014137Z
LAST-MODIFIED:20180108T014137Z
UID:10981-1516881600-1516885200@marketing.com.au
SUMMARY:Managing Content in a Digital Transformation
DESCRIPTION:In order to stay competitive with the industry you need to embrace all of the digital technologies. There are many different components with a digital transformation including content management. This session has been designed to show you how a digital strategy can help you lay the foundations for you digital transformation and help you with the ongoing maintenance as well. You will take an in-depth look at what is involved when migrating your business into the digital landscape. \nIt will cover: \n\nThe main phases of a web transformation project\nHow to undertake a content audit\nIdentifying what existing content to keep\, repurpose or cull\nHow to manage stakeholder interactions and requests\, plus much more!
URL:https://marketing.com.au/event/managing-content-digital-transformation/
LOCATION:Level 3\, 45 Exhibition Street\, Melbourne\, VIC\, 3000\, Australia
CATEGORIES:All Event Locations,All Event Topics,All Event Types,Content Marketing,Digital Marketing,Marketing,Melbourne,Workshop
END:VEVENT
BEGIN:VEVENT
DTSTART;VALUE=DATE:20180131
DTEND;VALUE=DATE:20180201
DTSTAMP:20260420T232345
CREATED:20171206T064212Z
LAST-MODIFIED:20201002T002715Z
UID:10903-1517356800-1517443199@marketing.com.au
SUMMARY:Intrigue Summit
DESCRIPTION:This conference has been designed to be intriguing\, educational and fun at the same time. Mix this with the fact that decision makers from the marketing departments of organisations attend our events. \nSome of the topics: \n\nHow to create a powerful brand with a perfect blend of content\, design and video\nMobile Marketing: Your clients are viewing their phones over 80 times a day. How to market in these moments and take them on a journey of eventual sales.\nContent Marketing: How to engage your audience and make them act after reading your content\nSEO: How to be best friends with search engine algorithms and how to deal with those algorithms suddenly behaving like humans\nDigital Marketing Analytics: How to measure your digital marketing efforts and make sense out of it
URL:https://marketing.com.au/event/intrigue-summit-2/
LOCATION:Melbourne Cricket Ground\, Brunton Avenue\, Richmond\, VIC\, 3002\, Australia
CATEGORIES:All Event Locations,All Event Topics,All Event Types,Conference,Content Marketing,Digital Marketing,Market Research,Marketing,Melbourne,Workshop
ORGANIZER;CN="Salesgasm":MAILTO:info(at)salesgasm.com
END:VEVENT
END:VCALENDAR