BEGIN:VCALENDAR
VERSION:2.0
PRODID:-//Marketing.com.au - ECPv6.15.20//NONSGML v1.0//EN
CALSCALE:GREGORIAN
METHOD:PUBLISH
X-ORIGINAL-URL:https://marketing.com.au
X-WR-CALDESC:Events for Marketing.com.au
REFRESH-INTERVAL;VALUE=DURATION:PT1H
X-Robots-Tag:noindex
X-PUBLISHED-TTL:PT1H
BEGIN:VTIMEZONE
TZID:Australia/Melbourne
BEGIN:STANDARD
TZOFFSETFROM:+1100
TZOFFSETTO:+1000
TZNAME:AEST
DTSTART:20160402T160000
END:STANDARD
BEGIN:DAYLIGHT
TZOFFSETFROM:+1000
TZOFFSETTO:+1100
TZNAME:AEDT
DTSTART:20161001T160000
END:DAYLIGHT
BEGIN:STANDARD
TZOFFSETFROM:+1100
TZOFFSETTO:+1000
TZNAME:AEST
DTSTART:20170401T160000
END:STANDARD
BEGIN:DAYLIGHT
TZOFFSETFROM:+1000
TZOFFSETTO:+1100
TZNAME:AEDT
DTSTART:20170930T160000
END:DAYLIGHT
BEGIN:STANDARD
TZOFFSETFROM:+1100
TZOFFSETTO:+1000
TZNAME:AEST
DTSTART:20180331T160000
END:STANDARD
BEGIN:DAYLIGHT
TZOFFSETFROM:+1000
TZOFFSETTO:+1100
TZNAME:AEDT
DTSTART:20181006T160000
END:DAYLIGHT
END:VTIMEZONE
BEGIN:VEVENT
DTSTART;VALUE=DATE:20171121
DTEND;VALUE=DATE:20171122
DTSTAMP:20260421T064506
CREATED:20170921T140835Z
LAST-MODIFIED:20201002T061206Z
UID:10567-1511222400-1511308799@marketing.com.au
SUMMARY:Principles of Digital Marketing
DESCRIPTION:This full day hands-on workshop has been designed to explain the concepts of effectively using digital to promote your business\, it will help you become more familiar with the benefits of using digital in today’s changing marketing processes. You will learn about how marketing is a crucial part of your marketing plan & understand the value of your website\, social media and e-marketing activities.
URL:https://marketing.com.au/event/principles-digital-marketing-4/
LOCATION:Clifton Melbourne\, Level 1\, 440 Collins Street\, Melbourne\, Victoria\, 3000\, Australia
CATEGORIES:All Event Locations,All Event Topics,All Event Types,Content Marketing,Digital Marketing,Marketing,Melbourne,Presentation,Workshop
END:VEVENT
BEGIN:VEVENT
DTSTART;TZID=Australia/Melbourne:20171121T183000
DTEND;TZID=Australia/Melbourne:20171121T203000
DTSTAMP:20260421T064506
CREATED:20171017T120117Z
LAST-MODIFIED:20171017T120117Z
UID:10690-1511289000-1511296200@marketing.com.au
SUMMARY:Grill the Honcho
DESCRIPTION:Want to hear what C-Suite have to say? The Grill the Honcho event includes 6 tables\, 6 honchos & 10 minutes to grill them. The C-Suite include: \n\nJodie Sangster\, CEO\, ADMA\nAndrea Pearman\, GM\, Marketing and Community\, Australia Post\nAdam Ferrier\, Founder\, Thinkerbell\nAndrew Baxter\, Chairman of Publicis Communications/CEO\, Publicis Australia\nJo Whyte\, Strategic Marketing & Corporate Affairs\, City of Melbourne\nDavid Ponce de Leon\, Executive Creative Director\, Ogilvy Melbourne
URL:https://marketing.com.au/event/grill-the-honcho/
LOCATION:Australia Post\, Level 10\, 111 Bourke Street\, Melbourne\, VIC\, 3000\, Australia
CATEGORIES:All Event Locations,All Event Topics,All Event Types,Market Research,Marketing,Melbourne,Public Relations,Social Media,Workshop
END:VEVENT
BEGIN:VEVENT
DTSTART;TZID=Australia/Melbourne:20171122T180000
DTEND;TZID=Australia/Melbourne:20171122T200000
DTSTAMP:20260421T064506
CREATED:20171101T002909Z
LAST-MODIFIED:20171101T002909Z
UID:10731-1511373600-1511380800@marketing.com.au
SUMMARY:Your Business in a Digital World
DESCRIPTION:With the marketing industry ever-changing\, the online world as evolved to include more than a website\, this all can be hard to keep up with. This event has been put together to teach you how you can bring digital thinking into all aspects of your business\, how find out what your customers are doing online\, determine what makes up an online solution\, make you business easy to find online\, plus more!
URL:https://marketing.com.au/event/business-digital-world/
LOCATION:Manningham Function Centre\, 699 Doncaster Road\, Doncaster\, VIC\, 3108\, Australia
CATEGORIES:All Event Locations,All Event Topics,All Event Types,Content Marketing,Digital Marketing,Marketing,Melbourne,Social Media,Workshop
END:VEVENT
BEGIN:VEVENT
DTSTART;VALUE=DATE:20171124
DTEND;VALUE=DATE:20171125
DTSTAMP:20260421T064506
CREATED:20170804T041200Z
LAST-MODIFIED:20201002T004529Z
UID:10324-1511481600-1511567999@marketing.com.au
SUMMARY:Developing a Content Marketing Strategy
DESCRIPTION:Content marketing is a very large part of marketing for all companies and businesses. The trends for marketing has changes so much of the past few years and with technology advancing as much as it has it has changed the way we do business\, as well as altering consumer behaviour and expectations. This event will uncover key content planning and strategies to help promote customer engagement. This collaborative session has been designed to help develop ideas for your business\, by sharing your experiences to take away skills to help your content strategy.
URL:https://marketing.com.au/event/developing-content-marketing-strategy-2/
LOCATION:Clifton Melbourne\, Level 1\, 440 Collins Street\, Melbourne\, Victoria\, 3000\, Australia
CATEGORIES:All Event Locations,All Event Topics,All Event Types,Content Marketing,Marketing,Melbourne,Workshop
END:VEVENT
BEGIN:VEVENT
DTSTART;TZID=Australia/Melbourne:20171129T180000
DTEND;TZID=Australia/Melbourne:20171129T213000
DTSTAMP:20260421T064506
CREATED:20171101T005207Z
LAST-MODIFIED:20171101T005311Z
UID:10735-1511978400-1511991000@marketing.com.au
SUMMARY:Advanced Digital Strategies for Your Business
DESCRIPTION:Small business owners have a lot to learn to help build their company up\, from developing content\, to understanding social media\, to search engine optimisation plus much more\, all of these tasks can be considered complex. This event will teach you how to develop a strategy to help grow your business through any online activities and help make your products and services easy for potential customers to find \nThis event will teach you how to develop an online marketing strategy\, align your online strategy to your business goals\, make it easier for customers to find you using search engines plus much more.
URL:https://marketing.com.au/event/advanced-digital-strategies-business/
LOCATION:Manningham Function Centre\, 699 Doncaster Road\, Doncaster\, VIC\, 3108\, Australia
CATEGORIES:All Event Locations,All Event Topics,All Event Types,Content Marketing,Marketing,Melbourne,Social Media,Workshop
END:VEVENT
END:VCALENDAR