BEGIN:VCALENDAR
VERSION:2.0
PRODID:-//Marketing.com.au - ECPv6.15.20//NONSGML v1.0//EN
CALSCALE:GREGORIAN
METHOD:PUBLISH
X-ORIGINAL-URL:https://marketing.com.au
X-WR-CALDESC:Events for Marketing.com.au
REFRESH-INTERVAL;VALUE=DURATION:PT1H
X-Robots-Tag:noindex
X-PUBLISHED-TTL:PT1H
BEGIN:VTIMEZONE
TZID:Australia/Melbourne
BEGIN:STANDARD
TZOFFSETFROM:+1100
TZOFFSETTO:+1000
TZNAME:AEST
DTSTART:20160402T160000
END:STANDARD
BEGIN:DAYLIGHT
TZOFFSETFROM:+1000
TZOFFSETTO:+1100
TZNAME:AEDT
DTSTART:20161001T160000
END:DAYLIGHT
BEGIN:STANDARD
TZOFFSETFROM:+1100
TZOFFSETTO:+1000
TZNAME:AEST
DTSTART:20170401T160000
END:STANDARD
BEGIN:DAYLIGHT
TZOFFSETFROM:+1000
TZOFFSETTO:+1100
TZNAME:AEDT
DTSTART:20170930T160000
END:DAYLIGHT
BEGIN:STANDARD
TZOFFSETFROM:+1100
TZOFFSETTO:+1000
TZNAME:AEST
DTSTART:20180331T160000
END:STANDARD
BEGIN:DAYLIGHT
TZOFFSETFROM:+1000
TZOFFSETTO:+1100
TZNAME:AEDT
DTSTART:20181006T160000
END:DAYLIGHT
END:VTIMEZONE
BEGIN:VEVENT
DTSTART;VALUE=DATE:20170905
DTEND;VALUE=DATE:20170908
DTSTAMP:20260421T153918
CREATED:20170616T153928Z
LAST-MODIFIED:20170616T154306Z
UID:10120-1504569600-1504828799@marketing.com.au
SUMMARY:Talking to the: Generations Australia 2017
DESCRIPTION:3 day event full of forums\, interactive workshops and discussions that will provide insights\, examples and tips that will help to take your marketing strategies to the next level. \nDay One: Marketing to Youth & Parents\nDay Two: Gen Y & Gen Z\nDay Three: Gen X & Baby Boomers \nSharing insights and learnings through case study presentations are: \n\nOptus\nWWF\, Australia\nThe Movember Foundation\nTransport Accident Commission\nKids Business Communication\nBureau of Metereology\nLuna Park\nNtegrity Agency\nSydney Opera House(TBC)\nLinkedIn\nMadman Entertainment(TBC)\nBlacktown Arts Centre
URL:https://marketing.com.au/event/talking-generations-australia-2017/
LOCATION:Mantra on Russell\, 222 Russell Street\, Melbourne\, Victoria\, 3000\, Australia
CATEGORIES:Advertising,All Event Locations,All Event Topics,All Event Types,Conference,Content Marketing,Digital Marketing,Marketing,Melbourne,Social Media,Workshop
ATTACH;FMTTYPE=image/png:https://marketing.com.au/wp-content/uploads/2017/06/Gens-728-90.png
END:VEVENT
END:VCALENDAR