BEGIN:VCALENDAR
VERSION:2.0
PRODID:-//Marketing.com.au - ECPv6.15.20//NONSGML v1.0//EN
CALSCALE:GREGORIAN
METHOD:PUBLISH
X-ORIGINAL-URL:https://marketing.com.au
X-WR-CALDESC:Events for Marketing.com.au
REFRESH-INTERVAL;VALUE=DURATION:PT1H
X-Robots-Tag:noindex
X-PUBLISHED-TTL:PT1H
BEGIN:VTIMEZONE
TZID:Australia/Melbourne
BEGIN:STANDARD
TZOFFSETFROM:+1100
TZOFFSETTO:+1000
TZNAME:AEST
DTSTART:20160402T160000
END:STANDARD
BEGIN:DAYLIGHT
TZOFFSETFROM:+1000
TZOFFSETTO:+1100
TZNAME:AEDT
DTSTART:20161001T160000
END:DAYLIGHT
BEGIN:STANDARD
TZOFFSETFROM:+1100
TZOFFSETTO:+1000
TZNAME:AEST
DTSTART:20170401T160000
END:STANDARD
BEGIN:DAYLIGHT
TZOFFSETFROM:+1000
TZOFFSETTO:+1100
TZNAME:AEDT
DTSTART:20170930T160000
END:DAYLIGHT
BEGIN:STANDARD
TZOFFSETFROM:+1100
TZOFFSETTO:+1000
TZNAME:AEST
DTSTART:20180331T160000
END:STANDARD
BEGIN:DAYLIGHT
TZOFFSETFROM:+1000
TZOFFSETTO:+1100
TZNAME:AEDT
DTSTART:20181006T160000
END:DAYLIGHT
END:VTIMEZONE
BEGIN:VEVENT
DTSTART;VALUE=DATE:20170814
DTEND;VALUE=DATE:20170815
DTSTAMP:20260421T184403
CREATED:20170728T041347Z
LAST-MODIFIED:20170728T041347Z
UID:10292-1502668800-1502755199@marketing.com.au
SUMMARY:PR Writing
DESCRIPTION:Do you want to learn how to write more engaging copy for your clients or potential clients? At this event you will learn how you can engage your target audience. You will learn with various writing and planning tasks that will be specifically related to your current role. You will also learn about different public relations communications which include media releases\, newsletters\, annual reports plus more.
URL:https://marketing.com.au/event/pr-writing/
LOCATION:Clifton Melbourne\, Level 1\, 440 Collins Street\, Melbourne\, Victoria\, 3000\, Australia
CATEGORIES:All Event Locations,All Event Topics,All Event Types,Content Marketing,Marketing,Melbourne,Public Relations,Workshop
END:VEVENT
BEGIN:VEVENT
DTSTART;TZID=Australia/Melbourne:20170829T070000
DTEND;TZID=Australia/Melbourne:20170829T090000
DTSTAMP:20260421T184403
CREATED:20170714T073200Z
LAST-MODIFIED:20170714T073200Z
UID:10242-1503990000-1503997200@marketing.com.au
SUMMARY:Marketing from the Inside-out
DESCRIPTION:Your biggest brand advocates are right under your nose\nThe Global Chief Marketing Officer\, Jeanniey Mullen\, from Mercer is coming to Melbourne! At this event she is going to be teaching the way Mercer do marketing and the advantages of having it all start from the staff down and having the staff as your biggest advoctes. This event will be teaching how this approach with marketing drives incredible results.
URL:https://marketing.com.au/event/marketing-from-the-inside-out/
LOCATION:The Point\, Albert Park\, 10 Aquatic Drive\, Albert Park\, VIC\, 3206\, Australia
CATEGORIES:All Event Locations,All Event Topics,All Event Types,Content Marketing,Marketing,Melbourne,Workshop
END:VEVENT
BEGIN:VEVENT
DTSTART;TZID=Australia/Melbourne:20170830T080000
DTEND;TZID=Australia/Melbourne:20170830T103000
DTSTAMP:20260421T184403
CREATED:20170816T113223Z
LAST-MODIFIED:20170816T113317Z
UID:10395-1504080000-1504089000@marketing.com.au
SUMMARY:Best Practice User Experience for Digital Marketers
DESCRIPTION:Every business needs customers; customers are who make a business. With the everything moving so quickly in the world it is important for marketers to give the customer the knowledge and information that they need fast and efficiently.\nThere are many different areas of digital marketing including website design\, search engine optimisation\, mobile and more. At this event you will hear from 2 experts who will share their experience in creating user first journeys to achieve digital marketing results. \nSpeakers:\nChristian Newski – Manager UX/UI\, Catch GroupDavid Kennedy – Experience Design Manager\, Deloitte Australia\nThomas Corneteau – User Experience & InterfaceDesign\, Carter Digital
URL:https://marketing.com.au/event/best-practice-user-experience-digital-marketers/
LOCATION:The Cluster\, 31 Queen Street\, Melbourne\, VIC\, 3000\, Australia
CATEGORIES:All Event Locations,All Event Topics,All Event Types,Content Marketing,Digital Marketing,Market Research,Marketing,Melbourne,SEO,Workshop
ORGANIZER;CN="Interactive Minds":MAILTO:louisa(at)interactiveminds.com.au
END:VEVENT
END:VCALENDAR