BEGIN:VCALENDAR
VERSION:2.0
PRODID:-//Marketing.com.au - ECPv6.15.20//NONSGML v1.0//EN
CALSCALE:GREGORIAN
METHOD:PUBLISH
X-ORIGINAL-URL:https://marketing.com.au
X-WR-CALDESC:Events for Marketing.com.au
REFRESH-INTERVAL;VALUE=DURATION:PT1H
X-Robots-Tag:noindex
X-PUBLISHED-TTL:PT1H
BEGIN:VTIMEZONE
TZID:Australia/Melbourne
BEGIN:STANDARD
TZOFFSETFROM:+1100
TZOFFSETTO:+1000
TZNAME:AEST
DTSTART:20160402T160000
END:STANDARD
BEGIN:DAYLIGHT
TZOFFSETFROM:+1000
TZOFFSETTO:+1100
TZNAME:AEDT
DTSTART:20161001T160000
END:DAYLIGHT
BEGIN:STANDARD
TZOFFSETFROM:+1100
TZOFFSETTO:+1000
TZNAME:AEST
DTSTART:20170401T160000
END:STANDARD
BEGIN:DAYLIGHT
TZOFFSETFROM:+1000
TZOFFSETTO:+1100
TZNAME:AEDT
DTSTART:20170930T160000
END:DAYLIGHT
BEGIN:STANDARD
TZOFFSETFROM:+1100
TZOFFSETTO:+1000
TZNAME:AEST
DTSTART:20180331T160000
END:STANDARD
BEGIN:DAYLIGHT
TZOFFSETFROM:+1000
TZOFFSETTO:+1100
TZNAME:AEDT
DTSTART:20181006T160000
END:DAYLIGHT
END:VTIMEZONE
BEGIN:VEVENT
DTSTART;VALUE=DATE:20170613
DTEND;VALUE=DATE:20170614
DTSTAMP:20260422T070843
CREATED:20170605T014646Z
LAST-MODIFIED:20201002T043708Z
UID:10061-1497312000-1497398399@marketing.com.au
SUMMARY:Digital Analytics For Marketers Course
DESCRIPTION:This course on data analytics has been put together to simplify the topic and make it straightforward and coherent\, you will learn about applying a metrics framework to any digital campaigns\, read and interpret key reports in Google Analytics\, Uncover hidden consumer insights and utilise them to effectively communicate with your consumers plus much more!
URL:https://marketing.com.au/event/digital-analytics-marketers-course/
LOCATION:Karstens Melbourne\, 123 Queen Street\, Melbourne\, VIC\, 3000\, Australia
CATEGORIES:All Event Locations,All Event Topics,All Event Types,Content Marketing,Digital Marketing,Market Research,Marketing,Melbourne,Presentation,Social Media,Workshop
END:VEVENT
BEGIN:VEVENT
DTSTART;VALUE=DATE:20170621
DTEND;VALUE=DATE:20170622
DTSTAMP:20260422T070843
CREATED:20170331T094642Z
LAST-MODIFIED:20170331T094642Z
UID:9740-1498003200-1498089599@marketing.com.au
SUMMARY:Search Engine Optimisation for Small Business
DESCRIPTION:Do you want to learn about search engine listings\, web analytics or Google Keyword Planner? Then attending this event you will learn that. As you know\, just having a website doesn’t mean that you business is going to show in Google search straight away. \nAs well as this\, you will also learn how to structure web content to make it SEO friendly; how to find the best keywords by using Google Keyword Planner Tool plus much more!
URL:https://marketing.com.au/event/search-engine-optimisation-for-small-business/
LOCATION:Manningham Civic Centre\, 699 Doncaster Road\, Doncaster\, VIC\, 3108\, Australia
CATEGORIES:All Event Locations,All Event Topics,All Event Types,Content Marketing,Marketing,Melbourne,SEO,Social Media,Workshop
END:VEVENT
END:VCALENDAR