BEGIN:VCALENDAR
VERSION:2.0
PRODID:-//Marketing.com.au - ECPv6.15.20//NONSGML v1.0//EN
CALSCALE:GREGORIAN
METHOD:PUBLISH
X-WR-CALNAME:Marketing.com.au
X-ORIGINAL-URL:https://marketing.com.au
X-WR-CALDESC:Events for Marketing.com.au
REFRESH-INTERVAL;VALUE=DURATION:PT1H
X-Robots-Tag:noindex
X-PUBLISHED-TTL:PT1H
BEGIN:VTIMEZONE
TZID:Australia/Melbourne
BEGIN:STANDARD
TZOFFSETFROM:+1100
TZOFFSETTO:+1000
TZNAME:AEST
DTSTART:20160402T160000
END:STANDARD
BEGIN:DAYLIGHT
TZOFFSETFROM:+1000
TZOFFSETTO:+1100
TZNAME:AEDT
DTSTART:20161001T160000
END:DAYLIGHT
BEGIN:STANDARD
TZOFFSETFROM:+1100
TZOFFSETTO:+1000
TZNAME:AEST
DTSTART:20170401T160000
END:STANDARD
BEGIN:DAYLIGHT
TZOFFSETFROM:+1000
TZOFFSETTO:+1100
TZNAME:AEDT
DTSTART:20170930T160000
END:DAYLIGHT
BEGIN:STANDARD
TZOFFSETFROM:+1100
TZOFFSETTO:+1000
TZNAME:AEST
DTSTART:20180331T160000
END:STANDARD
BEGIN:DAYLIGHT
TZOFFSETFROM:+1000
TZOFFSETTO:+1100
TZNAME:AEDT
DTSTART:20181006T160000
END:DAYLIGHT
END:VTIMEZONE
BEGIN:VEVENT
DTSTART;VALUE=DATE:20170503
DTEND;VALUE=DATE:20170505
DTSTAMP:20260421T224054
CREATED:20170210T062244Z
LAST-MODIFIED:20170210T062244Z
UID:9508-1493769600-1493942399@marketing.com.au
SUMMARY:Australian Government Social Media Toolkit 2017
DESCRIPTION:With so many different social media channels available and with them constantly changing and also more social media channels being created all of the time it can be hard to keep up. Attending this event you will learn what they are; what to use; what other people are using plus much more.
URL:https://marketing.com.au/event/australian-government-social-media-toolkit-2017/
LOCATION:Novotel on Collins\, 270 Collins Street\, Melbourne\, VIC\, 3000\, Australia
CATEGORIES:All Event Locations,All Event Topics,All Event Types,Conference,Marketing,Melbourne,Social Media
END:VEVENT
BEGIN:VEVENT
DTSTART;TZID=Australia/Melbourne:20170525T083000
DTEND;TZID=Australia/Melbourne:20170525T173000
DTSTAMP:20260421T224054
CREATED:20170304T010247Z
LAST-MODIFIED:20201002T043927Z
UID:9623-1495701000-1495733400@marketing.com.au
SUMMARY:Millennials Marketing Conference
DESCRIPTION:“MILLENNIALS ARE THE FASTEST CREATORS AND EVEN FASTER ADOPTERS – AND THEY’RE CHANGING THE WORLD WE LIVE IN EVERY DAY.​” – Growth Tank \nThis event includes two days of research\, insights\, strategies\, interactive workshops\, roundtables and networking to help give brands the edge on millennial consumers.
URL:https://marketing.com.au/event/millennials-marketing-conference-2/
LOCATION:ACMI\, Federation Square\, Flinders St\, Melbourne\, VIC\, 3000\, Australia
CATEGORIES:All Event Locations,All Event Topics,All Event Types,Content Marketing,Digital Marketing,Marketing,Melbourne,Workshop
END:VEVENT
BEGIN:VEVENT
DTSTART;VALUE=DATE:20170530
DTEND;VALUE=DATE:20170531
DTSTAMP:20260421T224054
CREATED:20170328T044932Z
LAST-MODIFIED:20170328T044932Z
UID:9717-1496102400-1496188799@marketing.com.au
SUMMARY:Principles of Digital Marketing - Melbourne
DESCRIPTION:There are many different forms of marketing\, at this event you will be introduced to different concepts to effectively use digital forms of marketing; marketing is a crucial part of the overall marketing plan and it includes social media\, e-marketing and the value of your current website. You will learn how digital marketing can apply to a variety of businesses.
URL:https://marketing.com.au/event/principles-digital-marketing-melbourne/
LOCATION:Clifton Melbourne\, Level 1\, 440 Collins Street\, Melbourne\, Victoria\, 3000\, Australia
CATEGORIES:All Event Locations,All Event Topics,All Event Types,Content Marketing,Digital Marketing,Marketing,Melbourne,Workshop
END:VEVENT
BEGIN:VEVENT
DTSTART;VALUE=DATE:20170531
DTEND;VALUE=DATE:20170601
DTSTAMP:20260421T224054
CREATED:20170109T030855Z
LAST-MODIFIED:20170109T030855Z
UID:9335-1496188800-1496275199@marketing.com.au
SUMMARY:Social Media Applications - Melbourne
DESCRIPTION:This one day workshop brings together case studies\, research\, hands-on learning plus much more to help participants understand the use of social media for business and also different business strategies when it comes to social media. You will participate in small group activities\, discuss as well as other forms.
URL:https://marketing.com.au/event/social-media-applications-melbourne/
LOCATION:Clifton Melbourne\, Level 1\, 440 Collins Street\, Melbourne\, Victoria\, 3000\, Australia
CATEGORIES:All Event Locations,All Event Topics,All Event Types,Content Marketing,Marketing,Melbourne,Social Media,Workshop
END:VEVENT
END:VCALENDAR