BEGIN:VCALENDAR
VERSION:2.0
PRODID:-//Marketing.com.au - ECPv6.15.20//NONSGML v1.0//EN
CALSCALE:GREGORIAN
METHOD:PUBLISH
X-WR-CALNAME:Marketing.com.au
X-ORIGINAL-URL:https://marketing.com.au
X-WR-CALDESC:Events for Marketing.com.au
REFRESH-INTERVAL;VALUE=DURATION:PT1H
X-Robots-Tag:noindex
X-PUBLISHED-TTL:PT1H
BEGIN:VTIMEZONE
TZID:Australia/Melbourne
BEGIN:STANDARD
TZOFFSETFROM:+1100
TZOFFSETTO:+1000
TZNAME:AEST
DTSTART:20160402T160000
END:STANDARD
BEGIN:DAYLIGHT
TZOFFSETFROM:+1000
TZOFFSETTO:+1100
TZNAME:AEDT
DTSTART:20161001T160000
END:DAYLIGHT
BEGIN:STANDARD
TZOFFSETFROM:+1100
TZOFFSETTO:+1000
TZNAME:AEST
DTSTART:20170401T160000
END:STANDARD
BEGIN:DAYLIGHT
TZOFFSETFROM:+1000
TZOFFSETTO:+1100
TZNAME:AEDT
DTSTART:20170930T160000
END:DAYLIGHT
BEGIN:STANDARD
TZOFFSETFROM:+1100
TZOFFSETTO:+1000
TZNAME:AEST
DTSTART:20180331T160000
END:STANDARD
BEGIN:DAYLIGHT
TZOFFSETFROM:+1000
TZOFFSETTO:+1100
TZNAME:AEDT
DTSTART:20181006T160000
END:DAYLIGHT
END:VTIMEZONE
BEGIN:VEVENT
DTSTART;VALUE=DATE:20170405
DTEND;VALUE=DATE:20170406
DTSTAMP:20260422T013635
CREATED:20161222T091049Z
LAST-MODIFIED:20161222T091049Z
UID:9241-1491350400-1491436799@marketing.com.au
SUMMARY:DataDay - Melbourne
DESCRIPTION:At this one day conference you will learn how to effectively use real-time data to help deliver a great customer experience.\nIt brings 4 international keynote speakers\, 10case studies & 12 panellists who will be discussing issues that the industry face today including but limited to digital capabilities customer segmentation and the ethical use of data.
URL:https://marketing.com.au/event/dataday-melbourne/
LOCATION:Sofitel Melbourne\, 25 Collins Street\, Melbourne\, VIC\, 3000\, Australia
CATEGORIES:All Event Locations,All Event Topics,All Event Types,Conference,Content Marketing,Market Research,Marketing,Melbourne,Workshop
END:VEVENT
BEGIN:VEVENT
DTSTART;TZID=Australia/Melbourne:20170419T093000
DTEND;TZID=Australia/Melbourne:20170419T130000
DTSTAMP:20260422T013635
CREATED:20170413T072851Z
LAST-MODIFIED:20170413T072956Z
UID:9829-1492594200-1492606800@marketing.com.au
SUMMARY:Starting Your Business Right Workshop
DESCRIPTION:In this workshop you’ll learn how to conduct a feasibility study on your business idea with a small group of people new to business in your local area. It will cover how to evaluate business-readiness\, market-analysis\, how to determine the best structure\, prepare a business plan and also a step-by-step guide to getting registered.
URL:https://marketing.com.au/event/starting-business-right-workshop/
LOCATION:Brunswick Business Incubator\, 420 Victoria street \, Brunswick\, VIC\, 3056\, Australia
CATEGORIES:All Event Locations,All Event Topics,Marketing,Melbourne,Workshop
END:VEVENT
END:VCALENDAR