BEGIN:VCALENDAR
VERSION:2.0
PRODID:-//Marketing.com.au - ECPv6.15.20//NONSGML v1.0//EN
CALSCALE:GREGORIAN
METHOD:PUBLISH
X-WR-CALNAME:Marketing.com.au
X-ORIGINAL-URL:https://marketing.com.au
X-WR-CALDESC:Events for Marketing.com.au
REFRESH-INTERVAL;VALUE=DURATION:PT1H
X-Robots-Tag:noindex
X-PUBLISHED-TTL:PT1H
BEGIN:VTIMEZONE
TZID:Australia/Melbourne
BEGIN:STANDARD
TZOFFSETFROM:+1100
TZOFFSETTO:+1000
TZNAME:AEST
DTSTART:20160402T160000
END:STANDARD
BEGIN:DAYLIGHT
TZOFFSETFROM:+1000
TZOFFSETTO:+1100
TZNAME:AEDT
DTSTART:20161001T160000
END:DAYLIGHT
BEGIN:STANDARD
TZOFFSETFROM:+1100
TZOFFSETTO:+1000
TZNAME:AEST
DTSTART:20170401T160000
END:STANDARD
BEGIN:DAYLIGHT
TZOFFSETFROM:+1000
TZOFFSETTO:+1100
TZNAME:AEDT
DTSTART:20170930T160000
END:DAYLIGHT
BEGIN:STANDARD
TZOFFSETFROM:+1100
TZOFFSETTO:+1000
TZNAME:AEST
DTSTART:20180331T160000
END:STANDARD
BEGIN:DAYLIGHT
TZOFFSETFROM:+1000
TZOFFSETTO:+1100
TZNAME:AEDT
DTSTART:20181006T160000
END:DAYLIGHT
END:VTIMEZONE
BEGIN:VEVENT
DTSTART;VALUE=DATE:20170327
DTEND;VALUE=DATE:20170328
DTSTAMP:20260422T114559
CREATED:20170125T025447Z
LAST-MODIFIED:20170125T025447Z
UID:9420-1490572800-1490659199@marketing.com.au
SUMMARY:Marketing for Not for Profits - Melbourne
DESCRIPTION:With the Not for Profit facing more challenges than the normal business\, such as limited budgets and resources. AMI are putting on this workshop to help to maximise your marketing dollar. You will also learn how successful campaigns work and how that can be implemented into your business. To learn all of this you will use a variety of case studies.
URL:https://marketing.com.au/event/marketing-not-profits-melbourne/
LOCATION:Clifton Melbourne\, Level 1\, 440 Collins Street\, Melbourne\, Victoria\, 3000\, Australia
CATEGORIES:All Event Locations,All Event Topics,All Event Types,Content Marketing,Digital Marketing,Market Research,Marketing,Melbourne,Workshop
END:VEVENT
BEGIN:VEVENT
DTSTART;TZID=Australia/Melbourne:20170329T080000
DTEND;TZID=Australia/Melbourne:20170329T103000
DTSTAMP:20260422T114559
CREATED:20170322T223620Z
LAST-MODIFIED:20201002T053700Z
UID:9696-1490774400-1490783400@marketing.com.au
SUMMARY:Growth Hacking Uncovered
DESCRIPTION:At this event we’ll be exploring how marketers can leverage growth hacking techniques to achieve high growth objectives. \nThe speakers you will hear from at this event\, include: \n\nMichael Bird – Co-Founder & CEO\, Social Garden\nChanie Hyde – Marketing Services Manager\, BlueChilli Group\nWill Egan – CMO Ausmed\, Co-Founder Growth Hackers Australia
URL:https://marketing.com.au/event/growth-hacking-uncovered-2/
LOCATION:The Cluster\, 31 Queen Street\, Melbourne\, VIC\, 3000\, Australia
CATEGORIES:All Event Locations,All Event Topics,All Event Types,Digital Marketing,Marketing,Melbourne,Presentation
ORGANIZER;CN="Interactive Minds":MAILTO:louisa(at)interactiveminds.com.au
END:VEVENT
END:VCALENDAR