BEGIN:VCALENDAR
VERSION:2.0
PRODID:-//Marketing.com.au - ECPv6.15.20//NONSGML v1.0//EN
CALSCALE:GREGORIAN
METHOD:PUBLISH
X-WR-CALNAME:Marketing.com.au
X-ORIGINAL-URL:https://marketing.com.au
X-WR-CALDESC:Events for Marketing.com.au
REFRESH-INTERVAL;VALUE=DURATION:PT1H
X-Robots-Tag:noindex
X-PUBLISHED-TTL:PT1H
BEGIN:VTIMEZONE
TZID:Australia/Melbourne
BEGIN:STANDARD
TZOFFSETFROM:+1100
TZOFFSETTO:+1000
TZNAME:AEST
DTSTART:20150404T160000
END:STANDARD
BEGIN:DAYLIGHT
TZOFFSETFROM:+1000
TZOFFSETTO:+1100
TZNAME:AEDT
DTSTART:20151003T160000
END:DAYLIGHT
BEGIN:STANDARD
TZOFFSETFROM:+1100
TZOFFSETTO:+1000
TZNAME:AEST
DTSTART:20160402T160000
END:STANDARD
BEGIN:DAYLIGHT
TZOFFSETFROM:+1000
TZOFFSETTO:+1100
TZNAME:AEDT
DTSTART:20161001T160000
END:DAYLIGHT
BEGIN:STANDARD
TZOFFSETFROM:+1100
TZOFFSETTO:+1000
TZNAME:AEST
DTSTART:20170401T160000
END:STANDARD
BEGIN:DAYLIGHT
TZOFFSETFROM:+1000
TZOFFSETTO:+1100
TZNAME:AEDT
DTSTART:20170930T160000
END:DAYLIGHT
END:VTIMEZONE
BEGIN:VEVENT
DTSTART;VALUE=DATE:20160204
DTEND;VALUE=DATE:20160206
DTSTAMP:20260423T194036
CREATED:20151210T060315Z
LAST-MODIFIED:20151210T060315Z
UID:7298-1454544000-1454716799@marketing.com.au
SUMMARY:Facebook Marketing Intensive - Melbourne
DESCRIPTION:A two day workshop to help you build a multi-staged Facebook ad marketing campaign for you and your business. A mentor will help guide you step by step through our proven process to help you build the content\, advertisements and workflow to attract new customers and clients through the Facebook platform. This event is designed to help business owners\, marketing managers and startup founders expand their marketing campaigns through social media.
URL:https://marketing.com.au/event/facebook-marketing-intensive-melbourne/
LOCATION:Karstens Melbourne\, 123 Queen Street\, Melbourne\, VIC\, 3000\, Australia
CATEGORIES:Advertising,All Event Locations,All Event Topics,All Event Types,Conference,Content Marketing,Digital Marketing,Marketing,Melbourne,Social Media,Workshop
END:VEVENT
BEGIN:VEVENT
DTSTART;VALUE=DATE:20160222
DTEND;VALUE=DATE:20160225
DTSTAMP:20260423T194036
CREATED:20160205T012014Z
LAST-MODIFIED:20160205T012014Z
UID:7365-1456099200-1456358399@marketing.com.au
SUMMARY:Digital Marketing Course presented by Loves Data\, Melbourne 22–24 February 2016
DESCRIPTION:Starting out? Need a refresher? Want to advance your career? Attend one\, two or all three days! Learn with Google Certified experts as we take you through our training courses that are the most up-to-date\, accurate and practical available. Loves Data is a leading digital agency and training provider. Our courses follow best practices and share real world hands-on experience from client campaigns for organisations of all types and sizes. \nPlaces are limited. Book now! For more information and bookings please visit www.lovesdata.com or call our friendly experts on 02 9922 8111.
URL:https://marketing.com.au/event/digital-marketing-course-presented-by-loves-data-melbourne-22-24-february-2016/
LOCATION:Melbourne Business School\, 200 Leicester Street\, Melbourne\, Victoria\, 3053\, Australia
CATEGORIES:Advertising,All Event Topics,All Event Types,Content Marketing,Digital Marketing,Marketing,Melbourne,Workshop
ORGANIZER;CN="Loves Data":MAILTO:info(at)lovesdata.com
END:VEVENT
BEGIN:VEVENT
DTSTART;VALUE=DATE:20160223
DTEND;VALUE=DATE:20160224
DTSTAMP:20260423T194036
CREATED:20160209T012526Z
LAST-MODIFIED:20160209T012526Z
UID:7398-1456185600-1456271999@marketing.com.au
SUMMARY:Managing Marketing in a Multichannel Retail Environment - MELBOURNE
DESCRIPTION:Do you know what it takes to become a modern marketer in this faced paced\, technology dominate\, evolving retailing environment of 2016? The Inside Retail Academy focuses on educating and inspiring retail executives\, teams and graduates through cases studies and insights from leading experts in marketing and retail. \nThis not to be missed marketing conference will showcase a huge expert lineup of speakers\, such as: \n\nJohn Batistich – Director Marketing\, Scentre Group\nSimon Rossi – General Manager\, Uber\nLevi Aron – Country Manager\, Deliveroo\nDavid Bauer – Marketing Manager\, Supercheap Auto\nDr. Violet Lazarevic – Research Unit Department of Marketing\, Monash Business School\nJulie Stevanja – Founder & CEO\, Stylerunner\nDaye Moffitt – Strategy Director\, Principals\nDave Goodfellow – Social Intelligence Lead\, SDL\nJames Johnson – Director Customer Success & Retail Practice\, Demandware
URL:https://marketing.com.au/event/managing-marketing-in-a-multichannel-retail-environment-melbourne/
LOCATION:Sheraton Melbourne\, 27 Little Collins St\, Melbourne\, VIC\, 3000\, Australia
CATEGORIES:Advertising,All Event Locations,All Event Topics,All Event Types,Conference,Content Marketing,Digital Marketing,Market Research,Marketing,Melbourne,Public Relations,SEO,Social Media
END:VEVENT
BEGIN:VEVENT
DTSTART;TZID=Australia/Melbourne:20160223T180000
DTEND;TZID=Australia/Melbourne:20160223T190000
DTSTAMP:20260423T194036
CREATED:20160208T070222Z
LAST-MODIFIED:20160208T070222Z
UID:7391-1456250400-1456254000@marketing.com.au
SUMMARY:Introduction to Content and Social Media Marketing
DESCRIPTION:An introduction 1 hour course to teach you how to make content and social media work for you. Learn how to understand and track important trends and metrics\, learn how to make your brand really stand out\, learn how to create good ROI. \nThis introduction class on social media marketing and content marketing will be run by digital marketing veteran Andrew Hutchinson; covering topics such as\, “What is content marketing”\, Understanding the three pillars of content marketing\, understanding your audience\, and\, “planning\, automation\, analytics” \n  \n 
URL:https://marketing.com.au/event/introduction-to-content-and-social-media-marketing/
LOCATION:Collective Campus\, Level 1\, 20 Queen St\, Melbourne\, VIC\, 3000\, Australia
CATEGORIES:All Event Locations,All Event Topics,All Event Types,Digital Marketing,Marketing,Melbourne,Social Media,Workshop
ORGANIZER;CN="Collective Campus":MAILTO:info(at)collectivecamp.us
END:VEVENT
BEGIN:VEVENT
DTSTART;VALUE=DATE:20160225
DTEND;VALUE=DATE:20160227
DTSTAMP:20260423T194036
CREATED:20151119T052601Z
LAST-MODIFIED:20151119T052601Z
UID:7254-1456358400-1456531199@marketing.com.au
SUMMARY:Google Analytics 101 & 201 Training
DESCRIPTION:Unlock the potential of Google Analytics and learn how to build a successful online presence with Google Analytics Certified experts from Loves Data. More info is found on: http://lovesdata.co/A8fA
URL:https://marketing.com.au/event/google-analytics-101-201-training/
LOCATION:Melbourne Business School\, 200 Leicester Street\, Melbourne\, Victoria\, 3053\, Australia
CATEGORIES:All Event Locations,All Event Topics,All Event Types,Conference,Content Marketing,Digital Marketing,Market Research,Marketing,Melbourne,SEO,Social Media,Workshop
ORGANIZER;CN="Loves Data":MAILTO:info(at)lovesdata.com
END:VEVENT
BEGIN:VEVENT
DTSTART;VALUE=DATE:20160225
DTEND;VALUE=DATE:20160227
DTSTAMP:20260423T194036
CREATED:20160205T012503Z
LAST-MODIFIED:20160205T012503Z
UID:7366-1456358400-1456531199@marketing.com.au
SUMMARY:Google Analytics Course presented by Loves Data\, Melbourne 25 & 26 February 2016
DESCRIPTION:Learn how to improve the performance of websites and online marketing campaigns with Google Analytics Certified trainers from Loves Data\, the leading provider of Google Analytics training in Australia
URL:https://marketing.com.au/event/google-analytics-course-presented-by-loves-data-melbourne-2526-february-2016/
LOCATION:Melbourne Business School\, 200 Leicester Street\, Melbourne\, Victoria\, 3053\, Australia
CATEGORIES:All Event Locations,All Event Topics,All Event Types,Content Marketing,Digital Marketing,Market Research,Marketing,Melbourne,SEO,Workshop
ORGANIZER;CN="Loves Data":MAILTO:info(at)lovesdata.com
END:VEVENT
BEGIN:VEVENT
DTSTART;TZID=Australia/Melbourne:20160225T090000
DTEND;TZID=Australia/Melbourne:20160225T130000
DTSTAMP:20260423T194036
CREATED:20151203T113049Z
LAST-MODIFIED:20151203T113049Z
UID:7289-1456390800-1456405200@marketing.com.au
SUMMARY:Measurable Marketing - Melbourne
DESCRIPTION:Arrow Digital has put together a seminar to help small business owners understand the basics of marketing and how to navigate their way through marketing in 2016 and beyond. \nThe seminar will cover topics such as: \n\nMeasurement Myths\nMeasurement Metrics\nIntegrating On and Offline Marketing\nWebsite Terminology and Metrics\nSocial Media Terminology and Metrics
URL:https://marketing.com.au/event/measurable-marketing-melbourne/
LOCATION:Unnamed Venue\, 123 Queen St\, Melbourne\, VIC\, 3000\, Australia
CATEGORIES:Advertising,All Event Locations,All Event Topics,All Event Types,Content Marketing,Marketing,Melbourne,Public Relations,SEO,Social Media,Workshop
ORGANIZER;CN="Arrow Internet Marketing":MAILTO:connect(at)arrowinternet.com.au
END:VEVENT
BEGIN:VEVENT
DTSTART;TZID=Australia/Melbourne:20160225T180000
DTEND;TZID=Australia/Melbourne:20160225T190000
DTSTAMP:20260423T194036
CREATED:20160208T071200Z
LAST-MODIFIED:20160208T071200Z
UID:7392-1456423200-1456426800@marketing.com.au
SUMMARY:Introduction to SEO & Analytics
DESCRIPTION:SEO and Google Analyitcs are some very important aspects of digital marketing\, not to be overlooked. This introduction course at Collective Campus will give participants a strong\, fundamental understanding of what SEO and Google Analytics can do for your business. If you’re running an online store\, starting a blog or have a website for your business\, this class is a great starting point to getting your website in front of the right people and improving your business’s online presence. \nSome of the topics covered by this class are: \n\nThe evolution of SEO.\nBasic SEO ranking factors.\nThe power of analytics.\nGoogle analytics 101\n\nLimited spots available\, Book now to reserve yours
URL:https://marketing.com.au/event/introduction-to-seo-analytics/
LOCATION:Collective Campus\, Level 1\, 20 Queen St\, Melbourne\, VIC\, 3000\, Australia
CATEGORIES:All Event Locations,All Event Topics,All Event Types,Content Marketing,Digital Marketing,Market Research,Marketing,Melbourne,SEO,Social Media,Workshop
ORGANIZER;CN="Collective Campus":MAILTO:info(at)collectivecamp.us
END:VEVENT
END:VCALENDAR