BEGIN:VCALENDAR
VERSION:2.0
PRODID:-//Marketing.com.au - ECPv6.15.20//NONSGML v1.0//EN
CALSCALE:GREGORIAN
METHOD:PUBLISH
X-ORIGINAL-URL:https://marketing.com.au
X-WR-CALDESC:Events for Marketing.com.au
REFRESH-INTERVAL;VALUE=DURATION:PT1H
X-Robots-Tag:noindex
X-PUBLISHED-TTL:PT1H
BEGIN:VTIMEZONE
TZID:Australia/Melbourne
BEGIN:STANDARD
TZOFFSETFROM:+1100
TZOFFSETTO:+1000
TZNAME:AEST
DTSTART:20140405T160000
END:STANDARD
BEGIN:DAYLIGHT
TZOFFSETFROM:+1000
TZOFFSETTO:+1100
TZNAME:AEDT
DTSTART:20141004T160000
END:DAYLIGHT
BEGIN:STANDARD
TZOFFSETFROM:+1100
TZOFFSETTO:+1000
TZNAME:AEST
DTSTART:20150404T160000
END:STANDARD
BEGIN:DAYLIGHT
TZOFFSETFROM:+1000
TZOFFSETTO:+1100
TZNAME:AEDT
DTSTART:20151003T160000
END:DAYLIGHT
BEGIN:STANDARD
TZOFFSETFROM:+1100
TZOFFSETTO:+1000
TZNAME:AEST
DTSTART:20160402T160000
END:STANDARD
BEGIN:DAYLIGHT
TZOFFSETFROM:+1000
TZOFFSETTO:+1100
TZNAME:AEDT
DTSTART:20161001T160000
END:DAYLIGHT
END:VTIMEZONE
BEGIN:VEVENT
DTSTART;VALUE=DATE:20151029
DTEND;VALUE=DATE:20151125
DTSTAMP:20260424T061314
CREATED:20151022T035116Z
LAST-MODIFIED:20151022T035116Z
UID:7209-1446076800-1448409599@marketing.com.au
SUMMARY:Loves Data | Google Analytics 101 & 201
DESCRIPTION:This 2-day course will take your Google Analytics knowledge to the next level with our Google Certified Experts from Loves Data. Topics covered are suitable for new as well as advanced users. \nThis Event will be featured in 3 different states on different dates\, listed below: \nLoves Data | Google Analytics 101 & 201\nDates: 29/10/2015 – 30/10/2015\nLocation: UNSW CBD Campus – Level 6\, 1 O’Connell Street\, Sydney\, NSW 2000\nWebsite: http://www.lovesdata.com/events/ga-syd-oct/ \nLoves Data | Google Analytics 101 & 201\nDates: 12/11/2015 – 13/11/2015\nLocation: Melbourne Business School – 200 Leicester Street\, Melbourne\, VIC 3000\nWebsite: http://www.lovesdata.com/events/ga-mel-nov/ \nLoves Data | Google Analytics 101 & 201\nDates: 23/11/2015 – 24/11/2015\nLocation: UQ Business School Downtown – Level 19 Central Plaza One\, 345 Queen Street\, Brisbane\, QLD 3000\nWebsite: http://www.lovesdata.com/events/ga-bris-nov/
URL:https://marketing.com.au/event/loves-data-google-analytics-101-201/
LOCATION:UNSW CBD Campus\, Level 6\, 1 O'Connell Street\, Sydney\, NSW\, 2000\, Australia
CATEGORIES:Advertising,All Event Locations,All Event Types,Brisbane,Market Research,Marketing,Melbourne,Public Relations,SEO,Social Media,Sydney,Workshop
ORGANIZER;CN="Loves Data":MAILTO:info(at)lovesdata.com
END:VEVENT
BEGIN:VEVENT
DTSTART;VALUE=DATE:20151109
DTEND;VALUE=DATE:20151112
DTSTAMP:20260424T061314
CREATED:20151022T033601Z
LAST-MODIFIED:20201002T005851Z
UID:7208-1447027200-1447286399@marketing.com.au
SUMMARY:Loves Data | Digital Marketing Training
DESCRIPTION:This 3-day course will teach you how to measure and improve your Social Advertising\, Search- (including Google AdWords and Bing) and Display Marketing with Google Certified experts from Loves Data.
URL:https://marketing.com.au/event/loves-data-digital-marketing-training-2/
LOCATION:Melbourne Business School\, 200 Leicester Street\, Melbourne\, Victoria\, 3053\, Australia
CATEGORIES:Advertising,All Event Locations,All Event Topics,All Event Types,Content Marketing,Digital Marketing,Market Research,Marketing,Melbourne,Workshop
ORGANIZER;CN="Loves Data":MAILTO:info(at)lovesdata.com
END:VEVENT
BEGIN:VEVENT
DTSTART;TZID=Australia/Melbourne:20151110T083000
DTEND;TZID=Australia/Melbourne:20151110T120000
DTSTAMP:20260424T061314
CREATED:20151029T055929Z
LAST-MODIFIED:20151029T055929Z
UID:7215-1447144200-1447156800@marketing.com.au
SUMMARY:Google Partners: The One Thing Standing Between You & Your Holiday Revenue
DESCRIPTION:Digital Business Generation Firm\, Traffika invites you to join them for a free event on Tuesday 10 November. Join Trafficka Founder Matt Forman and Fiona Malone and Arshad Mirza from Google for a morning of uncovering how to exceed your sales targets this season and retain your holiday customers throughout the year.
URL:https://marketing.com.au/event/google-partners-the-one-thing-standing-between-you-your-holiday-revenue/
LOCATION:The Blackman\, 452 St Kilda Rd\, Melbourne\, VIC\, 3004\, Australia
CATEGORIES:Advertising,All Event Locations,All Event Topics,All Event Types,Conference,Content Marketing,Digital Marketing,Market Research,Marketing,Melbourne,SEO,Social Media,Workshop
ORGANIZER;CN="Traffika":MAILTO:melbourne(at)traffika.com.au
END:VEVENT
BEGIN:VEVENT
DTSTART;VALUE=DATE:20151111
DTEND;VALUE=DATE:20151113
DTSTAMP:20260424T061314
CREATED:20150910T044029Z
LAST-MODIFIED:20201002T003428Z
UID:7093-1447200000-1447372799@marketing.com.au
SUMMARY:World Marketing & Sales Forum
DESCRIPTION:The World Marketing & Sales Forum\, presented by BEE and WOBI\, is a two day marketing event bringing together a selection of the worlds most renowned marketing and sales experts and leaders. The two days will bring together and generate discussions and creativity in new marketing trends and techniques. \nWMSF aims on giving participants an update on the most relevant topics from around the world\, delivered by experts in marketing and sales. \nThis forum will present the opportunity to learn new trends\, evolutionary changes and how to deal with evolving sectors of business in the world today. \nBe inspired by expert speakers such as: \n\nKevin Roberts – Branding\nRandi Zuckerberg – Digital\nMohanbir Sawhney – Innovation\nRachel Botsman – Clients\nUjwal Kayande – Big Data
URL:https://marketing.com.au/event/world-marketing-sales-forum-2/
LOCATION:Melbourne Town Hall\, 90-120 Swanston Street\, Melbourne\, Victoria\, 3000\, Australia
CATEGORIES:Advertising,All Event Locations,All Event Topics,All Event Types,Conference,Content Marketing,Digital Marketing,Market Research,Marketing,Melbourne,SEO,Social Media
END:VEVENT
BEGIN:VEVENT
DTSTART;VALUE=DATE:20151113
DTEND;VALUE=DATE:20151115
DTSTAMP:20260424T061314
CREATED:20150910T051459Z
LAST-MODIFIED:20150910T051459Z
UID:7095-1447372800-1447545599@marketing.com.au
SUMMARY:Future Assembly
DESCRIPTION:Future Assembly – Melbourne’s newest emergent technology festival. \nTechnology moves in leaps and bounds. With the speed that it moves\, capturing a snapshot of the technology currently available is complicated. Future Assembly is that snapshot. The 2 day event will provide access to keynote speakers\, exhibitors and networking opportunities\, as well as curated investor matchmaking events for those exhibiting. The festival will showcase 9 core themes across the schedule of exhibitors and speakers with a focus on IoT (Internet of Things). Robotics – Sustainability – Making – Health & Science – Web & Mobile – Sports – Internet of Things – Transport – Big Data. Some of the StartUps\, Disruptors and Enablers already attending include Tesla\, Pozible\, PwC\, Oxygen Ventures\, Buzz Products\, CoinJar\, Techstars\, Alchemy One\, Two Bulls and many more..
URL:https://marketing.com.au/event/future-assembly/
LOCATION:Melbourne Showgrounds\, Epsom Road\, Ascot Vale\, VIC\, 3032\, Australia
CATEGORIES:Advertising,All Event Locations,All Event Topics,All Event Types,Conference,Digital Marketing,Graphic Design,Market Research,Melbourne,Public Relations,Social Media
ORGANIZER;CN="Ben Richardson":MAILTO:ben(at)futureassembly.io 
END:VEVENT
END:VCALENDAR