BEGIN:VCALENDAR
VERSION:2.0
PRODID:-//Marketing.com.au - ECPv6.15.20//NONSGML v1.0//EN
CALSCALE:GREGORIAN
METHOD:PUBLISH
X-WR-CALNAME:Marketing.com.au
X-ORIGINAL-URL:https://marketing.com.au
X-WR-CALDESC:Events for Marketing.com.au
REFRESH-INTERVAL;VALUE=DURATION:PT1H
X-Robots-Tag:noindex
X-PUBLISHED-TTL:PT1H
BEGIN:VTIMEZONE
TZID:Australia/Melbourne
BEGIN:STANDARD
TZOFFSETFROM:+1100
TZOFFSETTO:+1000
TZNAME:AEST
DTSTART:20140405T160000
END:STANDARD
BEGIN:DAYLIGHT
TZOFFSETFROM:+1000
TZOFFSETTO:+1100
TZNAME:AEDT
DTSTART:20141004T160000
END:DAYLIGHT
BEGIN:STANDARD
TZOFFSETFROM:+1100
TZOFFSETTO:+1000
TZNAME:AEST
DTSTART:20150404T160000
END:STANDARD
BEGIN:DAYLIGHT
TZOFFSETFROM:+1000
TZOFFSETTO:+1100
TZNAME:AEDT
DTSTART:20151003T160000
END:DAYLIGHT
BEGIN:STANDARD
TZOFFSETFROM:+1100
TZOFFSETTO:+1000
TZNAME:AEST
DTSTART:20160402T160000
END:STANDARD
BEGIN:DAYLIGHT
TZOFFSETFROM:+1000
TZOFFSETTO:+1100
TZNAME:AEDT
DTSTART:20161001T160000
END:DAYLIGHT
END:VTIMEZONE
BEGIN:VEVENT
DTSTART;TZID=Australia/Melbourne:20150902T173000
DTEND;TZID=Australia/Melbourne:20150902T200000
DTSTAMP:20260424T091256
CREATED:20150824T230637Z
LAST-MODIFIED:20150824T230637Z
UID:7004-1441215000-1441224000@marketing.com.au
SUMMARY:Melbourne Spring Fashion Week: Fashion Forward
DESCRIPTION:Part of Melbourne Spring Fashion Week\, this particular event will focus on how you can promote your own personal brand online. Aimed at fashion bloggers\, the session will cover how to promote yourself to stores\, fashion labels\, Google and\, most importantly\, your readers. \nHearing from Chris Burgess (clickify.com)\, Alyce Cowell (Westfield Insider)\, Danielle Castano (stylesnooperdan.com)\, and Liz Tehan (setthat.com)\, attendees are sure to learn a number of strategies to help them build a commercially successful blog. \nAt the end of this session\, there will be drinks\, finger food and time for some all-important networking.
URL:https://marketing.com.au/event/melbourne-spring-fashion-week-fashion-forward/
LOCATION:Hairy Little Sista\, 240 Little Collins Street\, Melbourne\, VIC\, 3000\, Australia
CATEGORIES:All Event Locations,All Event Topics,All Event Types,Digital Marketing,Marketing,Melbourne,Presentation,SEO
ATTACH;FMTTYPE=image/png:https://marketing.com.au/wp-content/uploads/2015/08/Fashion-Forward.png
END:VEVENT
BEGIN:VEVENT
DTSTART;VALUE=DATE:20150903
DTEND;VALUE=DATE:20150904
DTSTAMP:20260424T091256
CREATED:20150721T071648Z
LAST-MODIFIED:20150721T071648Z
UID:6941-1441238400-1441324799@marketing.com.au
SUMMARY:Squiz Summit 2015
DESCRIPTION:Squiz Summit 2015 will help customers establish new digital systems\, create unique digital strategies and provide solutions that include web experience platforms\, CMS\, CRM\, marketing automation\, advanced search function\, UX and smarter intranet and cloud hosting. This even is your chance to meet with and pick the brains of designers and business leaders behind these systems and products.
URL:https://marketing.com.au/event/squiz-summit-2015/
LOCATION:Central Pier 14\, Central Pier\, Docklands\, VIC\, 3008\, Australia
CATEGORIES:Advertising,All Event Locations,All Event Topics,All Event Types,Conference,Content Marketing,Digital Marketing,Market Research,Melbourne,Workshop
ORGANIZER;CN="Squiz":MAILTO:support(at)squiz.net
END:VEVENT
BEGIN:VEVENT
DTSTART;VALUE=DATE:20150910
DTEND;VALUE=DATE:20150912
DTSTAMP:20260424T091256
CREATED:20150610T114944Z
LAST-MODIFIED:20150610T114944Z
UID:6797-1441843200-1442015999@marketing.com.au
SUMMARY:2015 Analytics Conference – Melbourne
DESCRIPTION:Learn the latest techniques and trends from industry leaders at the Annual Google Analytics User Conference.
URL:https://marketing.com.au/event/2015-analytics-conference-melbourne/
LOCATION:Melbourne Convention Exhibition Centre\, 1 Convention Centre Place\, South Wharf \, Melbourne\, VIC\, 3006\, Australia
CATEGORIES:All Event Locations,All Event Topics,All Event Types,Conference,Digital Marketing,Market Research,Melbourne,SEO,Social Media
ORGANIZER;CN="Loves Data":MAILTO:info(at)lovesdata.com
END:VEVENT
BEGIN:VEVENT
DTSTART;TZID=Australia/Melbourne:20150916T180000
DTEND;TZID=Australia/Melbourne:20150916T220000
DTSTAMP:20260424T091256
CREATED:20150908T071447Z
LAST-MODIFIED:20150908T071447Z
UID:7061-1442426400-1442440800@marketing.com.au
SUMMARY:New World Analytics: Fast data trumps big data
DESCRIPTION:This event is presented by Scott Thomson\, a digital strategy consultant\, digital marketer and technology strategist. Scott will share his experiences and advice on data driven marketing and data commercialization which he brings from his experience and time working with Telstra\, Sensis and Adobe. \n 
URL:https://marketing.com.au/event/new-world-analytics-fast-data-trumps-big-data/
LOCATION:Deloitte Offices\, 550 Bourke Street\, Melbourne\, VIC\, 3000\, Australia
CATEGORIES:Advertising,All Event Locations,All Event Topics,All Event Types,Content Marketing,Digital Marketing,Marketing,Meetup,Melbourne,Presentation,SEO,Social Media,Workshop
ORGANIZER;CN="IAPA":MAILTO:christine.thomson(at)iapa.org.au 
END:VEVENT
BEGIN:VEVENT
DTSTART;VALUE=DATE:20150923
DTEND;VALUE=DATE:20150924
DTSTAMP:20260424T091256
CREATED:20150908T065452Z
LAST-MODIFIED:20200722T233950Z
UID:7060-1442966400-1443052799@marketing.com.au
SUMMARY:Content Marketing Strategy Design
DESCRIPTION:Content Marketing Strategy Design is a one day workshop that will look at the processes\, strategies and tools used in content marketing. \nKey topics covered in the one day workshop are: \n\nContent Marketing Background\nStrategy Development\nCommunication formats\nDevelopment Process\nChannel selection strategy\nMajor free and paid tools to use for content marketing strategy implementation\nMeasurement and tracking
URL:https://marketing.com.au/event/content-marketing-strategy-design/
LOCATION:TBA
CATEGORIES:Advertising,All Event Locations,All Event Topics,All Event Types,Content Marketing,Digital Marketing,Market Research,Marketing,Melbourne,Workshop
ORGANIZER;CN="AIMIA":MAILTO:info(at)aimia.com.au 
END:VEVENT
END:VCALENDAR