BEGIN:VCALENDAR
VERSION:2.0
PRODID:-//Marketing.com.au - ECPv6.15.20//NONSGML v1.0//EN
CALSCALE:GREGORIAN
METHOD:PUBLISH
X-ORIGINAL-URL:https://marketing.com.au
X-WR-CALDESC:Events for Marketing.com.au
REFRESH-INTERVAL;VALUE=DURATION:PT1H
X-Robots-Tag:noindex
X-PUBLISHED-TTL:PT1H
BEGIN:VTIMEZONE
TZID:Australia/Melbourne
BEGIN:STANDARD
TZOFFSETFROM:+1100
TZOFFSETTO:+1000
TZNAME:AEST
DTSTART:20130406T160000
END:STANDARD
BEGIN:DAYLIGHT
TZOFFSETFROM:+1000
TZOFFSETTO:+1100
TZNAME:AEDT
DTSTART:20131005T160000
END:DAYLIGHT
BEGIN:STANDARD
TZOFFSETFROM:+1100
TZOFFSETTO:+1000
TZNAME:AEST
DTSTART:20140405T160000
END:STANDARD
BEGIN:DAYLIGHT
TZOFFSETFROM:+1000
TZOFFSETTO:+1100
TZNAME:AEDT
DTSTART:20141004T160000
END:DAYLIGHT
BEGIN:STANDARD
TZOFFSETFROM:+1100
TZOFFSETTO:+1000
TZNAME:AEST
DTSTART:20150404T160000
END:STANDARD
BEGIN:DAYLIGHT
TZOFFSETFROM:+1000
TZOFFSETTO:+1100
TZNAME:AEDT
DTSTART:20151003T160000
END:DAYLIGHT
END:VTIMEZONE
BEGIN:VEVENT
DTSTART;TZID=Australia/Melbourne:20141105T171500
DTEND;TZID=Australia/Melbourne:20141105T210000
DTSTAMP:20260425T095617
CREATED:20141002T050521Z
LAST-MODIFIED:20141002T050521Z
UID:6010-1415207700-1415221200@marketing.com.au
SUMMARY:Melbourne SEO Meetup November 2014
DESCRIPTION:The Melbourne SEO meetup was founded in 2011 and is a great way to meet up with other like minded individuals in the industry\, in a relaxed and informal session on digital and web marketing. The group share tips and advice on becoming a better web marketer or developer (whether you’re a sole trader or part of large agency). \nIt’s also about asking those tough questions and getting group consensus on what is the possible implications or complications on a particular method or technique. The group meet on the second Wednesday of the month\, it’s free to join.
URL:https://marketing.com.au/event/melbourne-seo-meetup-november-2014/
LOCATION:The Limerick Arms\, 364 Clarendon St\, South Melbourne\, VIC\, 3205\, Australia
CATEGORIES:All Event Locations,All Event Topics,All Event Types,Meetup,Melbourne,SEO
ATTACH;FMTTYPE=image/jpeg:https://marketing.com.au/wp-content/uploads/2014/10/Melbourne-SEO-Meetup-Logo.jpg
END:VEVENT
BEGIN:VEVENT
DTSTART;TZID=Australia/Melbourne:20141111T180000
DTEND;TZID=Australia/Melbourne:20141111T210000
DTSTAMP:20260425T095617
CREATED:20141030T033820Z
LAST-MODIFIED:20141030T033820Z
UID:6067-1415728800-1415739600@marketing.com.au
SUMMARY:EMV Event - Get Ahead in Your Career
DESCRIPTION:If you are looking to get ahead in your career\, this event will help you to improve your study and career prospects to stand out from the crowd. You will learn some tools to help you shape your career and have the opportunity to network with new and experienced marketers from a range of different industries. \nSpeakers: John Hall – Professor of Marketing\, and Wayne Binney – Course Director Master of Marketing & Associate Professor of Marketing Shelia Allen\, Principal Consultant Gregory Allen\, Founder of NotedCareers Amie Wood\, Senior Brand Manager – Shelf Sauces\, Simplot
URL:https://marketing.com.au/event/emv-event-get-ahead-career/
LOCATION:Deakin Prime\, Level 3\, 550 Bourke Street\, Melbourne\, Victoria\, 3000\, Australia
CATEGORIES:All Event Locations,All Event Topics,All Event Types,Content Marketing,Digital Marketing,Graphic Design,Market Research,Marketing,Melbourne,Presentation,Public Relations,SEO,Social Media,Workshop
END:VEVENT
BEGIN:VEVENT
DTSTART;VALUE=DATE:20141112
DTEND;VALUE=DATE:20141114
DTSTAMP:20260425T095617
CREATED:20140925T050105Z
LAST-MODIFIED:20201002T003517Z
UID:5886-1415750400-1415923199@marketing.com.au
SUMMARY:World Marketing & Sales Forum
DESCRIPTION:BEE & WOBI are proud to present the first edition of the World Marketing & Sales Forum on the 12th and 13th of November 2014 at Melbourne Town Hall. Business Executive Education (BEE) own the rights to hold the WOBI (World of Business Ideas) events in the Asia-Pacific region. BEE has successfully launched the World Business Forum Sydney which was in May 2014. \nThe World Marketing & Sales Forum has been established for over 10 years globally. It has previously been held as an annual event in the following countries: Germany\, Italy\, Spain\, Brazil and Mexico. Globally\, the World Marketing & Sales Forum is known for starting new trends\, being at the forefront of innovative ideas and exploring new possibilities in sales and marketing. \nSpeakers for this year’s event include: \n\nPhilip Kotler: Philip is the author of more than 50 books\, including the bestseller Marketing Management\, regarded as the bible of marketing in nearly every business school on the planet. Kotler has received many awards for his contribution to marketing and management. In 2005\, he was considered the world’s fourth most influential management guru by the Financial Times\, and in 2008 The Wall Street Journal ranked him as the sixth most influential person in the business world. He is a Professor at the Kellogg School of Management and advises companies such as General Electric\, IBM\, AT&T and Merck.\nMartin Lindstrom:Martin is one of the world’s leading experts on neuromarketing\, the discipline that explores the subconscious behaviour of the consumer. A Top brand consultant\, bestselling author\, global reference on neuromarketing and one of TIME Magazine’s “100 Most Influential People in the world” in 2009\, Martin understands the biology of consumer desire. The results of an exhaustive investigation of what drives consumers to buy\, his book Buyology turned into a bestseller and one of the top five best marketing books according to the Wall Street Journal. His latest work\, Brandwashed\, reveals how brands are manipulating us to buy their products.\nCharlene Li:Author of bestselling books Groundswell and Open Leadership\, Li is one of the 50 most influential people in Silicon Valley and an authority on social media. Li is an independent thought leader and analyst who understands how the profound implications of social media are changing the way we do business\, from marketing to leadership to strategy. Founder of the research-based advisory firm Altimeter Group\, Li puts these new social concepts into actionable strategy helping companies and industries leverage disruption to their advantage.\nMartha Rogers:Recognised for the past decade as one of the world’s leading experts on customer-based business strategies and growing customer value. Martha Rogers is a founding partner of Peppers & Rogers Group\, the world’s leading customer-focused management consulting firm with offices all over the world. AT&T\, Unilever\, NTT\, Winthertur and Grupo Santander are just some clients of an impressive list that includes many Fortune 500 companies.\nJeff Thull: One of today’s most distinguished sales and marketing strategists\, Jeff is the President & CEO of the Prime Resource Group consultancy. At the forefront of the rapidly developing field of complex sales\, Jeff created the model ‘Diagnostic Business Development’ in order to help companies drive sales and retain clients. He has advised some of the most important companies in the world including Shell\, 3M\, Microsoft\, Siemens and IBM.\nMark Ritson: Mark Ritson is an Associate Professor of Marketing at Melbourne Business School. He has a PhD in Marketing from Lancaster University and has been a faculty member at some of the world’s leading business schools teaching brand management on the MBA programs at London Business School\, MIT Sloan\, the University of Minnesota and Melbourne Business School.
URL:https://marketing.com.au/event/world-marketing-sales-forum/
LOCATION:Melbourne Town Hall\, 90-120 Swanston Street\, Melbourne\, Victoria\, 3000\, Australia
CATEGORIES:All Event Locations,All Event Topics,All Event Types,Conference,Marketing,Melbourne
END:VEVENT
BEGIN:VEVENT
DTSTART;TZID=Australia/Melbourne:20141124T083000
DTEND;TZID=Australia/Melbourne:20141124T173000
DTSTAMP:20260425T095617
CREATED:20141009T090218Z
LAST-MODIFIED:20141009T090218Z
UID:6036-1416817800-1416850200@marketing.com.au
SUMMARY:ADMA Engage 2014 - Melbourne
DESCRIPTION:ADMA Engage is a unique event that delivers a case-study based program showcasing work from leading brands mastering customer experience. They will equip delegates with insights that will enhance their relationship with your customers. \nThe program will consist of four streams that look at how marketers have utilised Technology\, Data\, Content and Creativity to provide the most cohesive and distinctive Customer Experiences for their brands. \nThe cost of the event is $620 for members and $775 for non-members (standard rates apply after the early bird period ends on October 31).
URL:https://marketing.com.au/event/adma-engage-2014-melbourne/
LOCATION:Crown Plaza Melbourne\, 1-5 Spencer St\, Docklands\, VIC\, 3008
CATEGORIES:All Event Locations,All Event Topics,All Event Types,Conference,Digital Marketing,Melbourne
END:VEVENT
END:VCALENDAR