BEGIN:VCALENDAR
VERSION:2.0
PRODID:-//Marketing.com.au - ECPv6.15.20//NONSGML v1.0//EN
CALSCALE:GREGORIAN
METHOD:PUBLISH
X-ORIGINAL-URL:https://marketing.com.au
X-WR-CALDESC:Events for Marketing.com.au
REFRESH-INTERVAL;VALUE=DURATION:PT1H
X-Robots-Tag:noindex
X-PUBLISHED-TTL:PT1H
BEGIN:VTIMEZONE
TZID:Australia/Melbourne
BEGIN:STANDARD
TZOFFSETFROM:+1100
TZOFFSETTO:+1000
TZNAME:AEST
DTSTART:20210403T160000
END:STANDARD
BEGIN:DAYLIGHT
TZOFFSETFROM:+1000
TZOFFSETTO:+1100
TZNAME:AEDT
DTSTART:20211002T160000
END:DAYLIGHT
BEGIN:STANDARD
TZOFFSETFROM:+1100
TZOFFSETTO:+1000
TZNAME:AEST
DTSTART:20220402T160000
END:STANDARD
BEGIN:DAYLIGHT
TZOFFSETFROM:+1000
TZOFFSETTO:+1100
TZNAME:AEDT
DTSTART:20221001T160000
END:DAYLIGHT
BEGIN:STANDARD
TZOFFSETFROM:+1100
TZOFFSETTO:+1000
TZNAME:AEST
DTSTART:20230401T160000
END:STANDARD
BEGIN:DAYLIGHT
TZOFFSETFROM:+1000
TZOFFSETTO:+1100
TZNAME:AEDT
DTSTART:20230930T160000
END:DAYLIGHT
END:VTIMEZONE
BEGIN:VEVENT
DTSTART;VALUE=DATE:20220906
DTEND;VALUE=DATE:20220908
DTSTAMP:20260420T225411
CREATED:20220723T113146Z
LAST-MODIFIED:20220814T044620Z
UID:22262-1662422400-1662595199@marketing.com.au
SUMMARY:eTail Australia Connect
DESCRIPTION:The Invite Only In Person Summit For Australia’s Most Senior-Level Leaders In Ecommerce & Digital Marketing. \n\n\n\nSenior-Level Learning\, Benchmarking and Networking At Its Best\nOnly senior-level decision makers from Australia’s leading retailers who are profiled on interests can attend eTail Connect Australia\, enabling you to have the most productive learning and networking experience. \nThe mix of high-level strategic case studies and interactive discussions focused on your biggest priorities means you can benchmark your eCommerce and digital marketing strategies with your peers and stay ahead of the curve. \nPlus\, meet with handpicked solution providers to efficiently determine who is best placed to support your current eCommerce and digital marketing priorities. \nYou can benefit from all of this over 2 interactive days at eTail Connect Australia\, ensuring you get the best ROI on your valuable time.
URL:https://marketing.com.au/event/etail-australia-connect/
LOCATION:Sydney Harbour Marriott Hotel
CATEGORIES:All Event Locations,All Event Topics,All Event Types,eCommerce,Management,Marketing
END:VEVENT
END:VCALENDAR