BEGIN:VCALENDAR
VERSION:2.0
PRODID:-//Marketing.com.au - ECPv6.15.20//NONSGML v1.0//EN
CALSCALE:GREGORIAN
METHOD:PUBLISH
X-ORIGINAL-URL:https://marketing.com.au
X-WR-CALDESC:Events for Marketing.com.au
REFRESH-INTERVAL;VALUE=DURATION:PT1H
X-Robots-Tag:noindex
X-PUBLISHED-TTL:PT1H
BEGIN:VTIMEZONE
TZID:Australia/Melbourne
BEGIN:STANDARD
TZOFFSETFROM:+1100
TZOFFSETTO:+1000
TZNAME:AEST
DTSTART:20200404T160000
END:STANDARD
BEGIN:DAYLIGHT
TZOFFSETFROM:+1000
TZOFFSETTO:+1100
TZNAME:AEDT
DTSTART:20201003T160000
END:DAYLIGHT
BEGIN:STANDARD
TZOFFSETFROM:+1100
TZOFFSETTO:+1000
TZNAME:AEST
DTSTART:20210403T160000
END:STANDARD
BEGIN:DAYLIGHT
TZOFFSETFROM:+1000
TZOFFSETTO:+1100
TZNAME:AEDT
DTSTART:20211002T160000
END:DAYLIGHT
BEGIN:STANDARD
TZOFFSETFROM:+1100
TZOFFSETTO:+1000
TZNAME:AEST
DTSTART:20220402T160000
END:STANDARD
BEGIN:DAYLIGHT
TZOFFSETFROM:+1000
TZOFFSETTO:+1100
TZNAME:AEDT
DTSTART:20221001T160000
END:DAYLIGHT
END:VTIMEZONE
BEGIN:VEVENT
DTSTART;VALUE=DATE:20211022
DTEND;VALUE=DATE:20211023
DTSTAMP:20260423T051139
CREATED:20210919T043727Z
LAST-MODIFIED:20211204T072950Z
UID:20320-1634860800-1634947199@marketing.com.au
SUMMARY:Demand 2021
DESCRIPTION:Join us at DEMAND\, our single-day\, virtual event for B2B marketers who need to get closer to revenue. \nThe type of virtual event we’d want to attend ourselves. With big names and better topics. Plus new playbooks you can steal and implement tomorrow. \nMost of your buyers aren’t ready to buy right now. \nAnd if you’re only focused on the people who are\, you won’t hit your revenue goals. \nLearn from legit speakers so you can start creating demand and get closer to revenue.
URL:https://marketing.com.au/event/demand-2021/
LOCATION:Online
CATEGORIES:All Event Locations,All Event Topics,All Event Types,Marketing,Online
END:VEVENT
END:VCALENDAR