BEGIN:VCALENDAR
VERSION:2.0
PRODID:-//Marketing.com.au - ECPv6.15.20//NONSGML v1.0//EN
CALSCALE:GREGORIAN
METHOD:PUBLISH
X-WR-CALNAME:Marketing.com.au
X-ORIGINAL-URL:https://marketing.com.au
X-WR-CALDESC:Events for Marketing.com.au
REFRESH-INTERVAL;VALUE=DURATION:PT1H
X-Robots-Tag:noindex
X-PUBLISHED-TTL:PT1H
BEGIN:VTIMEZONE
TZID:Australia/Melbourne
BEGIN:STANDARD
TZOFFSETFROM:+1100
TZOFFSETTO:+1000
TZNAME:AEST
DTSTART:20200404T160000
END:STANDARD
BEGIN:DAYLIGHT
TZOFFSETFROM:+1000
TZOFFSETTO:+1100
TZNAME:AEDT
DTSTART:20201003T160000
END:DAYLIGHT
BEGIN:STANDARD
TZOFFSETFROM:+1100
TZOFFSETTO:+1000
TZNAME:AEST
DTSTART:20210403T160000
END:STANDARD
BEGIN:DAYLIGHT
TZOFFSETFROM:+1000
TZOFFSETTO:+1100
TZNAME:AEDT
DTSTART:20211002T160000
END:DAYLIGHT
BEGIN:STANDARD
TZOFFSETFROM:+1100
TZOFFSETTO:+1000
TZNAME:AEST
DTSTART:20220402T160000
END:STANDARD
BEGIN:DAYLIGHT
TZOFFSETFROM:+1000
TZOFFSETTO:+1100
TZNAME:AEDT
DTSTART:20221001T160000
END:DAYLIGHT
END:VTIMEZONE
BEGIN:VEVENT
DTSTART;VALUE=DATE:20211005
DTEND;VALUE=DATE:20211006
DTSTAMP:20260422T230302
CREATED:20210410T023148Z
LAST-MODIFIED:20210410T092207Z
UID:18976-1633392000-1633478399@marketing.com.au
SUMMARY:Global Marketing Awards 2021
DESCRIPTION:Global Marketing Awards 2021\, organized by Don’t Panic Events\, will take place virtually on Tuesday\, October 5. \nThe Global Marketing Awards recognize and celebrate the world’s very best marketing agencies and most innovative campaigns across all marketing channels\, regardless of where an entrant is located across the seven continents. \nThe awards will feature 36 categories\, and winners will be announced virtually on October 5\, 2021 in an online celebration of excellence. \nThe judging panel comprises of over 40 stellar experts\, many brand side marketers\, who know what it takes to shine and succeed in a competitive world. \nAll categories will be judged by an influential and respected judging panel working in the digital industry. The judging is a robust\, credible and transparent two-step process\, involving pre-scoring and a judging session where the panel discusses each entry in detail. \nImportant Dates:\n\nEntry Deadline: 9 July\nJudging Session: 28 July\nShortlist Announced: 30 July\nAwards Ceremony:5 October
URL:https://marketing.com.au/event/global-marketing-awards-2021/
LOCATION:Online
CATEGORIES:All Event Locations,All Event Topics,All Event Types,Award,Marketing
END:VEVENT
END:VCALENDAR