BEGIN:VCALENDAR
VERSION:2.0
PRODID:-//Marketing.com.au - ECPv6.15.20//NONSGML v1.0//EN
CALSCALE:GREGORIAN
METHOD:PUBLISH
X-ORIGINAL-URL:https://marketing.com.au
X-WR-CALDESC:Events for Marketing.com.au
REFRESH-INTERVAL;VALUE=DURATION:PT1H
X-Robots-Tag:noindex
X-PUBLISHED-TTL:PT1H
BEGIN:VTIMEZONE
TZID:Australia/Melbourne
BEGIN:STANDARD
TZOFFSETFROM:+1100
TZOFFSETTO:+1000
TZNAME:AEST
DTSTART:20200404T160000
END:STANDARD
BEGIN:DAYLIGHT
TZOFFSETFROM:+1000
TZOFFSETTO:+1100
TZNAME:AEDT
DTSTART:20201003T160000
END:DAYLIGHT
BEGIN:STANDARD
TZOFFSETFROM:+1100
TZOFFSETTO:+1000
TZNAME:AEST
DTSTART:20210403T160000
END:STANDARD
BEGIN:DAYLIGHT
TZOFFSETFROM:+1000
TZOFFSETTO:+1100
TZNAME:AEDT
DTSTART:20211002T160000
END:DAYLIGHT
BEGIN:STANDARD
TZOFFSETFROM:+1100
TZOFFSETTO:+1000
TZNAME:AEST
DTSTART:20220402T160000
END:STANDARD
BEGIN:DAYLIGHT
TZOFFSETFROM:+1000
TZOFFSETTO:+1100
TZNAME:AEDT
DTSTART:20221001T160000
END:DAYLIGHT
END:VTIMEZONE
BEGIN:VEVENT
DTSTART;VALUE=DATE:20210713
DTEND;VALUE=DATE:20210716
DTSTAMP:20260423T135121
CREATED:20210410T054630Z
LAST-MODIFIED:20210410T092208Z
UID:19028-1626134400-1626393599@marketing.com.au
SUMMARY:Mumbrella360: Reimagined
DESCRIPTION:Mumbrella360 returns in a reimagined way in 2021. With a focus on local challenges and opportunities delivered by Australia’s leading industry thinkers\, Mumbrella360: Reimagined will deliver knowledge and networking opportunities that you need to make the most of the year ahead. Whether you’re brand\, agency or media-side\, this is an event not to be missed. \nIn order to ensure that as many people can experience Mumbrella360 as possible in a COVID-safe manner\, the event will be split across three venues in Sydney’s CBD. Delegates can choose a venue to attend based on their interests\, while also accessing sessions from other venues virtually via the on demand platform. \nEarly Bird tickets available until May 7.
URL:https://marketing.com.au/event/mumbrella360-reimagined/
LOCATION:Sydney\, NSW\, 2000
CATEGORIES:Advertising,All Event Locations,All Event Topics,All Event Types,Brand,Conference,Marketing,Sydney
END:VEVENT
END:VCALENDAR