BEGIN:VCALENDAR
VERSION:2.0
PRODID:-//Marketing.com.au - ECPv6.15.20//NONSGML v1.0//EN
CALSCALE:GREGORIAN
METHOD:PUBLISH
X-WR-CALNAME:Marketing.com.au
X-ORIGINAL-URL:https://marketing.com.au
X-WR-CALDESC:Events for Marketing.com.au
REFRESH-INTERVAL;VALUE=DURATION:PT1H
X-Robots-Tag:noindex
X-PUBLISHED-TTL:PT1H
BEGIN:VTIMEZONE
TZID:Australia/Melbourne
BEGIN:STANDARD
TZOFFSETFROM:+1100
TZOFFSETTO:+1000
TZNAME:AEST
DTSTART:20200404T160000
END:STANDARD
BEGIN:DAYLIGHT
TZOFFSETFROM:+1000
TZOFFSETTO:+1100
TZNAME:AEDT
DTSTART:20201003T160000
END:DAYLIGHT
BEGIN:STANDARD
TZOFFSETFROM:+1100
TZOFFSETTO:+1000
TZNAME:AEST
DTSTART:20210403T160000
END:STANDARD
BEGIN:DAYLIGHT
TZOFFSETFROM:+1000
TZOFFSETTO:+1100
TZNAME:AEDT
DTSTART:20211002T160000
END:DAYLIGHT
BEGIN:STANDARD
TZOFFSETFROM:+1100
TZOFFSETTO:+1000
TZNAME:AEST
DTSTART:20220402T160000
END:STANDARD
BEGIN:DAYLIGHT
TZOFFSETFROM:+1000
TZOFFSETTO:+1100
TZNAME:AEDT
DTSTART:20221001T160000
END:DAYLIGHT
END:VTIMEZONE
BEGIN:VEVENT
DTSTART;VALUE=DATE:20210224
DTEND;VALUE=DATE:20210226
DTSTAMP:20260424T083103
CREATED:20210118T085830Z
LAST-MODIFIED:20210410T092342Z
UID:18209-1614124800-1614297599@marketing.com.au
SUMMARY:Digital Marketing for Financial Services
DESCRIPTION:GROW YOUR BOTTOM LINE\, RESPOND TO CHANGING CONSUMER DEMANDS\, REINFORCE YOUR BRAND’S COMPETITIVE ADVANTAGE! \n\nDive into our engaging agenda and gain expertise from speakers representing industry thought leaders and award-winning brands\, including Wells Fargo\, Northern Trust\, HSBC\, BMO Harris\, U.S. Bank\, Edward Jones and more! \nTake advantage of this one-stop\, two-day\, virtual event and acquire all of the information you need to drive conversion\, create loyalty\, and maintain your competitive edge in an increasingly complex financial services sector. Join thought leaders\, experts and professionals for an in-depth idea exchange and get tips to enhance your digital marketing efforts. \n\nDiscover how the visionaries and leaders behind the world’s most iconic financial services brands are constantly innovating to stay ahead of the curve. And how they’re implementing crucial insights to maximize digital ROI and drive brand engagement. Learn how to execute proven strategies by examining challenging case studies and observing exclusive panel discussions. Engage with 40+ senior digital marketing leaders and benchmark your marketing plans against them.
URL:https://marketing.com.au/event/digital-marketing-for-financial-services/
LOCATION:Online
CATEGORIES:All Event Locations,All Event Topics,All Event Types,Content Marketing,Digital Marketing,Email marketing,Marketing,Online,Website
END:VEVENT
BEGIN:VEVENT
DTSTART;VALUE=DATE:20210224
DTEND;VALUE=DATE:20210227
DTSTAMP:20260424T083103
CREATED:20210118T081336Z
LAST-MODIFIED:20210410T092342Z
UID:18196-1614124800-1614383999@marketing.com.au
SUMMARY:The Virtual Martech Summit #VirtualMarTech
DESCRIPTION:With new outlooks\, marketing trends\, and advanced technology in emerging industries\, it’s important to explore how these developments have impacted our existing circumstances and ever-changing economy. We invite you to join us at The Virtual MarTech Summit: APAC to discuss what the fundamentals are for the long term and\, most importantly\, learn to how to sustainably take this momentum of innovation to the next level. \n\nOur 7th edition will be a LIVE three-day summit that will focus on 3 MAIN VERTICALS: B2C\, BFSI (Banking\, Financial Services & Insurance)\, and B2B. 50+ industry-thought leaders and experts will reveal both pain points and best practices for recent advancements in AI\, data analytics\, machine learning\, content marketing\, digital privacy\, and targeted marketing. Digital agility is no longer optional; it’s a defining competitive advantage.
URL:https://marketing.com.au/event/the-virtual-martech-summit-virtualmartech/
LOCATION:Online
CATEGORIES:AI,All Event Locations,All Event Topics,All Event Types,Digital Marketing,Marketing,Online
END:VEVENT
BEGIN:VEVENT
DTSTART;TZID=Australia/Melbourne:20210224T120000
DTEND;TZID=Australia/Melbourne:20210224T180000
DTSTAMP:20260424T083103
CREATED:20210124T041607Z
LAST-MODIFIED:20210410T092342Z
UID:18267-1614168000-1614189600@marketing.com.au
SUMMARY:Digital Marketing Bootcamp (Online)
DESCRIPTION:The digital landscape is moving at lightning speed and every industry has been affected. Understanding how it works is essential for everyone – from retail to brands and agencies. \nHas your manager recently assigned a digital marketing role to you? Are you a project or account manager at a creative agency? Do you work for a small company or a start-up\, and handle all things digital on your own? Then this bootcamp is for you! Specifically created for participants and professionals interested in gaining a deeper understanding of everything digital marketing can encompass. \nThis activity-driven class will equip you with tips and strategies on how to create the digital marketing strategy that best suits your business and leave you with the tools to get started.
URL:https://marketing.com.au/event/digital-marketing-bootcamp-online/
LOCATION:Online
CATEGORIES:All Event Locations,All Event Topics,All Event Types,Content Marketing,Digital Marketing,Marketing,Online,Workshop
END:VEVENT
END:VCALENDAR