BEGIN:VCALENDAR
VERSION:2.0
PRODID:-//Marketing.com.au - ECPv6.15.20//NONSGML v1.0//EN
CALSCALE:GREGORIAN
METHOD:PUBLISH
X-ORIGINAL-URL:https://marketing.com.au
X-WR-CALDESC:Events for Marketing.com.au
REFRESH-INTERVAL;VALUE=DURATION:PT1H
X-Robots-Tag:noindex
X-PUBLISHED-TTL:PT1H
BEGIN:VTIMEZONE
TZID:Australia/Melbourne
BEGIN:STANDARD
TZOFFSETFROM:+1100
TZOFFSETTO:+1000
TZNAME:AEST
DTSTART:20190406T160000
END:STANDARD
BEGIN:DAYLIGHT
TZOFFSETFROM:+1000
TZOFFSETTO:+1100
TZNAME:AEDT
DTSTART:20191005T160000
END:DAYLIGHT
BEGIN:STANDARD
TZOFFSETFROM:+1100
TZOFFSETTO:+1000
TZNAME:AEST
DTSTART:20200404T160000
END:STANDARD
BEGIN:DAYLIGHT
TZOFFSETFROM:+1000
TZOFFSETTO:+1100
TZNAME:AEDT
DTSTART:20201003T160000
END:DAYLIGHT
BEGIN:STANDARD
TZOFFSETFROM:+1100
TZOFFSETTO:+1000
TZNAME:AEST
DTSTART:20210403T160000
END:STANDARD
BEGIN:DAYLIGHT
TZOFFSETFROM:+1000
TZOFFSETTO:+1100
TZNAME:AEDT
DTSTART:20211002T160000
END:DAYLIGHT
END:VTIMEZONE
BEGIN:VEVENT
DTSTART;TZID=Australia/Melbourne:20201211T113000
DTEND;TZID=Australia/Melbourne:20201211T170000
DTSTAMP:20260424T094357
CREATED:20201115T095006Z
LAST-MODIFIED:20210118T073331Z
UID:17673-1607686200-1607706000@marketing.com.au
SUMMARY:Marketing Planning Friday Forum
DESCRIPTION:The year will be winding down and many of your “plans” will involve eggnog and fruitcake (or not?). But if you can find it within yourself to get even the most basic 2021 marketing plans started before you break for holiday cheer\, you’ll thank yourself on the other side. Sponsored by ZoomInfo. \nJoin us for our Marketing Planning Friday Forum for a step-by-step guide on creating marketing plans that are meaningful\, flexible\, and accountable. \nRegister to attend and you’ll get three educational sessions\, live Q&A\, and resources. \nCan’t make it on December 11? Don’t worry. Sign up and you’ll receive on-demand access for 90 days after the event.
URL:https://marketing.com.au/event/marketing-planning-friday-forum-2/
LOCATION:Online
CATEGORIES:All Event Locations,All Event Topics,All Event Types,Marketing
END:VEVENT
END:VCALENDAR