BEGIN:VCALENDAR
VERSION:2.0
PRODID:-//Marketing.com.au - ECPv6.15.20//NONSGML v1.0//EN
CALSCALE:GREGORIAN
METHOD:PUBLISH
X-ORIGINAL-URL:https://marketing.com.au
X-WR-CALDESC:Events for Marketing.com.au
REFRESH-INTERVAL;VALUE=DURATION:PT1H
X-Robots-Tag:noindex
X-PUBLISHED-TTL:PT1H
BEGIN:VTIMEZONE
TZID:Australia/Melbourne
BEGIN:STANDARD
TZOFFSETFROM:+1100
TZOFFSETTO:+1000
TZNAME:AEST
DTSTART:20190406T160000
END:STANDARD
BEGIN:DAYLIGHT
TZOFFSETFROM:+1000
TZOFFSETTO:+1100
TZNAME:AEDT
DTSTART:20191005T160000
END:DAYLIGHT
BEGIN:STANDARD
TZOFFSETFROM:+1100
TZOFFSETTO:+1000
TZNAME:AEST
DTSTART:20200404T160000
END:STANDARD
BEGIN:DAYLIGHT
TZOFFSETFROM:+1000
TZOFFSETTO:+1100
TZNAME:AEDT
DTSTART:20201003T160000
END:DAYLIGHT
BEGIN:STANDARD
TZOFFSETFROM:+1100
TZOFFSETTO:+1000
TZNAME:AEST
DTSTART:20210403T160000
END:STANDARD
BEGIN:DAYLIGHT
TZOFFSETFROM:+1000
TZOFFSETTO:+1100
TZNAME:AEDT
DTSTART:20211002T160000
END:DAYLIGHT
END:VTIMEZONE
BEGIN:VEVENT
DTSTART;TZID=Australia/Melbourne:20201124T080000
DTEND;TZID=Australia/Melbourne:20201125T170000
DTSTAMP:20260424T133400
CREATED:20200804T102710Z
LAST-MODIFIED:20201010T112001Z
UID:16360-1606204800-1606323600@marketing.com.au
SUMMARY:IoT Tech Expo Europe 2020
DESCRIPTION:Europe’s leading IoT Event will bring together key industries from across the globe for 2 days of top level content and discussion. Introducing and exploring the latest innovations within the Internet of Things and covering Manufacturing\, Transport\, Health\, Logistics\, Government\, Energy and Automotive\, this conference is not to be missed. \n5 co-located events. 21 conference tracks. 8\,000 attendees. 500+ speakers. 300+ exhibitors. \nArriving in Amsterdam on the 24-25 November 2020\, the Europe event will host 5 co-located events covering IoT\, 5G\, AI \, Big Data\, Cyber Security\, Cloud and Blockchain\, with 8\,000 attendees expected to attend including IT decision makers\, developers & makers\, OEM’s\, government and council officials\, automotive exec’s\, operators\, technology providers\, investors\, venture capitalists and many more. The IoT Tech Expo will showcase the most cutting edge technologies from more than 300 exhibitors and provide insight from over 500 speakers sharing their unparalleled industry knowledge and real-life experiences. \nThis year’s agenda will highlight the most innovative advancements in technologies which are affecting IoT. There will be case studies and dedicated tracks covering the entire Internet of Things ecosystem including Smart Transport & Cities\, Developing for the IoT\, Connected Industry\, Enterprise IoT Solutions\, Smart Buildings & Energy\, Data Analytics for AI & IoT and IoT Innovations & Solutions. \nKey topics examined include: Digital Transformation\, Data Analytics\, IIoT & Smart Manufacturing\, Connected Environments\, Developing for the IoT\, Process Optimisation\, Sensor Deployment\, Connectivity Considerations\, 5G & Future Connectivity\, Security & Standards\, Cloud Computing\, Autonomous Transportation\, Device & Asset Management\, Connected Fleets & Smart Logistics\, R&D\, Smart Energy & Enterprise Sustainability\, Industry Collaborations & more.
URL:https://marketing.com.au/event/iot-tech-expo-europe-2020/
LOCATION:Online
CATEGORIES:AI,All Event Locations,All Event Topics,All Event Types,Digital Marketing,Marketing,Online
END:VEVENT
END:VCALENDAR